Workbook

Sheet 원가
A1: 원 가 계 산 서
A3: 공사명: | C3: 전남광주통합특별시의회 광주청사 환경 개선공사(통신) | E3: 공사기간: 1 개월 미만
A4: 비 목 | C4: 구 분 | D4: 금 액 | E4: 구 성 비
B5: 재 료 비 | C5: 직 접 재 료 비
C6: 간 접 재 료 비
A7: 순 | C7: ( 소 계 )
B8: 노 무 비 | C8: 직 접 노 무 비
C9: 간 접 노 무 비 | E9: (직접 노무비) * 17.5 %
A10: 공 | C10: ( 소 계 )
C11: 산 재 보 험 료 | E11: (노무비) * 3.56 %
B12: 경 | C12: 고 용 보 험 료 | E12: (노무비) * 1.01 %
A13: 사 | C13: 퇴 직 금 공 제 | E13: (직접 노무비) * 2.3 %
C14: 안 전 관 리 비 | E14: (재료+직노) * 3.11 %
A15: 비 | B15: 비 | C15: 기 타 경 비 | E15: (재료+노무) * 5 %
C16: ( 소 계 )
B17: ( 순 공 사 비 계 )
A18: 일 반 관 리 비 | E18: (재료+노무+경비) * 8 %
A19: 이 윤 | E19: (노무+경비+일반관리비) * 15 %
A20: ( 총 원 가 )
A21: 부 가 가 치 세
A22: 도 급 예 정 액
A23: ( 총 계 )

Sheet 총괄표
A1: 총줄수-> | B1: 81 | C1: 2.0 | D1: [전남광주통합특별시의회 광주청사 환경 개선공사(통신)] | AA1: 연속견적가로형식
A2: 번호 | B2: 공종코드 | C2: … | D2: 공 종 명 | E2: 규격 | F2: 단위 | G2: 수량 | H2: 재료비 | J2: 노무비 | M2: 경비 | P2: 계 | Q2: 비고
H3: 단가 | I3: 금액 | J3: 수량 | K3: 단가 | L3: 금액 | M3: 단가 | N3: 금액 | O3: 단가
B4: 공종줄 | D4: [전남광주통합특별시의외 광주청사 환경개선 통신공사]
B5: 001 | D5: 1. 통신설비공사 | F5: 식 | G5: 1
B6: 002 | D6: 2. 방송설비공사 | F6: 식 | G6: 1
C29: Total | D29: ( 합 계 )
B30: 공종줄 | D30: 1.통신설비공사
B31: 00101 | D31: 1-1. 철거 | F31: 식 | G31: 1
B32: 00102 | D32: 1-2. 신설 | F32: 식 | G32: 1
I34: =G34*H34 -> 0 | L34: =G34*K34 -> 0 | N34: =G34*M34 -> 0 | P34: =SUM(I34,L34,N34) -> 0
I35: =G35*H35 -> 0 | L35: =G35*K35 -> 0 | N35: =G35*M35 -> 0 | P35: =SUM(I35,L35,N35) -> 0
I36: =G36*H36 -> 0 | L36: =G36*K36 -> 0 | N36: =G36*M36 -> 0 | P36: =SUM(I36,L36,N36) -> 0
I37: =G37*H37 -> 0 | L37: =G37*K37 -> 0 | N37: =G37*M37 -> 0 | P37: =SUM(I37,L37,N37) -> 0
I38: =G38*H38 -> 0 | L38: =G38*K38 -> 0 | N38: =G38*M38 -> 0 | P38: =SUM(I38,L38,N38) -> 0
I39: =G39*H39 -> 0 | L39: =G39*K39 -> 0 | N39: =G39*M39 -> 0 | P39: =SUM(I39,L39,N39) -> 0
I40: =G40*H40 -> 0 | L40: =G40*K40 -> 0 | N40: =G40*M40 -> 0 | P40: =SUM(I40,L40,N40) -> 0
I41: =G41*H41 -> 0 | L41: =G41*K41 -> 0 | N41: =G41*M41 -> 0 | P41: =SUM(I41,L41,N41) -> 0
I42: =G42*H42 -> 0 | L42: =G42*K42 -> 0 | N42: =G42*M42 -> 0 | P42: =SUM(I42,L42,N42) -> 0
I43: =G43*H43 -> 0 | L43: =G43*K43 -> 0 | N43: =G43*M43 -> 0 | P43: =SUM(I43,L43,N43) -> 0
I44: =G44*H44 -> 0 | L44: =G44*K44 -> 0 | N44: =G44*M44 -> 0 | P44: =SUM(I44,L44,N44) -> 0
I45: =G45*H45 -> 0 | L45: =G45*K45 -> 0 | N45: =G45*M45 -> 0 | P45: =SUM(I45,L45,N45) -> 0
... I54: =G54*H54 -> 0 | L54: =G54*K54 -> 0 | N54: =G54*M54 -> 0 | P54: =SUM(I54,L54,N54) -> 0
B55: 001 | C55: Total | D55: ( 합 계 ) | I55: =TRUNC(SUM(I30:I54)) -> 0 | L55: =TRUNC(SUM(L30:L54)) -> 0 | N55: =TRUNC(SUM(N30:N54)) -> 0 | P55: =TRUNC(SUM(P30:P54)) -> 0
B56: 공종줄 | D56: 2.방송설비공사
B57: 00201 | D57: 2-1. 철거 | F57: 식 | G57: 1
B58: 00202 | D58: 2-2. 신설 | F58: 식 | G58: 1
I59: =G59*H59 -> 0 | L59: =G59*K59 -> 0 | N59: =G59*M59 -> 0 | P59: =SUM(I59,L59,N59) -> 0
I60: =G60*H60 -> 0 | L60: =G60*K60 -> 0 | N60: =G60*M60 -> 0 | P60: =SUM(I60,L60,N60) -> 0
I61: =G61*H61 -> 0 | L61: =G61*K61 -> 0 | N61: =G61*M61 -> 0 | P61: =SUM(I61,L61,N61) -> 0
I62: =G62*H62 -> 0 | L62: =G62*K62 -> 0 | N62: =G62*M62 -> 0 | P62: =SUM(I62,L62,N62) -> 0
I63: =G63*H63 -> 0 | L63: =G63*K63 -> 0 | N63: =G63*M63 -> 0 | P63: =SUM(I63,L63,N63) -> 0
I64: =G64*H64 -> 0 | L64: =G64*K64 -> 0 | N64: =G64*M64 -> 0 | P64: =SUM(I64,L64,N64) -> 0
I65: =G65*H65 -> 0 | L65: =G65*K65 -> 0 | N65: =G65*M65 -> 0 | P65: =SUM(I65,L65,N65) -> 0
I66: =G66*H66 -> 0 | L66: =G66*K66 -> 0 | N66: =G66*M66 -> 0 | P66: =SUM(I66,L66,N66) -> 0
I67: =G67*H67 -> 0 | L67: =G67*K67 -> 0 | N67: =G67*M67 -> 0 | P67: =SUM(I67,L67,N67) -> 0
I68: =G68*H68 -> 0 | L68: =G68*K68 -> 0 | N68: =G68*M68 -> 0 | P68: =SUM(I68,L68,N68) -> 0
I69: =G69*H69 -> 0 | L69: =G69*K69 -> 0 | N69: =G69*M69 -> 0 | P69: =SUM(I69,L69,N69) -> 0
I70: =G70*H70 -> 0 | L70: =G70*K70 -> 0 | N70: =G70*M70 -> 0 | P70: =SUM(I70,L70,N70) -> 0
... I80: =G80*H80 -> 0 | L80: =G80*K80 -> 0 | N80: =G80*M80 -> 0 | P80: =SUM(I80,L80,N80) -> 0
...

Sheet 내역서
A1: 총줄수-> | B1: 133 | C1: 2.0 | D1: [전남광주통합특별시의회 광주청사 환경 개선공사(통신)]
A2: 번호 | B2: 공종코드 | C2: 코드 | D2: 명 칭 | E2: 규 격 | F2: 단위 | G2: 수량 | H2: 재료비 | J2: 노무비 | M2: 경비 | P2: 계 | Q2: 비고
H3: 단가 | I3: 금액 | J3: 수량 | K3: 단가 | L3: 금액 | M3: 단가 | N3: 금액 | O3: 단가
B4: 공종줄 | D4: 1.통신설비공사::1-1.철거
A5: MM065223616 | B5: 00101 | C5: 391115ZZ701Z0001 | D5: 1방 TV UNIT(철거) | F5: 개 | G5: 8 | I5: =TRUNC(G5*H5) -> 0 | J5: 8
A6: MM065223607 | B6: 00101 | C6: 391115ZZ701Z0002 | D6: 2구 모듈러잭(철거) | F6: 개 | G6: 9
A7: 56900017113 | B7: 00101 | C7: L001010101000086 | D7: 노 무 비 | E7: 통신내선공 | F7: 인 | G7: 0.181
A8: A0300000000 | B8: 00101 | C8: RENT000000000006 | D8: [ 공 구 손 료 ] | E8: 노무비의 3 % | F8: 식 | G8: 1
I9: =TRUNC(G9*H9) -> 0 | L9: =TRUNC(G9*K9) -> 0 | N9: =TRUNC(G9*M9) -> 0 | P9: =SUM(I9,L9,N9) -> 0
I10: =TRUNC(G10*H10) -> 0 | L10: =TRUNC(G10*K10) -> 0 | N10: =TRUNC(G10*M10) -> 0 | P10: =SUM(I10,L10,N10) -> 0
I11: =TRUNC(G11*H11) -> 0 | L11: =TRUNC(G11*K11) -> 0 | N11: =TRUNC(G11*M11) -> 0 | P11: =SUM(I11,L11,N11) -> 0
I12: =TRUNC(G12*H12) -> 0 | L12: =TRUNC(G12*K12) -> 0 | N12: =TRUNC(G12*M12) -> 0 | P12: =SUM(I12,L12,N12) -> 0
I13: =TRUNC(G13*H13) -> 0 | L13: =TRUNC(G13*K13) -> 0 | N13: =TRUNC(G13*M13) -> 0 | P13: =SUM(I13,L13,N13) -> 0
I14: =TRUNC(G14*H14) -> 0 | L14: =TRUNC(G14*K14) -> 0 | N14: =TRUNC(G14*M14) -> 0 | P14: =SUM(I14,L14,N14) -> 0
I15: =TRUNC(G15*H15) -> 0 | L15: =TRUNC(G15*K15) -> 0 | N15: =TRUNC(G15*M15) -> 0 | P15: =SUM(I15,L15,N15) -> 0
I16: =TRUNC(G16*H16) -> 0 | L16: =TRUNC(G16*K16) -> 0 | N16: =TRUNC(G16*M16) -> 0 | P16: =SUM(I16,L16,N16) -> 0
I17: =TRUNC(G17*H17) -> 0 | L17: =TRUNC(G17*K17) -> 0 | N17: =TRUNC(G17*M17) -> 0 | P17: =SUM(I17,L17,N17) -> 0
I18: =TRUNC(G18*H18) -> 0 | L18: =TRUNC(G18*K18) -> 0 | N18: =TRUNC(G18*M18) -> 0 | P18: =SUM(I18,L18,N18) -> 0
I19: =TRUNC(G19*H19) -> 0 | L19: =TRUNC(G19*K19) -> 0 | N19: =TRUNC(G19*M19) -> 0 | P19: =SUM(I19,L19,N19) -> 0
I20: =TRUNC(G20*H20) -> 0 | L20: =TRUNC(G20*K20) -> 0 | N20: =TRUNC(G20*M20) -> 0 | P20: =SUM(I20,L20,N20) -> 0
... I31: =TRUNC(G31*H31) -> 0 | L31: =TRUNC(G31*K31) -> 0 | N31: =TRUNC(G31*M31) -> 0 | P31: =SUM(I31,L31,N31) -> 0
B32: 합계줄 | D32: ( 합 계 ) | I32: =TRUNC(SUM(I4:I31)) -> 0 | L32: =TRUNC(SUM(L4:L31)) -> 0 | N32: =TRUNC(SUM(N4:N31)) -> 0 | P32: =TRUNC(SUM(P4:P31)) -> 0
B33: 공종줄 | D33: 1.통신설비공사::1-2.신설
A34: 59753097002 | B34: 00102 | C34: 3913170610035664 | D34: 합성수지제 가요전선관 | E34: CD-난연성 16㎜ | F34: m | G34: 2871
A35: 59753097003 | B35: 00102 | C35: 3913170610035665 | D35: 합성수지제 가요전선관 | E35: CD-난연성 22㎜ | F35: m | G35: 52
A36: A0600000000 | B36: 00102 | C36: RENT000000000001 | D36: [ 배관 부속재 ] | E36: CD 전선관의 40 % | F36: 식 | G36: 1
A37: 59753777102 | B37: 00102 | C37: 3912130610035778 | D37: 스위치박스 | E37: 1 개용 54 mm | F37: 개 | G37: 77
A38: MM300003401 | B38: 00102 | C38: 3912130610036789 | D38: PVC BOX SW 1G | E38: SW 1구 | F38: 개 | G38: 9
A39: 59753857081 | B39: 00102 | C39: 3912130310035801 | D39: 풀박스 | E39: 200×200×200 | F39: 개 | G39: 6
A40: MM562876805 | B40: 00102 | C40: 3912130320175791 | D40: 합성수지 전기함(ABS BOX) | E40: 190*190*130 | F40: 개 | G40: 2
A41: MM562876811 | B41: 00102 | C41: 3912130320175797 | D41: 합성수지 전기함(ABS BOX) | E41: 380*560*180 | F41: 개 | G41: 1
A42: 59751477012 | B42: 00102 | C42: 3913171220173807 | D42: 전선덕트 | E42: PVC 80x100x2000 mm | F42: 개 | G42: 3
A43: MM300040391 | B43: 00102 | C43: 3913171220171726 | D43: PVC MOLD | E43: 사각 소 | F43: m | G43: 24
A44: 61454127541 | B44: 00102 | C44: 2612160621650577 | D44: 고발포동축케이블 | E44: 삼중차폐, 5C-HFBT | F44: m | G44: 591
A45: 61454127542 | B45: 00102 | C45: 2612160621650579 | D45: 고발포동축케이블 | E45: 삼중차폐, 7C-HFBT | F45: m | G45: 56
... A52: 59850397102 | B52: 00102 | C52: 3210151420178781 | D52: CATV 증폭기 | E52: 쌍방향, 공청용 | F52: 개 | G52: 1
A53: MM065223650 | B53: 00102 | C53: 391115ZZ701Z0005 | D53: S/W HUB 24PORT | F53: 개 | G53: 7
A54: MM065223653 | B54: 00102 | C54: 391115ZZ701Z0010 | D54: 패치판넬 24PORT | E54: Cat.6 24Port | F54: 개 | G54: 7
D55: LAN케이블설치 | E55: 전화,팩스 PC용 | F55: 개 | G55: 134
D56: 방송설비 이전 설치 | E56: 지하1층 회의실(빔,스크린,음향) | F56: 개 | G56: 2
...

Sheet 노임근거
A1: 총줄수-> | B1: 133 | D1: [전남광주통합특별시의회 광주청사 환경 개선공사(통신)] - 노임 산출근거(2026년 상반기 노임)
A2: 번호 | B2: 공종코드 | C2: 코드 | D2: 명 칭 | E2: 규 격 | F2: 단위 | G2: 수량 | K2: 코드 | L2: 공량산출 | P2: 단 위 단 가 산 출 | S2: 품셈근거 | T2: 비고
G3: 결정수량 | H3: 할증 | I3: 산출수량 | J3: 재할% | L3: 명칭 | M3: 품셈 | N3: 할증% | O3: 공량 | P3: 단가 | Q3: 단위단가 | R3: 단위계
B4: 공종줄 | D4: 1.통신설비공사::1-1.철거
B5: 00101 | C5: 391115ZZ701Z0001 | D5: 1방 TV UNIT(철거) | F5: 개 | G5: =내역서!G5 -> 8 | K5: 56900017113 | L5: 통신내선공 | S5: 통신4-2-2
B6: 00101 | C6: 391115ZZ701Z0002 | D6: 2구 모듈러잭(철거) | F6: 개 | G6: =내역서!G6 -> 9 | K6: 56900017113 | L6: 통신내선공 | S6: 통신4-3-2
B7: 00101 | C7: L001010101000086 | D7: 노 무 비 | E7: 통신내선공 | F7: 인 | G7: =IF(H7*I7/100+0.0005 <1, TRUNC(H7*I7/100, 3), TRUNC(H7*I7/100+0.0005, J7)) -> 0
H8: =IF(I8<>0,G8-I8,"") | O8: =IF(I8*M8=0,"",I8*M8*(N8/100))
H9: =IF(I9<>0,G9-I9,"") | O9: =IF(I9*M9=0,"",I9*M9*(N9/100))
H10: =IF(I10<>0,G10-I10,"") | O10: =IF(I10*M10=0,"",I10*M10*(N10/100))
H11: =IF(I11<>0,G11-I11,"") | O11: =IF(I11*M11=0,"",I11*M11*(N11/100))
H12: =IF(I12<>0,G12-I12,"") | O12: =IF(I12*M12=0,"",I12*M12*(N12/100))
H13: =IF(I13<>0,G13-I13,"") | O13: =IF(I13*M13=0,"",I13*M13*(N13/100))
H14: =IF(I14<>0,G14-I14,"") | O14: =IF(I14*M14=0,"",I14*M14*(N14/100))
H15: =IF(I15<>0,G15-I15,"") | O15: =IF(I15*M15=0,"",I15*M15*(N15/100))
H16: =IF(I16<>0,G16-I16,"") | O16: =IF(I16*M16=0,"",I16*M16*(N16/100))
H17: =IF(I17<>0,G17-I17,"") | O17: =IF(I17*M17=0,"",I17*M17*(N17/100))
H18: =IF(I18<>0,G18-I18,"") | O18: =IF(I18*M18=0,"",I18*M18*(N18/100))
H19: =IF(I19<>0,G19-I19,"") | O19: =IF(I19*M19=0,"",I19*M19*(N19/100))
... H29: =IF(I29<>0,G29-I29,"") | O29: =IF(I29*M29=0,"",I29*M29*(N29/100))
B30: 공종줄 | D30: 1.통신설비공사::1-2.신설
B31: 00102 | C31: 3913170610035664 | D31: 합성수지제 가요전선관 | E31: CD-난연성 16㎜ | F31: m | G31: =내역서!G34 -> 2871 | K31: 56900017113 | L31: 통신내선공 | S31: 통신3-1-1
B32: 00102 | C32: 3913170610035665 | D32: 합성수지제 가요전선관 | E32: CD-난연성 22㎜ | F32: m | G32: =내역서!G35 -> 52 | K32: 56900017113 | L32: 통신내선공 | S32: 통신3-1-1
B33: 00102 | C33: 3912130610035778 | D33: 스위치박스 | E33: 1 개용 54 mm | F33: 개 | G33: =내역서!G37 -> 77 | K33: 56900017113 | L33: 통신내선공 | S33: 통신3-2-1
B34: 00102 | C34: 3912130610036789 | D34: PVC BOX SW 1G | E34: SW 1구 | F34: 개 | G34: =내역서!G38 -> 9 | K34: 56900017113 | L34: 통신내선공 | S34: 통신3-2-1
B35: 00102 | C35: 3912130310035801 | D35: 풀박스 | E35: 200×200×200 | F35: 개 | G35: =내역서!G39 -> 6 | K35: 56900017113 | L35: 통신내선공 | S35: 통신3-2-1
B36: 00102 | C36: 3912130320175791 | D36: 합성수지 전기함(ABS BOX) | E36: 190*190*130 | F36: 개 | G36: =내역서!G40 -> 2 | K36: 56900017016 | L36: 내선전공 | S36: 전기5-4
B37: 00102 | C37: 3912130320175797 | D37: 합성수지 전기함(ABS BOX) | E37: 380*560*180 | F37: 개 | G37: =내역서!G41 -> 1 | K37: 56900017016 | L37: 내선전공 | S37: 전기5-4
B38: 00102 | C38: 3913171220173807 | D38: 전선덕트 | E38: PVC 80x100x2000 mm | F38: 개 | G38: =내역서!G42 -> 3 | K38: 56900017016 | L38: 내선전공 | S38: 전기5-9
B39: 00102 | C39: 3913171220171726 | D39: PVC MOLD | E39: 사각 소 | F39: m | G39: =내역서!G43 -> 24 | K39: 56900017113 | L39: 통신내선공 | S39: 통신3-5-3
B40: 00102 | C40: 2612160621650577 | D40: 고발포동축케이블 | E40: 삼중차폐, 5C-HFBT | F40: m | G40: =내역서!G44 -> 591 | K40: 56900017116 | L40: 통신케이블공 | S40: 통신4-2-1
B41: 00102 | C41: 2612160621650579 | D41: 고발포동축케이블 | E41: 삼중차폐, 7C-HFBT | F41: m | G41: =내역서!G45 -> 56 | K41: 56900017116 | L41: 통신케이블공 | S41: 통신4-2-1
B42: 00102 | C42: 2612160921650753 | D42: UTP 케이블 | E42: Cat.6 0.5mm 4P | F42: m | G42: =내역서!G46 -> 5694 | K42: 56900017116 | L42: 통신케이블공 | S42: 통신4-3-1
B43: 00102 | C43: 3912140620937657 | D43: 모듈라짹 | E43: 매입용, Cat.6 2구 | F43: 개 | G43: =내역서!G47 -> 62 | K43: 56900017113 | L43: 통신내선공 | S43: 통신4-3-2
B44: 00102 | C44: 3912140620935628 | D44: TV 유니트 | E44: 1방 | F44: 개 | G44: =내역서!G48 -> 24 | K44: 56900017113 | L44: 통신내선공 | S44: 통신4-2-2
B45: 00102 | C45: 3412130121650726 | D45: 분기기 | E45: 쌍방향유니트, 4 분기기 | F45: 개 | G45: =내역서!G49 -> 1 | K45: 56900017114 | L45: 통신설비공 | S45: 통신7-12-3
B46: 00102 | C46: 3412130121650726 | G46: =내역서!G49 -> 1 | K46: 56900017041 | L46: 보통인부 | S46: 통신7-12-3
B47: 00102 | C47: 4322178821650722 | D47: 분배기 | E47: 쌍방향유니트, 6 분배기 | F47: 개 | G47: =내역서!G50 -> 2 | K47: 56900017114 | L47: 통신설비공 | S47: 통신7-12-3
B48: 00102 | C48: 4322178821650722 | G48: =내역서!G50 -> 2 | K48: 56900017041 | L48: 보통인부 | S48: 통신7-12-3
B49: 00102 | C49: 4322178821650723 | D49: 분배기 | E49: 쌍방향유니트, 8 분배기 | F49: 개 | G49: =내역서!G51 -> 2 | K49: 56900017114 | L49: 통신설비공 | S49: 통신7-12-3
...
