Workbook

Sheet 원가
A1: 원 가 계 산 서
A3: 공사명: | C3: 전남광주통합특별시의회 광주청사 환경 개선공사(통신) | E3: 공사기간: 1 개월 미만
A4: 비 목 | C4: 구 분 | D4: 금 액 | E4: 구 성 비
B5: 재 료 비 | C5: 직 접 재 료 비
C6: 간 접 재 료 비
A7: 순 | C7: ( 소 계 )
B8: 노 무 비 | C8: 직 접 노 무 비
C9: 간 접 노 무 비 | E9: (직접 노무비) * 17.5 %
A10: 공 | C10: ( 소 계 )
C11: 산 재 보 험 료 | E11: (노무비) * 3.56 %
B12: 경 | C12: 고 용 보 험 료 | E12: (노무비) * 1.01 %
A13: 사 | C13: 퇴 직 금 공 제 | E13: (직접 노무비) * 2.3 %
C14: 안 전 관 리 비 | E14: (재료+직노) * 3.11 %
A15: 비 | B15: 비 | C15: 기 타 경 비 | E15: (재료+노무) * 5 %
C16: ( 소 계 )
B17: ( 순 공 사 비 계 )
A18: 일 반 관 리 비 | E18: (재료+노무+경비) * 8 %
A19: 이 윤 | E19: (노무+경비+일반관리비) * 15 %
A20: ( 총 원 가 )
A21: 부 가 가 치 세
A22: 도 급 예 정 액
A23: ( 총 계 )

Sheet 총괄표
A1: 총줄수-> | B1: 81 | C1: 2.0 | D1: [전남광주통합특별시의회 광주청사 환경 개선공사(통신)] | AA1: 연속견적가로형식
A2: 번호 | B2: 공종코드 | C2: … | D2: 공 종 명 | E2: 규격 | F2: 단위 | G2: 수량 | H2: 재료비 | J2: 노무비 | M2: 경비 | P2: 계 | Q2: 비고
H3: 단가 | I3: 금액 | J3: 수량 | K3: 단가 | L3: 금액 | M3: 단가 | N3: 금액 | O3: 단가
B4: 공종줄 | D4: [전남광주통합특별시의외 광주청사 환경개선 통신공사]
B5: 001 | D5: 1. 통신설비공사 | F5: 식 | G5: 1
B6: 002 | D6: 2. 방송설비공사 | F6: 식 | G6: 1
C29: Total | D29: ( 합 계 )
B30: 공종줄 | D30: 1.통신설비공사
B31: 00101 | D31: 1-1. 철거 | F31: 식 | G31: 1
B32: 00102 | D32: 1-2. 신설 | F32: 식 | G32: 1
I34: =G34*H34 -> 0 | L34: =G34*K34 -> 0 | N34: =G34*M34 -> 0 | P34: =SUM(I34,L34,N34) -> 0
I35: =G35*H35 -> 0 | L35: =G35*K35 -> 0 | N35: =G35*M35 -> 0 | P35: =SUM(I35,L35,N35) -> 0
I36: =G36*H36 -> 0 | L36: =G36*K36 -> 0 | N36: =G36*M36 -> 0 | P36: =SUM(I36,L36,N36) -> 0
I37: =G37*H37 -> 0 | L37: =G37*K37 -> 0 | N37: =G37*M37 -> 0 | P37: =SUM(I37,L37,N37) -> 0
I38: =G38*H38 -> 0 | L38: =G38*K38 -> 0 | N38: =G38*M38 -> 0 | P38: =SUM(I38,L38,N38) -> 0
I39: =G39*H39 -> 0 | L39: =G39*K39 -> 0 | N39: =G39*M39 -> 0 | P39: =SUM(I39,L39,N39) -> 0
I40: =G40*H40 -> 0 | L40: =G40*K40 -> 0 | N40: =G40*M40 -> 0 | P40: =SUM(I40,L40,N40) -> 0
I41: =G41*H41 -> 0 | L41: =G41*K41 -> 0 | N41: =G41*M41 -> 0 | P41: =SUM(I41,L41,N41) -> 0
I42: =G42*H42 -> 0 | L42: =G42*K42 -> 0 | N42: =G42*M42 -> 0 | P42: =SUM(I42,L42,N42) -> 0
I43: =G43*H43 -> 0 | L43: =G43*K43 -> 0 | N43: =G43*M43 -> 0 | P43: =SUM(I43,L43,N43) -> 0
I44: =G44*H44 -> 0 | L44: =G44*K44 -> 0 | N44: =G44*M44 -> 0 | P44: =SUM(I44,L44,N44) -> 0
I45: =G45*H45 -> 0 | L45: =G45*K45 -> 0 | N45: =G45*M45 -> 0 | P45: =SUM(I45,L45,N45) -> 0
... I54: =G54*H54 -> 0 | L54: =G54*K54 -> 0 | N54: =G54*M54 -> 0 | P54: =SUM(I54,L54,N54) -> 0
B55: 001 | C55: Total | D55: ( 합 계 ) | I55: =TRUNC(SUM(I30:I54)) -> 0 | L55: =TRUNC(SUM(L30:L54)) -> 0 | N55: =TRUNC(SUM(N30:N54)) -> 0 | P55: =TRUNC(SUM(P30:P54)) -> 0
B56: 공종줄 | D56: 2.방송설비공사
B57: 00201 | D57: 2-1. 철거 | F57: 식 | G57: 1
B58: 00202 | D58: 2-2. 신설 | F58: 식 | G58: 1
I59: =G59*H59 -> 0 | L59: =G59*K59 -> 0 | N59: =G59*M59 -> 0 | P59: =SUM(I59,L59,N59) -> 0
I60: =G60*H60 -> 0 | L60: =G60*K60 -> 0 | N60: =G60*M60 -> 0 | P60: =SUM(I60,L60,N60) -> 0
I61: =G61*H61 -> 0 | L61: =G61*K61 -> 0 | N61: =G61*M61 -> 0 | P61: =SUM(I61,L61,N61) -> 0
I62: =G62*H62 -> 0 | L62: =G62*K62 -> 0 | N62: =G62*M62 -> 0 | P62: =SUM(I62,L62,N62) -> 0
I63: =G63*H63 -> 0 | L63: =G63*K63 -> 0 | N63: =G63*M63 -> 0 | P63: =SUM(I63,L63,N63) -> 0
I64: =G64*H64 -> 0 | L64: =G64*K64 -> 0 | N64: =G64*M64 -> 0 | P64: =SUM(I64,L64,N64) -> 0
I65: =G65*H65 -> 0 | L65: =G65*K65 -> 0 | N65: =G65*M65 -> 0 | P65: =SUM(I65,L65,N65) -> 0
I66: =G66*H66 -> 0 | L66: =G66*K66 -> 0 | N66: =G66*M66 -> 0 | P66: =SUM(I66,L66,N66) -> 0
I67: =G67*H67 -> 0 | L67: =G67*K67 -> 0 | N67: =G67*M67 -> 0 | P67: =SUM(I67,L67,N67) -> 0
I68: =G68*H68 -> 0 | L68: =G68*K68 -> 0 | N68: =G68*M68 -> 0 | P68: =SUM(I68,L68,N68) -> 0
I69: =G69*H69 -> 0 | L69: =G69*K69 -> 0 | N69: =G69*M69 -> 0 | P69: =SUM(I69,L69,N69) -> 0
I70: =G70*H70 -> 0 | L70: =G70*K70 -> 0 | N70: =G70*M70 -> 0 | P70: =SUM(I70,L70,N70) -> 0
... I80: =G80*H80 -> 0 | L80: =G80*K80 -> 0 | N80: =G80*M80 -> 0 | P80: =SUM(I80,L80,N80) -> 0
B81: 002 | C81: Total | D81: ( 합 계 ) | I81: =TRUNC(SUM(I56:I80)) -> 0 | L81: =TRUNC(SUM(L56:L80)) -> 0 | N81: =TRUNC(SUM(N56:N80)) -> 0 | P81: =TRUNC(SUM(P56:P80)) -> 0

Sheet 내역서
A1: 총줄수-> | B1: 133 | C1: 2.0 | D1: [전남광주통합특별시의회 광주청사 환경 개선공사(통신)]
A2: 번호 | B2: 공종코드 | C2: 코드 | D2: 명 칭 | E2: 규 격 | F2: 단위 | G2: 수량 | H2: 재료비 | J2: 노무비 | M2: 경비 | P2: 계 | Q2: 비고
H3: 단가 | I3: 금액 | J3: 수량 | K3: 단가 | L3: 금액 | M3: 단가 | N3: 금액 | O3: 단가
B4: 공종줄 | D4: 1.통신설비공사::1-1.철거
A5: MM065223616 | B5: 00101 | C5: 391115ZZ701Z0001 | D5: 1방 TV UNIT(철거) | F5: 개 | G5: 8 | I5: =TRUNC(G5*H5) -> 0 | J5: 8
A6: MM065223607 | B6: 00101 | C6: 391115ZZ701Z0002 | D6: 2구 모듈러잭(철거) | F6: 개 | G6: 9
A7: 56900017113 | B7: 00101 | C7: L001010101000086 | D7: 노 무 비 | E7: 통신내선공 | F7: 인 | G7: 0.181
A8: A0300000000 | B8: 00101 | C8: RENT000000000006 | D8: [ 공 구 손 료 ] | E8: 노무비의 3 % | F8: 식 | G8: 1
I9: =TRUNC(G9*H9) -> 0 | L9: =TRUNC(G9*K9) -> 0 | N9: =TRUNC(G9*M9) -> 0 | P9: =SUM(I9,L9,N9) -> 0
I10: =TRUNC(G10*H10) -> 0 | L10: =TRUNC(G10*K10) -> 0 | N10: =TRUNC(G10*M10) -> 0 | P10: =SUM(I10,L10,N10) -> 0
I11: =TRUNC(G11*H11) -> 0 | L11: =TRUNC(G11*K11) -> 0 | N11: =TRUNC(G11*M11) -> 0 | P11: =SUM(I11,L11,N11) -> 0
I12: =TRUNC(G12*H12) -> 0 | L12: =TRUNC(G12*K12) -> 0 | N12: =TRUNC(G12*M12) -> 0 | P12: =SUM(I12,L12,N12) -> 0
I13: =TRUNC(G13*H13) -> 0 | L13: =TRUNC(G13*K13) -> 0 | N13: =TRUNC(G13*M13) -> 0 | P13: =SUM(I13,L13,N13) -> 0
I14: =TRUNC(G14*H14) -> 0 | L14: =TRUNC(G14*K14) -> 0 | N14: =TRUNC(G14*M14) -> 0 | P14: =SUM(I14,L14,N14) -> 0
I15: =TRUNC(G15*H15) -> 0 | L15: =TRUNC(G15*K15) -> 0 | N15: =TRUNC(G15*M15) -> 0 | P15: =SUM(I15,L15,N15) -> 0
I16: =TRUNC(G16*H16) -> 0 | L16: =TRUNC(G16*K16) -> 0 | N16: =TRUNC(G16*M16) -> 0 | P16: =SUM(I16,L16,N16) -> 0
I17: =TRUNC(G17*H17) -> 0 | L17: =TRUNC(G17*K17) -> 0 | N17: =TRUNC(G17*M17) -> 0 | P17: =SUM(I17,L17,N17) -> 0
I18: =TRUNC(G18*H18) -> 0 | L18: =TRUNC(G18*K18) -> 0 | N18: =TRUNC(G18*M18) -> 0 | P18: =SUM(I18,L18,N18) -> 0
I19: =TRUNC(G19*H19) -> 0 | L19: =TRUNC(G19*K19) -> 0 | N19: =TRUNC(G19*M19) -> 0 | P19: =SUM(I19,L19,N19) -> 0
I20: =TRUNC(G20*H20) -> 0 | L20: =TRUNC(G20*K20) -> 0 | N20: =TRUNC(G20*M20) -> 0 | P20: =SUM(I20,L20,N20) -> 0
... I31: =TRUNC(G31*H31) -> 0 | L31: =TRUNC(G31*K31) -> 0 | N31: =TRUNC(G31*M31) -> 0 | P31: =SUM(I31,L31,N31) -> 0
B32: 합계줄 | D32: ( 합 계 ) | I32: =TRUNC(SUM(I4:I31)) -> 0 | L32: =TRUNC(SUM(L4:L31)) -> 0 | N32: =TRUNC(SUM(N4:N31)) -> 0 | P32: =TRUNC(SUM(P4:P31)) -> 0
B33: 공종줄 | D33: 1.통신설비공사::1-2.신설
A34: 59753097002 | B34: 00102 | C34: 3913170610035664 | D34: 합성수지제 가요전선관 | E34: CD-난연성 16㎜ | F34: m | G34: 2871
A35: 59753097003 | B35: 00102 | C35: 3913170610035665 | D35: 합성수지제 가요전선관 | E35: CD-난연성 22㎜ | F35: m | G35: 52
A36: A0600000000 | B36: 00102 | C36: RENT000000000001 | D36: [ 배관 부속재 ] | E36: CD 전선관의 40 % | F36: 식 | G36: 1
A37: 59753777102 | B37: 00102 | C37: 3912130610035778 | D37: 스위치박스 | E37: 1 개용 54 mm | F37: 개 | G37: 77
A38: MM300003401 | B38: 00102 | C38: 3912130610036789 | D38: PVC BOX SW 1G | E38: SW 1구 | F38: 개 | G38: 9
A39: 59753857081 | B39: 00102 | C39: 3912130310035801 | D39: 풀박스 | E39: 200×200×200 | F39: 개 | G39: 6
A40: MM562876805 | B40: 00102 | C40: 3912130320175791 | D40: 합성수지 전기함(ABS BOX) | E40: 190*190*130 | F40: 개 | G40: 2
A41: MM562876811 | B41: 00102 | C41: 3912130320175797 | D41: 합성수지 전기함(ABS BOX) | E41: 380*560*180 | F41: 개 | G41: 1
A42: 59751477012 | B42: 00102 | C42: 3913171220173807 | D42: 전선덕트 | E42: PVC 80x100x2000 mm | F42: 개 | G42: 3
A43: MM300040391 | B43: 00102 | C43: 3913171220171726 | D43: PVC MOLD | E43: 사각 소 | F43: m | G43: 24
A44: 61454127541 | B44: 00102 | C44: 2612160621650577 | D44: 고발포동축케이블 | E44: 삼중차폐, 5C-HFBT | F44: m | G44: 591
A45: 61454127542 | B45: 00102 | C45: 2612160621650579 | D45: 고발포동축케이블 | E45: 삼중차폐, 7C-HFBT | F45: m | G45: 56
... A52: 59850397102 | B52: 00102 | C52: 3210151420178781 | D52: CATV 증폭기 | E52: 쌍방향, 공청용 | F52: 개 | G52: 1
A53: MM065223650 | B53: 00102 | C53: 391115ZZ701Z0005 | D53: S/W HUB 24PORT | F53: 개 | G53: 7
A54: MM065223653 | B54: 00102 | C54: 391115ZZ701Z0010 | D54: 패치판넬 24PORT | E54: Cat.6 24Port | F54: 개 | G54: 7
D55: LAN케이블설치 | E55: 전화,팩스 PC용 | F55: 개 | G55: 134
D56: 방송설비 이전 설치 | E56: 지하1층 회의실(빔,스크린,음향) | F56: 개 | G56: 2
A57: A0100000000 | B57: 00102 | C57: RENT000000000003 | D57: [ 소모 잡자재 ] | E57: 전선, 전선관의 2 % | F57: 식 | G57: 1
A58: 56900017016 | B58: 00102 | C58: L001010101000075 | D58: 노 무 비 | E58: 내선전공 | F58: 인 | G58: 1
A59: 56900017113 | B59: 00102 | C59: L001010101000086 | D59: 노 무 비 | E59: 통신내선공 | F59: 인 | G59: 76
A60: 56900017116 | B60: 00102 | C60: L001010101000089 | D60: 노 무 비 | E60: 통신케이블공 | F60: 인 | G60: 62
A61: 56900017114 | B61: 00102 | C61: L001010101000087 | D61: 노 무 비 | E61: 통신설비공 | F61: 인 | G61: 2
A62: 56900017041 | B62: 00102 | C62: L001010101000002 | D62: 노 무 비 | E62: 보통인부 | F62: 인 | G62: 1
A63: 56900017142 | B63: 00102 | C63: L001010201000093 | D63: 노 무 비 | E63: H/W시험사 | F63: 인 | G63: 1
A64: 56900017143 | B64: 00102 | C64: L001010201000094 | D64: 노 무 비 | E64: S/W시험사 | F64: 인 | G64: 1
A65: A0300000000 | B65: 00102 | C65: RENT000000000006 | D65: [ 공 구 손 료 ] | E65: 노무비의 3 % | F65: 식 | G65: 1
I66: =TRUNC(G66*H66) -> 0 | L66: =TRUNC(G66*K66) -> 0 | N66: =TRUNC(G66*M66) -> 0 | P66: =SUM(I66,L66,N66) -> 0
I67: =TRUNC(G67*H67) -> 0 | L67: =TRUNC(G67*K67) -> 0 | N67: =TRUNC(G67*M67) -> 0 | P67: =SUM(I67,L67,N67) -> 0
I68: =TRUNC(G68*H68) -> 0 | L68: =TRUNC(G68*K68) -> 0 | N68: =TRUNC(G68*M68) -> 0 | P68: =SUM(I68,L68,N68) -> 0
I69: =TRUNC(G69*H69) -> 0 | L69: =TRUNC(G69*K69) -> 0 | N69: =TRUNC(G69*M69) -> 0 | P69: =SUM(I69,L69,N69) -> 0
I70: =TRUNC(G70*H70) -> 0 | L70: =TRUNC(G70*K70) -> 0 | N70: =TRUNC(G70*M70) -> 0 | P70: =SUM(I70,L70,N70) -> 0
I71: =TRUNC(G71*H71) -> 0 | L71: =TRUNC(G71*K71) -> 0 | N71: =TRUNC(G71*M71) -> 0 | P71: =SUM(I71,L71,N71) -> 0
I72: =TRUNC(G72*H72) -> 0 | L72: =TRUNC(G72*K72) -> 0 | N72: =TRUNC(G72*M72) -> 0 | P72: =SUM(I72,L72,N72) -> 0
I73: =TRUNC(G73*H73) -> 0 | L73: =TRUNC(G73*K73) -> 0 | N73: =TRUNC(G73*M73) -> 0 | P73: =SUM(I73,L73,N73) -> 0
I74: =TRUNC(G74*H74) -> 0 | L74: =TRUNC(G74*K74) -> 0 | N74: =TRUNC(G74*M74) -> 0 | P74: =SUM(I74,L74,N74) -> 0
I75: =TRUNC(G75*H75) -> 0 | L75: =TRUNC(G75*K75) -> 0 | N75: =TRUNC(G75*M75) -> 0 | P75: =SUM(I75,L75,N75) -> 0
I76: =TRUNC(G76*H76) -> 0 | L76: =TRUNC(G76*K76) -> 0 | N76: =TRUNC(G76*M76) -> 0 | P76: =SUM(I76,L76,N76) -> 0
I77: =TRUNC(G77*H77) -> 0 | L77: =TRUNC(G77*K77) -> 0 | N77: =TRUNC(G77*M77) -> 0 | P77: =SUM(I77,L77,N77) -> 0
... I89: =TRUNC(G89*H89) -> 0 | L89: =TRUNC(G89*K89) -> 0 | N89: =TRUNC(G89*M89) -> 0 | P89: =SUM(I89,L89,N89) -> 0
B90: 합계줄 | D90: ( 합 계 ) | I90: =TRUNC(SUM(I33:I89)) -> 0 | L90: =TRUNC(SUM(L33:L89)) -> 0 | N90: =TRUNC(SUM(N33:N89)) -> 0 | P90: =TRUNC(SUM(P33:P89)) -> 0
B91: 공종줄 | D91: 2.방송설비공사::2-1.철거
A92: MM065223627 | B92: 00201 | C92: 391115ZZ701Z0003 | D92: ATT(철거) | F92: 개 | G92: 10
A93: MM065223637 | B93: 00201 | C93: 391115ZZ701Z0006 | D93: 벽부형 스피커(철거) | E93: 벽부형,3W | F93: 개 | G93: 5
A94: MM065223633 | B94: 00201 | C94: 391115ZZ701Z0008 | D94: 천정형 스피커(재사용 철거) | E94: 원형,3W | F94: 개 | G94: 21
A95: MM065286473 | B95: 00201 | C95: 391115ZZ701Z0009 | D95: 천정형 스피커(철거) | E95: 원형,3W | F95: 개 | G95: 2
A96: 56900017114 | B96: 00201 | C96: L001010101000087 | D96: 노 무 비 | E96: 통신설비공 | F96: 인 | G96: 3
A97: A0300000000 | B97: 00201 | C97: RENT000000000006 | D97: [ 공 구 손 료 ] | E97: 노무비의 3 % | F97: 식 | G97: 1
I99: =TRUNC(G99*H99) -> 0 | L99: =TRUNC(G99*K99) -> 0 | N99: =TRUNC(G99*M99) -> 0 | P99: =SUM(I99,L99,N99) -> 0
I100: =TRUNC(G100*H100) -> 0 | L100: =TRUNC(G100*K100) -> 0 | N100: =TRUNC(G100*M100) -> 0 | P100: =SUM(I100,L100,N100) -> 0
I101: =TRUNC(G101*H101) -> 0 | L101: =TRUNC(G101*K101) -> 0 | N101: =TRUNC(G101*M101) -> 0 | P101: =SUM(I101,L101,N101) -> 0
I102: =TRUNC(G102*H102) -> 0 | L102: =TRUNC(G102*K102) -> 0 | N102: =TRUNC(G102*M102) -> 0 | P102: =SUM(I102,L102,N102) -> 0
I103: =TRUNC(G103*H103) -> 0 | L103: =TRUNC(G103*K103) -> 0 | N103: =TRUNC(G103*M103) -> 0 | P103: =SUM(I103,L103,N103) -> 0
I104: =TRUNC(G104*H104) -> 0 | L104: =TRUNC(G104*K104) -> 0 | N104: =TRUNC(G104*M104) -> 0 | P104: =SUM(I104,L104,N104) -> 0
I105: =TRUNC(G105*H105) -> 0 | L105: =TRUNC(G105*K105) -> 0 | N105: =TRUNC(G105*M105) -> 0 | P105: =SUM(I105,L105,N105) -> 0
I106: =TRUNC(G106*H106) -> 0 | L106: =TRUNC(G106*K106) -> 0 | N106: =TRUNC(G106*M106) -> 0 | P106: =SUM(I106,L106,N106) -> 0
I107: =TRUNC(G107*H107) -> 0 | L107: =TRUNC(G107*K107) -> 0 | N107: =TRUNC(G107*M107) -> 0 | P107: =SUM(I107,L107,N107) -> 0
I108: =TRUNC(G108*H108) -> 0 | L108: =TRUNC(G108*K108) -> 0 | N108: =TRUNC(G108*M108) -> 0 | P108: =SUM(I108,L108,N108) -> 0
I109: =TRUNC(G109*H109) -> 0 | L109: =TRUNC(G109*K109) -> 0 | N109: =TRUNC(G109*M109) -> 0 | P109: =SUM(I109,L109,N109) -> 0
I110: =TRUNC(G110*H110) -> 0 | L110: =TRUNC(G110*K110) -> 0 | N110: =TRUNC(G110*M110) -> 0 | P110: =SUM(I110,L110,N110) -> 0
... I118: =TRUNC(G118*H118) -> 0 | L118: =TRUNC(G118*K118) -> 0 | N118: =TRUNC(G118*M118) -> 0 | P118: =SUM(I118,L118,N118) -> 0
B119: 합계줄 | D119: ( 합 계 ) | I119: =TRUNC(SUM(I91:I118)) -> 0 | L119: =TRUNC(SUM(L91:L118)) -> 0 | N119: =TRUNC(SUM(N91:N118)) -> 0 | P119: =TRUNC(SUM(P91:P118)) -> 0
B120: 공종줄 | D120: 2.방송설비공사::2-2.신설
A121: 59753097002 | B121: 00202 | C121: 3913170610035664 | D121: 합성수지제 가요전선관 | E121: CD-난연성 16㎜ | F121: m | G121: 739
A122: A0600000000 | B122: 00202 | C122: RENT000000000001 | D122: [ 배관 부속재 ] | E122: CD 전선관의 40 % | F122: 식 | G122: 1
A123: 59753767011 | B123: 00202 | C123: 3912130810035750 | D123: 아우트렛박스 | E123: 8각 54㎜ | F123: 개 | G123: 56
A124: 59753777102 | B124: 00202 | C124: 3912130610035778 | D124: 스위치박스 | E124: 1 개용 54 mm | F124: 개 | G124: 49
A125: 59753767221 | B125: 00202 | C125: 3912130820174712 | D125: 아우트렛박스 커버 | E125: 커버, 8각, 둥근구멍(평) | F125: 개 | G125: 56
A126: MM481669623 | B126: 00202 | C126: 2612162922076726 | D126: 450/750V 내열비닐절연전선 | E126: HFIX 1.38mm(1.5㎟) | F126: m | G126: 1870
A127: MM300040719 | B127: 00202 | C127: 5216151220173737 | D127: 스 피 커 | E127: 천정형(3W) 원형 | F127: 개 | G127: 36
A128: MM065286422 | B128: 00202 | C128: 391115ZZ701Z0004 | D128: ATT 스위치 | E128: 음량조절기 | F128: 개 | G128: 49
A129: MM065286410 | B129: 00202 | C129: 391115ZZ701Z0007 | D129: 천정형 스피커(재사용 신설) | E129: 원형,3W | F129: 개 | G129: 21
A130: A0100000000 | B130: 00202 | C130: RENT000000000003 | D130: [ 소모 잡자재 ] | E130: 전선, 전선관의 2 % | F130: 식 | G130: 1
A131: 56900017016 | B131: 00202 | C131: L001010101000075 | D131: 노 무 비 | E131: 내선전공 | F131: 인 | G131: 11
A132: 56900017113 | B132: 00202 | C132: L001010101000086 | D132: 노 무 비 | E132: 통신내선공 | F132: 인 | G132: 24
... A134: A0300000000 | B134: 00202 | C134: RENT000000000006 | D134: [ 공 구 손 료 ] | E134: 노무비의 3 % | F134: 식 | G134: 1
I136: =TRUNC(G136*H136) -> 0 | L136: =TRUNC(G136*K136) -> 0 | N136: =TRUNC(G136*M136) -> 0 | P136: =SUM(I136,L136,N136) -> 0
I137: =TRUNC(G137*H137) -> 0 | L137: =TRUNC(G137*K137) -> 0 | N137: =TRUNC(G137*M137) -> 0 | P137: =SUM(I137,L137,N137) -> 0
...

Sheet 노임근거
A1: 총줄수-> | B1: 133 | D1: [전남광주통합특별시의회 광주청사 환경 개선공사(통신)] - 노임 산출근거(2026년 상반기 노임)
A2: 번호 | B2: 공종코드 | C2: 코드 | D2: 명 칭 | E2: 규 격 | F2: 단위 | G2: 수량 | K2: 코드 | L2: 공량산출 | P2: 단 위 단 가 산 출 | S2: 품셈근거 | T2: 비고
G3: 결정수량 | H3: 할증 | I3: 산출수량 | J3: 재할% | L3: 명칭 | M3: 품셈 | N3: 할증% | O3: 공량 | P3: 단가 | Q3: 단위단가 | R3: 단위계
B4: 공종줄 | D4: 1.통신설비공사::1-1.철거
B5: 00101 | C5: 391115ZZ701Z0001 | D5: 1방 TV UNIT(철거) | F5: 개 | G5: =내역서!G5 -> 8 | K5: 56900017113 | L5: 통신내선공 | S5: 통신4-2-2
B6: 00101 | C6: 391115ZZ701Z0002 | D6: 2구 모듈러잭(철거) | F6: 개 | G6: =내역서!G6 -> 9 | K6: 56900017113 | L6: 통신내선공 | S6: 통신4-3-2
B7: 00101 | C7: L001010101000086 | D7: 노 무 비 | E7: 통신내선공 | F7: 인 | G7: =IF(H7*I7/100+0.0005 <1, TRUNC(H7*I7/100, 3), TRUNC(H7*I7/100+0.0005, J7)) -> 0
H8: =IF(I8<>0,G8-I8,"") | O8: =IF(I8*M8=0,"",I8*M8*(N8/100))
H9: =IF(I9<>0,G9-I9,"") | O9: =IF(I9*M9=0,"",I9*M9*(N9/100))
H10: =IF(I10<>0,G10-I10,"") | O10: =IF(I10*M10=0,"",I10*M10*(N10/100))
H11: =IF(I11<>0,G11-I11,"") | O11: =IF(I11*M11=0,"",I11*M11*(N11/100))
H12: =IF(I12<>0,G12-I12,"") | O12: =IF(I12*M12=0,"",I12*M12*(N12/100))
H13: =IF(I13<>0,G13-I13,"") | O13: =IF(I13*M13=0,"",I13*M13*(N13/100))
H14: =IF(I14<>0,G14-I14,"") | O14: =IF(I14*M14=0,"",I14*M14*(N14/100))
H15: =IF(I15<>0,G15-I15,"") | O15: =IF(I15*M15=0,"",I15*M15*(N15/100))
H16: =IF(I16<>0,G16-I16,"") | O16: =IF(I16*M16=0,"",I16*M16*(N16/100))
H17: =IF(I17<>0,G17-I17,"") | O17: =IF(I17*M17=0,"",I17*M17*(N17/100))
H18: =IF(I18<>0,G18-I18,"") | O18: =IF(I18*M18=0,"",I18*M18*(N18/100))
H19: =IF(I19<>0,G19-I19,"") | O19: =IF(I19*M19=0,"",I19*M19*(N19/100))
... H29: =IF(I29<>0,G29-I29,"") | O29: =IF(I29*M29=0,"",I29*M29*(N29/100))
B30: 공종줄 | D30: 1.통신설비공사::1-2.신설
B31: 00102 | C31: 3913170610035664 | D31: 합성수지제 가요전선관 | E31: CD-난연성 16㎜ | F31: m | G31: =내역서!G34 -> 2871 | K31: 56900017113 | L31: 통신내선공 | S31: 통신3-1-1
B32: 00102 | C32: 3913170610035665 | D32: 합성수지제 가요전선관 | E32: CD-난연성 22㎜ | F32: m | G32: =내역서!G35 -> 52 | K32: 56900017113 | L32: 통신내선공 | S32: 통신3-1-1
B33: 00102 | C33: 3912130610035778 | D33: 스위치박스 | E33: 1 개용 54 mm | F33: 개 | G33: =내역서!G37 -> 77 | K33: 56900017113 | L33: 통신내선공 | S33: 통신3-2-1
B34: 00102 | C34: 3912130610036789 | D34: PVC BOX SW 1G | E34: SW 1구 | F34: 개 | G34: =내역서!G38 -> 9 | K34: 56900017113 | L34: 통신내선공 | S34: 통신3-2-1
B35: 00102 | C35: 3912130310035801 | D35: 풀박스 | E35: 200×200×200 | F35: 개 | G35: =내역서!G39 -> 6 | K35: 56900017113 | L35: 통신내선공 | S35: 통신3-2-1
B36: 00102 | C36: 3912130320175791 | D36: 합성수지 전기함(ABS BOX) | E36: 190*190*130 | F36: 개 | G36: =내역서!G40 -> 2 | K36: 56900017016 | L36: 내선전공 | S36: 전기5-4
B37: 00102 | C37: 3912130320175797 | D37: 합성수지 전기함(ABS BOX) | E37: 380*560*180 | F37: 개 | G37: =내역서!G41 -> 1 | K37: 56900017016 | L37: 내선전공 | S37: 전기5-4
B38: 00102 | C38: 3913171220173807 | D38: 전선덕트 | E38: PVC 80x100x2000 mm | F38: 개 | G38: =내역서!G42 -> 3 | K38: 56900017016 | L38: 내선전공 | S38: 전기5-9
B39: 00102 | C39: 3913171220171726 | D39: PVC MOLD | E39: 사각 소 | F39: m | G39: =내역서!G43 -> 24 | K39: 56900017113 | L39: 통신내선공 | S39: 통신3-5-3
B40: 00102 | C40: 2612160621650577 | D40: 고발포동축케이블 | E40: 삼중차폐, 5C-HFBT | F40: m | G40: =내역서!G44 -> 591 | K40: 56900017116 | L40: 통신케이블공 | S40: 통신4-2-1
B41: 00102 | C41: 2612160621650579 | D41: 고발포동축케이블 | E41: 삼중차폐, 7C-HFBT | F41: m | G41: =내역서!G45 -> 56 | K41: 56900017116 | L41: 통신케이블공 | S41: 통신4-2-1
B42: 00102 | C42: 2612160921650753 | D42: UTP 케이블 | E42: Cat.6 0.5mm 4P | F42: m | G42: =내역서!G46 -> 5694 | K42: 56900017116 | L42: 통신케이블공 | S42: 통신4-3-1
B43: 00102 | C43: 3912140620937657 | D43: 모듈라짹 | E43: 매입용, Cat.6 2구 | F43: 개 | G43: =내역서!G47 -> 62 | K43: 56900017113 | L43: 통신내선공 | S43: 통신4-3-2
B44: 00102 | C44: 3912140620935628 | D44: TV 유니트 | E44: 1방 | F44: 개 | G44: =내역서!G48 -> 24 | K44: 56900017113 | L44: 통신내선공 | S44: 통신4-2-2
B45: 00102 | C45: 3412130121650726 | D45: 분기기 | E45: 쌍방향유니트, 4 분기기 | F45: 개 | G45: =내역서!G49 -> 1 | K45: 56900017114 | L45: 통신설비공 | S45: 통신7-12-3
B46: 00102 | C46: 3412130121650726 | G46: =내역서!G49 -> 1 | K46: 56900017041 | L46: 보통인부 | S46: 통신7-12-3
B47: 00102 | C47: 4322178821650722 | D47: 분배기 | E47: 쌍방향유니트, 6 분배기 | F47: 개 | G47: =내역서!G50 -> 2 | K47: 56900017114 | L47: 통신설비공 | S47: 통신7-12-3
B48: 00102 | C48: 4322178821650722 | G48: =내역서!G50 -> 2 | K48: 56900017041 | L48: 보통인부 | S48: 통신7-12-3
B49: 00102 | C49: 4322178821650723 | D49: 분배기 | E49: 쌍방향유니트, 8 분배기 | F49: 개 | G49: =내역서!G51 -> 2 | K49: 56900017114 | L49: 통신설비공 | S49: 통신7-12-3
B50: 00102 | C50: 4322178821650723 | G50: =내역서!G51 -> 2 | K50: 56900017041 | L50: 보통인부 | S50: 통신7-12-3
B51: 00102 | C51: 3210151420178781 | D51: CATV 증폭기 | E51: 쌍방향, 공청용 | F51: 개 | G51: =내역서!G52 -> 1 | K51: 56900017114 | L51: 통신설비공 | S51: 통신7-12-2
B52: 00102 | C52: 3210151420178781 | G52: =내역서!G52 -> 1 | K52: 56900017041 | L52: 보통인부 | S52: 통신7-12-2
B53: 00102 | C53: 391115ZZ701Z0005 | D53: S/W HUB 24PORT | F53: 개 | G53: =내역서!G53 -> 7 | K53: 56900017143 | L53: S/W시험사 | S53: 통신8-1-1
B54: 00102 | C54: 391115ZZ701Z0005 | G54: =내역서!G53 -> 7 | K54: 56900017142 | L54: H/W시험사 | S54: 통신8-1-1
B55: 00102 | C55: 391115ZZ701Z0010 | D55: 패치판넬 24PORT | F55: 개 | G55: =내역서!G54 -> 7 | K55: 56900017114 | L55: 통신설비공 | S55: 통신4-3-3
B56: 00102 | C56: 391115ZZ701Z0010 | G56: =내역서!G54 -> 7 | K56: 56900017041 | L56: 보통인부 | S56: 통신4-3-3
B57: 00102 | C57: L001010101000075 | D57: 노 무 비 | E57: 내선전공 | F57: 인 | G57: =IF(H57*I57/100+0.0005 <1, TRUNC(H57*I57/100, 3), TRUNC(H57*I57/100+0.0005, J57)) -> 0
B58: 00102 | C58: L001010101000086 | D58: 노 무 비 | E58: 통신내선공 | F58: 인 | G58: =IF(H58*I58/100+0.0005 <1, TRUNC(H58*I58/100, 3), TRUNC(H58*I58/100+0.0005, J58)) -> 0
B59: 00102 | C59: L001010101000089 | D59: 노 무 비 | E59: 통신케이블공 | F59: 인 | G59: =IF(H59*I59/100+0.0005 <1, TRUNC(H59*I59/100, 3), TRUNC(H59*I59/100+0.0005, J59)) -> 0 | O59: =IF(I59*M59=0,"",I59*M59*(N59/100))
B60: 00102 | C60: L001010101000087 | D60: 노 무 비 | E60: 통신설비공 | F60: 인 | G60: =IF(H60*I60/100+0.0005 <1, TRUNC(H60*I60/100, 3), TRUNC(H60*I60/100+0.0005, J60)) -> 0 | O60: =IF(I60*M60=0,"",I60*M60*(N60/100))
B61: 00102 | C61: L001010101000002 | D61: 노 무 비 | E61: 보통인부 | F61: 인 | G61: =IF(H61*I61/100+0.0005 <1, TRUNC(H61*I61/100, 3), TRUNC(H61*I61/100+0.0005, J61)) -> 0 | O61: =IF(I61*M61=0,"",I61*M61*(N61/100))
B62: 00102 | C62: L001010201000093 | D62: 노 무 비 | E62: H/W시험사 | F62: 인 | G62: =IF(H62*I62/100+0.0005 <1, TRUNC(H62*I62/100, 3), TRUNC(H62*I62/100+0.0005, J62)) -> 0 | O62: =IF(I62*M62=0,"",I62*M62*(N62/100))
B63: 00102 | C63: L001010201000094 | D63: 노 무 비 | E63: S/W시험사 | F63: 인 | G63: =IF(H63*I63/100+0.0005 <1, TRUNC(H63*I63/100, 3), TRUNC(H63*I63/100+0.0005, J63)) -> 0 | O63: =IF(I63*M63=0,"",I63*M63*(N63/100))
H64: =IF(I64<>0,G64-I64,"") | O64: =IF(I64*M64=0,"",I64*M64*(N64/100))
H65: =IF(I65<>0,G65-I65,"") | O65: =IF(I65*M65=0,"",I65*M65*(N65/100))
H66: =IF(I66<>0,G66-I66,"") | O66: =IF(I66*M66=0,"",I66*M66*(N66/100))
H67: =IF(I67<>0,G67-I67,"") | O67: =IF(I67*M67=0,"",I67*M67*(N67/100))
H68: =IF(I68<>0,G68-I68,"") | O68: =IF(I68*M68=0,"",I68*M68*(N68/100))
H69: =IF(I69<>0,G69-I69,"") | O69: =IF(I69*M69=0,"",I69*M69*(N69/100))
H70: =IF(I70<>0,G70-I70,"") | O70: =IF(I70*M70=0,"",I70*M70*(N70/100))
H71: =IF(I71<>0,G71-I71,"") | O71: =IF(I71*M71=0,"",I71*M71*(N71/100))
H72: =IF(I72<>0,G72-I72,"") | O72: =IF(I72*M72=0,"",I72*M72*(N72/100))
H73: =IF(I73<>0,G73-I73,"") | O73: =IF(I73*M73=0,"",I73*M73*(N73/100))
H74: =IF(I74<>0,G74-I74,"") | O74: =IF(I74*M74=0,"",I74*M74*(N74/100))
H75: =IF(I75<>0,G75-I75,"") | O75: =IF(I75*M75=0,"",I75*M75*(N75/100))
... H81: =IF(I81<>0,G81-I81,"") | O81: =IF(I81*M81=0,"",I81*M81*(N81/100))
B82: 공종줄 | D82: 2.방송설비공사::2-1.철거
B83: 00201 | C83: 391115ZZ701Z0003 | D83: ATT(철거) | F83: 개 | G83: =내역서!G92 -> 10 | K83: 56900017114 | L83: 통신설비공 | S83: 전기7-11-5
B84: 00201 | C84: 391115ZZ701Z0006 | D84: 벽부형 스피커(철거) | E84: 벽부형,3W | F84: 개 | G84: =내역서!G93 -> 5 | K84: 56900017114 | L84: 통신설비공 | S84: 통신7-11-5
B85: 00201 | C85: 391115ZZ701Z0008 | D85: 천정형 스피커(재사용 철거) | E85: 원형,3W | F85: 개 | G85: =내역서!G94 -> 21 | K85: 56900017114 | L85: 통신설비공 | S85: 통신7-11-5
B86: 00201 | C86: 391115ZZ701Z0009 | D86: 천정형 스피커(철거) | E86: 원형,3W | F86: 개 | G86: =내역서!G95 -> 2 | K86: 56900017114 | L86: 통신설비공 | S86: 통신7-11-5
B87: 00201 | C87: L001010101000087 | D87: 노 무 비 | E87: 통신설비공 | F87: 인 | G87: =IF(H87*I87/100+0.0005 <1, TRUNC(H87*I87/100, 3), TRUNC(H87*I87/100+0.0005, J87)) -> 0
H88: =IF(I88<>0,G88-I88,"")
H89: =IF(I89<>0,G89-I89,"") | O89: =IF(I89*M89=0,"",I89*M89*(N89/100))
H90: =IF(I90<>0,G90-I90,"") | O90: =IF(I90*M90=0,"",I90*M90*(N90/100))
H91: =IF(I91<>0,G91-I91,"") | O91: =IF(I91*M91=0,"",I91*M91*(N91/100))
H92: =IF(I92<>0,G92-I92,"") | O92: =IF(I92*M92=0,"",I92*M92*(N92/100))
H93: =IF(I93<>0,G93-I93,"") | O93: =IF(I93*M93=0,"",I93*M93*(N93/100))
H94: =IF(I94<>0,G94-I94,"") | O94: =IF(I94*M94=0,"",I94*M94*(N94/100))
H95: =IF(I95<>0,G95-I95,"") | O95: =IF(I95*M95=0,"",I95*M95*(N95/100))
H96: =IF(I96<>0,G96-I96,"") | O96: =IF(I96*M96=0,"",I96*M96*(N96/100))
H97: =IF(I97<>0,G97-I97,"") | O97: =IF(I97*M97=0,"",I97*M97*(N97/100))
H98: =IF(I98<>0,G98-I98,"") | O98: =IF(I98*M98=0,"",I98*M98*(N98/100))
H99: =IF(I99<>0,G99-I99,"") | O99: =IF(I99*M99=0,"",I99*M99*(N99/100))
H100: =IF(I100<>0,G100-I100,"") | O100: =IF(I100*M100=0,"",I100*M100*(N100/100))
... H107: =IF(I107<>0,G107-I107,"") | O107: =IF(I107*M107=0,"",I107*M107*(N107/100))
B108: 공종줄 | D108: 2.방송설비공사::2-2.신설
B109: 00202 | C109: 3913170610035664 | D109: 합성수지제 가요전선관 | E109: CD-난연성 16㎜ | F109: m | G109: =내역서!G121 -> 739 | K109: 56900017113 | L109: 통신내선공 | S109: 통신3-1-1
B110: 00202 | C110: 3912130810035750 | D110: 아우트렛박스 | E110: 8각 54㎜ | F110: 개 | G110: =내역서!G123 -> 56 | K110: 56900017113 | L110: 통신내선공 | S110: 통신3-2-1
B111: 00202 | C111: 3912130610035778 | D111: 스위치박스 | E111: 1 개용 54 mm | F111: 개 | G111: =내역서!G124 -> 49 | K111: 56900017113 | L111: 통신내선공 | S111: 통신3-2-1
B112: 00202 | C112: 2612162922076726 | D112: 450/750V 내열비닐절연전선 | E112: HFIX 1.38mm(1.5㎟) | F112: m | G112: =내역서!G126 -> 1870 | K112: 56900017016 | L112: 내선전공 | S112: 전기5-10
B113: 00202 | C113: 5216151220173737 | D113: 스 피 커 | E113: 천정형(3W) 원형 | F113: 개 | G113: =내역서!G127 -> 36 | K113: 56900017114 | L113: 통신설비공 | S113: 통신7-11-5
B114: 00202 | C114: 391115ZZ701Z0004 | D114: ATT 스위치 | E114: 음량조절기 | F114: 개 | G114: =내역서!G128 -> 49 | K114: 56900017114 | L114: 통신설비공 | S114: 전기7-11-5
B115: 00202 | C115: 391115ZZ701Z0007 | D115: 천정형 스피커(재사용 신설) | E115: 원형,3W | F115: 개 | G115: =내역서!G129 -> 21 | K115: 56900017114 | L115: 통신설비공 | S115: 통신7-11-5
B116: 00202 | C116: L001010101000075 | D116: 노 무 비 | E116: 내선전공 | F116: 인 | G116: =IF(H116*I116/100+0.0005 <1, TRUNC(H116*I116/100, 3), TRUNC(H116*I116/100+0.0005, J116)) -> 0
B117: 00202 | C117: L001010101000086 | D117: 노 무 비 | E117: 통신내선공 | F117: 인 | G117: =IF(H117*I117/100+0.0005 <1, TRUNC(H117*I117/100, 3), TRUNC(H117*I117/100+0.0005, J117)) -> 0 | O117: =IF(I117*M117=0,"",I117*M117*(N117/100))
B118: 00202 | C118: L001010101000087 | D118: 노 무 비 | E118: 통신설비공 | F118: 인 | G118: =IF(H118*I118/100+0.0005 <1, TRUNC(H118*I118/100, 3), TRUNC(H118*I118/100+0.0005, J118)) -> 0 | O118: =IF(I118*M118=0,"",I118*M118*(N118/100))
