Workbook
Name ___B100000: #REF!
Name ___B100000: #REF!
Name ___B100000: #REF!
Name ___B100000: #REF!
Name ___B66000: #REF!
Name ___B66000: #REF!
Name ___B66000: #REF!
Name ___B66000: #REF!
Name ___B70000: #REF!
Name ___B70000: #REF!
Name ___B70000: #REF!
Name ___B70000: #REF!
Name ___C67000: #REF!
Name ___C67000: #REF!
Name ___C67000: #REF!
Name ___C67000: #REF!
Name ___C68000: #REF!
Name ___C68000: #REF!
Name ___C68000: #REF!
Name ___C68000: #REF!
Name ___DOG1: #REF!
Name ___DOG2: #REF!
Name ___DOG22: #REF!
Name ___DOG3: #REF!
Name ___DOG33: #REF!
Name ___DOG4: #REF!
Name ___LP1: #REF!
Name ___LP2: #REF!
Name ___NMB96: #REF!
Name ___PI48: #REF!
Name ___PI60: #REF!
Name ___RO110: #REF!
Name ___RO22: #REF!
Name ___RO35: #REF!
Name ___RO45: #REF!
Name ___RO60: #REF!
Name ___RO80: #REF!
Name ___SUB1: #REF!
Name ___SUB2: #REF!
Name ___SUB3: #REF!
Name ___sub4: #REF!
Name ___sub5: #REF!
Name ___TON1: #REF!
Name ___TON2: #REF!
Name ___WW2: #REF!
Name ___WW3: #REF!
Name ___WW6: #REF!
Name ___WW7: #REF!
Name ___WW8: #REF!
Name ___zz5: #REF!
Name __A1: #REF!
Name __A1: #REF!
Name __A1: #REF!
Name __A1: #REF!
Name __B100000: #REF!
Name __B100000: #REF!
Name __B100000: #REF!
Name __B100000: #REF!
Name __b2: #REF!
Name __b2: #REF!

Sheet 간지
A4: 2026 . 07.
A7: 전남광주통합특별시의회 광주청사 환경개선공사
A9: (소방)
A29: - 목 차 -
A33: 설 계 내 역 서
A35: 공 사 시 방 서
A37: 설 계 도 면(별책)
A52: =A4 -> 2026 . 07.
A55: =A7 -> 전남광주통합특별시의회 광주청사 환경개선공사
A57: =A9 -> (소방)
A59: 설 계 내 역 서

Sheet 설계서
A1: 과 장 | C1: 담 당 | E1: 심사자 | G1: 설계자 | I1: 조사자 | K1: 2026년 07월
B4: 2026년도
B5: 공 사 명 | C5: : | D5: =간지!A7&간지!A9 -> 전남광주통합특별시의회 광주청사 환경개선공사(소방)
A6: ◎ | B6: 위 치 | C6: : | D6: 광주광역시 서구 내방로 111
A7: ◎ | B7: 규 모 | C7: : | D7: 소방공사
A10: ◎ | B10: 총공사비 | C10: : | D10: ="일금"&NUMBERSTRING(L10,1)&"원정(\"&TEXT(L10,"#,###")&")" -> 일금영원정(\) | L10: =원가계산서!E32 -> 0
B11: 공급가액 | C11: : | D11: ="일금"&NUMBERSTRING(L11,1)&"원정(\"&TEXT(L11,"#,###")&")" -> 일금영원정(\) | L11: =원가계산서!E27 -> 0
B12: 부가가치세 | C12: : | D12: ="일금"&NUMBERSTRING(L12,1)&"원정(\"&TEXT(L12,"#,###")&")" -> 일금영원정(\) | L12: =원가계산서!E28 -> 0
B13: 도급액 | C13: : | D13: ="일금"&NUMBERSTRING(L13,1)&"원정(\"&TEXT(L13,"#,###")&")" -> 일금영원정(\) | L13: =원가계산서!E29 -> 0
B14: 재해 예방 기술 지도비 | C14: : | D14: ="일금"&NUMBERSTRING(L14,1)&"원정(\"&TEXT(L14,"#,###")&")" -> 일금영원정(\)

Sheet 내역간지1
A7: 1) 내 역 서

Sheet 원가계산서
B1: 공 사 원 가 계 산 서
B2: 공사명 : 전남광주통합특별시의회 광주청사 환경개선공사(소방) | G2: 금액: | H2: =""&NUMBERSTRING(E32,1)&"원정(\"&TEXT(E32,"#,###")&")" -> 영원정(\)
B3: 비 목 | E3: 금 액 | F3: 구 성 비 | G3: 비 고
A4: A1 | B4: 순 공 사 원 가 | C4: 재 료 비 | D4: 직 접 재 료 비 | E4: =공종별총괄집계표!F5 -> 0
A5: A2 | D5: 간 접 재 료 비 | E5: 0
A6: A3 | D6: 작업설, 부산물(△) | E6: 0
A7: AS | D7: [ 소 계 ] | E7: =TRUNC(E4+E5-E6, 0) -> 0
A8: B1 | C8: 노 무 비 | D8: 직 접 노 무 비 | E8: =공종별총괄집계표!H5 -> 0
A9: B2 | D9: 간 접 노 무 비 | E9: =TRUNC(E8*0.175, 0) -> 0 | F9: 직접노무비 * 17.5% | G9: 30일 미만
A10: BS | D10: [ 소 계 ] | E10: =TRUNC(E8+E9, 0) -> 0
A11: C2 | C11: 경 비 | D11: 기 계 경 비 | E11: =공종별총괄집계표!J5 -> 0
A12: C4 | D12: 산 재 보 험 료 | E12: =TRUNC(E10*0.0356, 0) -> 0 | F12: 노무비 * 3.56%
A13: C5 | D13: 고 용 보 험 료 | E13: =TRUNC(E10*0.0101, 0) -> 0 | F13: 노무비 * 1.01%
A14: C6 | D14: 국민 건강 보험료 | E14: =TRUNC(E8*0.03595, 0)*0 -> 0 | F14: 직접노무비 * 3.595%
A15: C7 | D15: 국민 연금 보험료 | E15: =TRUNC(E8*0.0475, 0)*0 -> 0 | F15: 직접노무비 * 4.75%
A16: CB | D16: 노인장기요양보험료 | E16: =TRUNC(E14*0.1314, 0) -> 0 | F16: 건강보험료 * 13.14%
A17: C8 | D17: 퇴직 공제 부금비 | E17: =TRUNC(E8*0.023, 0) -> 0 | F17: 직접노무비 * 2.3%
A18: CA | D18: 산업안전보건관리비 | E18: =TRUNC((E7+E8+(0/1.1))*0.0207, 0) -> 0 | F18: (재료비+직노+관급자재비) * 2.07% | G18: 특수건설공사(소방)
A19: CC | D19: 석면분담금 | E19: =TRUNC(E10*0.00006, 0) -> 0 | F19: 노무비 * 0.006%
A20: CE | D20: 임금채권부담금 | E20: =TRUNC(E10*0.0009, 0) -> 0 | F20: 노무비 * 0.09%
A21: CG | D21: 기 타 경 비 | E21: =TRUNC((E7+E10)*0.05, 0) -> 0 | F21: (재료비+노무비) * 5.0%
A22: CS | D22: [ 소 계 ] | E22: =TRUNC(E11+E12+E13+E14+E15+E17+E18+E16+E21, 0) -> 0
A23: S1 | B23: 계 | E23: =TRUNC(E7+E10+E22, 0) -> 0
A24: D1 | B24: 일 반 관 리 비 | F24: 계 * 8%
A25: D2 | B25: 이 윤 | F25: (노무비+경비+일반관리비) * 10%
A26: DD | B26: 소방시설공사업 배상책임공제 | F26: (총원가+관급자재비)*0.364%
A27: D9 | B27: 공 급 가 액
A28: DB | B28: 부 가 가 치 세 | F28: 공급가액 * 10%
A29: DH | B29: 도 급 액
A30: DH | B30: 관 급 자 재 비 | E30: =공종별총괄집계표!L8 -> 0
A31: DH | B31: 재해 예방 기술 지도비 | F31: 25일 * 231,000 | G31: 365일(12개월) / 15일 = 25일 * 1회단가
A32: S2 | B32: 총 공 사 비 | E32: =TRUNC(E29+E30+E31, -3) -> 0

Sheet 공종별총괄집계표
A1: 공 종 별 집 계 표
A2: [ 전남광주통합특별시의회 광주청사 환경개선공사(소방) ]
A3: 품 명 | B3: 규 격 | C3: 단위 | D3: 수량 | E3: 재 료 비 | G3: 노 무 비 | I3: 경 비 | K3: 합 계 | M3: 비 고 | N3: 공종코드 | O3: 변수 | P3: 상위공종 | Q3: 공종구분 | R3: 공종레벨 | S3: 공종소계 | T3: 원가계산서 연결금액
E4: 단 가 | F4: 금 액 | G4: 단 가 | H4: 금 액 | I4: 단 가 | J4: 금 액 | K4: 단 가 | L4: 금 액
A5: 01 전남광주통합특별시의회 광주청사 환경개선공사(소방) | D5: 1 | E5: =F6+F7 -> 0 | F5: =E5*D5 -> 0 | G5: =H6+H7 -> 0 | H5: =G5*D5 -> 0 | I5: =J6+J7 -> 0 | J5: =I5*D5 -> 0 | K5: =E5+G5+I5 -> 0 | L5: =F5+H5+J5 -> 0 | N5: 01 | R5: 1
A6: 0101 소방기계공사 | D6: 1 | E6: ='공종별집계표-MF'!F5 -> 0 | F6: =E6*D6 -> 0 | G6: ='공종별집계표-MF'!H5 -> 0 | H6: =G6*D6 -> 0 | I6: ='공종별집계표-MF'!J5 -> 0 | J6: =I6*D6 -> 0 | K6: =E6+G6+I6 -> 0 | L6: =F6+H6+J6 -> 0 | N6: 0101 | P6: 01 | R6: 2
A7: 0102 소방전기공사 | D7: 1 | E7: ='공종별집계표-EF'!F5 -> 0 | F7: =E7*D7 -> 0 | G7: ='공종별집계표-EF'!H5 -> 0 | H7: =G7*D7 -> 0 | I7: ='공종별집계표-EF'!J5 -> 0 | J7: =I7*D7 -> 0 | K7: =E7+G7+I7 -> 0 | L7: =F7+H7+J7 -> 0 | N7: 010101 | P7: 0101 | R7: 3
F8: =E8*D8 -> 0 | H8: =G8*D8 -> 0 | J8: =I8*D8 -> 0 | K8: =E8+G8+I8 -> 0 | L8: =F8+H8+J8 -> 0 | N8: 01010101 | P8: 010101 | R8: 4
N9: 0101010101 | P9: 01010101 | R9: 5
N10: 0101010102 | P10: 01010101 | R10: 5
N11: 01010102 | P11: 010101 | R11: 4
N12: 0101010201 | P12: 01010102 | R12: 5
N13: 01010103 | P13: 010101 | R13: 4
N14: 01010104 | P14: 010101 | R14: 4
N15: 01010105 | P15: 010101 | R15: 4
N16: 01010106 | P16: 010101 | R16: 4
N17: 010102 | P17: 0101 | R17: 3
N18: 01010201 | P18: 010102 | R18: 4
N19: 01010202 | P19: 010102 | R19: 4
N20: 01010203 | P20: 010102 | R20: 4
... N25: 010202 | P25: 0102 | R25: 3
A26: [ 합 계 ] | F26: =F5 -> 0 | H26: =H5 -> 0 | J26: =J5 -> 0 | L26: =L5 -> 0

Sheet 내역간지2
A7: 1-1) 내 역 서 ( 소 방 기 계 )

Sheet 공종별집계표-MF
A1: 공 종 별 집 계 표
A2: [ 전남광주통합특별시의회 광주청사 환경개선공사(소방기계) ]
A3: 품 명 | B3: 규 격 | C3: 단위 | D3: 수량 | E3: 재 료 비 | G3: 노 무 비 | I3: 경 비 | K3: 합 계 | M3: 비 고 | N3: 공종코드 | O3: 변수 | P3: 상위공종 | Q3: 공종구분 | R3: 공종레벨 | S3: 공종소계 | T3: 원가계산서 연결금액
E4: 단 가 | F4: 금 액 | G4: 단 가 | H4: 금 액 | I4: 단 가 | J4: 금 액 | K4: 단 가 | L4: 금 액
A5: 01 전남광주통합특별시의회 광주청사 환경개선공사(소방기계) | D5: 1 | E5: =F6+F7+F8+F9 -> 0 | F5: =E5*D5 -> 0 | G5: =H6+H7+H8+H9 -> 0 | H5: =G5*D5 -> 0 | I5: =J6+J7+J8+J9 -> 0 | J5: =I5*D5 -> 0 | K5: =E5+G5+I5 -> 0 | L5: =F5+H5+J5 -> 0 | N5: 01 | R5: 1
A6: 0101 지하 1층 설치공사 | D6: 1 | E6: ='공종별내역서-MF'!F27 -> 0 | F6: =E6*D6 -> 0 | G6: ='공종별내역서-MF'!H27 -> 0 | H6: =G6*D6 -> 0 | I6: ='공종별내역서-MF'!J27 -> 0 | J6: =I6*D6 -> 0 | K6: =E6+G6+I6 -> 0 | L6: =F6+H6+J6 -> 0 | N6: 0101 | P6: 01 | R6: 2
A7: 0102 지상 5층 전면부 설치공사 | D7: 1 | E7: ='공종별내역서-MF'!F75 -> 0 | F7: =E7*D7 -> 0 | G7: ='공종별내역서-MF'!H75 -> 0 | H7: =G7*D7 -> 0 | I7: ='공종별내역서-MF'!J75 -> 0 | J7: =I7*D7 -> 0 | K7: =E7+G7+I7 -> 0 | L7: =F7+H7+J7 -> 0 | N7: 0102 | P7: 01 | R7: 2
A8: 0103 지상 5층 후면부 설치공사 | D8: 1 | E8: ='공종별내역서-MF'!F147 -> 0 | F8: =E8*D8 -> 0 | G8: ='공종별내역서-MF'!H147 -> 0 | H8: =G8*D8 -> 0 | I8: ='공종별내역서-MF'!J147 -> 0 | J8: =I8*D8 -> 0 | K8: =E8+G8+I8 -> 0 | L8: =F8+H8+J8 -> 0 | N8: 0103 | P8: 01 | R8: 2
A9: 0104 임시소방시설 설치공사 | D9: 1 | E9: ='공종별내역서-MF'!F171 -> 0 | F9: =E9*D9 -> 0 | G9: ='공종별내역서-MF'!H171 -> 0 | H9: =G9*D9 -> 0 | I9: ='공종별내역서-MF'!J171 -> 0 | J9: =I9*D9 -> 0 | K9: =E9+G9+I9 -> 0 | L9: =F9+H9+J9 -> 0 | N9: 0104 | P9: 01 | R9: 2
A27: [ 합 계 ] | F27: =F5 -> 0 | H27: =H5 -> 0 | J27: =J5 -> 0 | L27: =L5 -> 0

Sheet 공종별내역서-MF
A1: [ 전남광주통합특별시의회 광주청사 환경개선공사(소방기계) ]
A2: 품 명 | B2: 규 격 | C2: 단위 | D2: 수량 | E2: 재 료 비 | G2: 노 무 비 | I2: 경 비 | K2: 합 계 | M2: 비 고 | N2: 품목코드 | O2: 변수 | P2: 설정 | Q2: 공종코드 | R2: 일위 | S2: 단산 | T2: 자재 | U2: 손료적용 | V2: 손료저장 | W2: 적용율 | X2: JUK1 | Y2: JUK2 | Z2: JUK3 | AA2: JUK4 | AB2: JUK5 | AC2: JUK6 | AD2: JUK7 | AE2: JUK8 | AF2: JUK9 | AG2: JUK10 | AH2: JUK11 | AI2: JUK12 | AJ2: JUK13 | AK2: JUK14 | AL2: JUK15 | AM2: JUK16 | AN2: JUK17 | AO2: JUK18 | AP2: JUK19 | AQ2: JUK20 | AR2: 자재구분 | AS2: 공종구분 | AT2: 공종레벨 | AU2: 공종+자재 | AV2: 고유번호
E3: 단 가 | F3: 금 액 | G3: 단 가 | H3: 금 액 | I3: 단 가 | J3: 금 액 | K3: 단 가 | L3: 금 액
A4: 0101 지하 1층 설치공사 | Q4: 0101
A5: 소방용헤드 | B5: 스프링클러, 플러쉬 조기반응형, 72℃(하) | C5: 개 | D5: 39 | E5: =TRUNC('단가대비표-MF'!O64,0) -> 0 | F5: =TRUNC(E5*D5, 0) -> 0 | G5: =TRUNC('단가대비표-MF'!P64,0) -> 0 | H5: =TRUNC(G5*D5, 0) -> 0 | I5: =TRUNC('단가대비표-MF'!V64,0) -> 0 | J5: =TRUNC(I5*D5, 0) -> 0 | K5: =TRUNC(E5+G5+I5, 0) -> 0 | L5: =TRUNC(F5+H5+J5, 0) -> 0 | N5: 43FA269EA2312574A546013C08556B1B46161 | Q5: 0101 | R5: F | S5: F | T5: T | AU5: 010143FA269EA2312574A546013C08556B1B46161 | AV5: 28
A6: 소방용헤드 | B6: 스프링클러, 플러쉬 조기반응형, 103℃(하) | C6: 개 | D6: 1 | E6: =TRUNC('단가대비표-MF'!O65,0) -> 0 | F6: =TRUNC(E6*D6, 0) -> 0 | G6: =TRUNC('단가대비표-MF'!P65,0) -> 0 | H6: =TRUNC(G6*D6, 0) -> 0 | I6: =TRUNC('단가대비표-MF'!V65,0) -> 0 | J6: =TRUNC(I6*D6, 0) -> 0 | K6: =TRUNC(E6+G6+I6, 0) -> 0 | L6: =TRUNC(F6+H6+J6, 0) -> 0 | N6: 43FA269EA2312574A546013C08556B1B46160 | Q6: 0101 | R6: F | S6: F | T6: T | AU6: 010143FA269EA2312574A546013C08556B1B46160 | AV6: 29
A7: SP후렉시블관 | B7: SP후렉시블관, 2500MM, KFI인증 | C7: 개 | D7: 40 | E7: =TRUNC('단가대비표-MF'!O63,0) -> 0 | F7: =TRUNC(E7*D7, 0) -> 0 | G7: =TRUNC('단가대비표-MF'!P63,0) -> 0 | H7: =TRUNC(G7*D7, 0) -> 0 | I7: =TRUNC('단가대비표-MF'!V63,0) -> 0 | J7: =TRUNC(I7*D7, 0) -> 0 | K7: =TRUNC(E7+G7+I7, 0) -> 0 | L7: =TRUNC(F7+H7+J7, 0) -> 0 | N7: 43FA269EA2312574A546013C2B090B707FAB2 | Q7: 0101 | R7: F | S7: F | T7: T | AU7: 010143FA269EA2312574A546013C2B090B707FAB2 | AV7: 30
A8: 수동식소화기 | B8: 수동식소화기, 자동확산소화기3.3kg | C8: 개 | D8: 1 | E8: =TRUNC('단가대비표-MF'!O58,0) -> 0 | F8: =TRUNC(E8*D8, 0) -> 0 | G8: =TRUNC('단가대비표-MF'!P58,0) -> 0 | H8: =TRUNC(G8*D8, 0) -> 0 | I8: =TRUNC('단가대비표-MF'!V58,0) -> 0 | J8: =TRUNC(I8*D8, 0) -> 0 | K8: =TRUNC(E8+G8+I8, 0) -> 0 | L8: =TRUNC(F8+H8+J8, 0) -> 0 | N8: 43FA269EA2312574AD96B087DAD578EFE56AE | Q8: 0101 | R8: F | S8: F | T8: T | AU8: 010143FA269EA2312574AD96B087DAD578EFE56AE | AV8: 32
A9: 스프링클러헤드 - 철거 | B9: 폐쇄형, 플러쉬, 72℃ | C9: M | D9: 58 | E9: =TRUNC('일위대가목록-MF'!E4,0) -> 0 | F9: =TRUNC(E9*D9, 0) -> 0 | G9: =TRUNC('일위대가목록-MF'!F4,0) -> 0 | H9: =TRUNC(G9*D9, 0) -> 0 | I9: =TRUNC('일위대가목록-MF'!G4,0) -> 0 | J9: =TRUNC(I9*D9, 0) -> 0 | K9: =TRUNC(E9+G9+I9, 0) -> 0 | L9: =TRUNC(F9+H9+J9, 0) -> 0 | M9: 호표 1 | N9: 4469249BA7598CD4BAC6C24E5D1D5 | Q9: 0101 | R9: T | S9: F | T9: F | AU9: 01014469249BA7598CD4BAC6C24E5D1D5 | AV9: 37
A10: SP후렉시블관-철거 | C10: EA | D10: 58 | E10: =TRUNC('일위대가목록-MF'!E5,0) -> 0 | F10: =TRUNC(E10*D10, 0) -> 0 | G10: =TRUNC('일위대가목록-MF'!F5,0) -> 0 | H10: =TRUNC(G10*D10, 0) -> 0 | I10: =TRUNC('일위대가목록-MF'!G5,0) -> 0 | J10: =TRUNC(I10*D10, 0) -> 0 | K10: =TRUNC(E10+G10+I10, 0) -> 0 | L10: =TRUNC(F10+H10+J10, 0) -> 0 | M10: 호표 2 | N10: 44202E96256A0BA4CA86BFF04AECB | Q10: 0101 | R10: T | S10: F | T10: F | AU10: 010144202E96256A0BA4CA86BFF04AECB | AV10: 143
A11: 보통인부 | B11: 일반공사 직종 | C11: 인 | D11: ='공량산출근거서-MF'!K11 -> 2 | E11: =TRUNC('단가대비표-MF'!O69,0) -> 0 | F11: =TRUNC(E11*D11, 0) -> 0 | G11: =TRUNC('단가대비표-MF'!P69,0) -> 0 | H11: =TRUNC(G11*D11, 0) -> 0 | I11: =TRUNC('단가대비표-MF'!V69,0) -> 0 | J11: =TRUNC(I11*D11, 0) -> 0 | K11: =TRUNC(E11+G11+I11, 0) -> 0 | L11: =TRUNC(F11+H11+J11, 0) -> 0 | N11: 447F2693B791C424E2E645D4AF816276BBD9F | Q11: 0101 | R11: F | S11: F | T11: T | X11: 1 | AU11: 0101447F2693B791C424E2E645D4AF816276BBD9F | AV11: 157
A12: 배관공 | B12: 일반공사 직종 | C12: 인 | D12: ='공량산출근거서-MF'!K12 -> 5 | E12: =TRUNC('단가대비표-MF'!O73,0) -> 0 | F12: =TRUNC(E12*D12, 0) -> 0 | G12: =TRUNC('단가대비표-MF'!P73,0) -> 0 | H12: =TRUNC(G12*D12, 0) -> 0 | I12: =TRUNC('단가대비표-MF'!V73,0) -> 0 | J12: =TRUNC(I12*D12, 0) -> 0 | K12: =TRUNC(E12+G12+I12, 0) -> 0 | L12: =TRUNC(F12+H12+J12, 0) -> 0 | N12: 447F2693B791C424E2E645D4AF816276BBEAD | Q12: 0101 | R12: F | S12: F | T12: T | X12: 1 | AU12: 0101447F2693B791C424E2E645D4AF816276BBEAD | AV12: 158
A13: 공구손료 | B13: 인력품의 2% | C13: 식 | D13: 1 | E13: =ROUNDDOWN(SUMIF(X5:X13, RIGHTB(N13, 1), H5:H13)*W13, 0) -> 0 | F13: =TRUNC(E13*D13, 0) -> 0 | G13: 0 | H13: =TRUNC(G13*D13, 0) -> 0 | I13: 0 | J13: =TRUNC(I13*D13, 0) -> 0 | K13: =TRUNC(E13+G13+I13, 0) -> 0 | L13: =TRUNC(F13+H13+J13, 0) -> 0 | N13: 45B92D956649C4640696D9AD49B001 | Q13: 0101 | R13: F | S13: F | T13: F | U13: 1 | V13: 0 | W13: 0.02 | AU13: 010145B92D956649C4640696D9AD49B001 | AV13: 163
Q14: 0101
Q15: 0101
Q16: 0101
Q17: 0101
Q18: 0101
Q19: 0101
Q20: 0101
Q21: 0101
Q22: 0101
Q23: 0101
Q24: 0101
Q25: 0101
Q26: 0101
A27: [ 합 계 ] | F27: =SUMIF(Q5:Q26,"0101",F5:F26) -> 0 | H27: =SUMIF(Q5:Q26,"0101",H5:H26) -> 0 | J27: =SUMIF(Q5:Q26,"0101",J5:J26) -> 0 | L27: =SUMIF(Q5:Q26,"0101",L5:L26) -> 0 | N27: TOTAL
A28: 0102 지상 5층 전면부 설치공사 | Q28: 0102
A29: 배관용탄소강관 | B29: 배관용탄소강관, SPP(백관), ∮50mm, 반제품 | C29: M | D29: 9 | E29: =TRUNC('단가대비표-MF'!O32,0) -> 0 | F29: =TRUNC(E29*D29, 0) -> 0 | G29: =TRUNC('단가대비표-MF'!P32,0) -> 0 | H29: =TRUNC(G29*D29, 0) -> 0 | I29: =TRUNC('단가대비표-MF'!V32,0) -> 0 | J29: =TRUNC(I29*D29, 0) -> 0 | K29: =TRUNC(E29+G29+I29, 0) -> 0 | L29: =TRUNC(F29+H29+J29, 0) -> 0 | N29: 43FA209422A86EB481460F1290712EE0D0EE7 | Q29: 0102 | R29: F | S29: F | T29: T | X29: 1 | AU29: 010243FA209422A86EB481460F1290712EE0D0EE7 | AV29: 39
A30: 배관용탄소강관 | B30: 배관용탄소강관, SPP(백관), ∮40mm, 반제품 | C30: M | D30: 97 | E30: =TRUNC('단가대비표-MF'!O31,0) -> 0 | F30: =TRUNC(E30*D30, 0) -> 0 | G30: =TRUNC('단가대비표-MF'!P31,0) -> 0 | H30: =TRUNC(G30*D30, 0) -> 0 | I30: =TRUNC('단가대비표-MF'!V31,0) -> 0 | J30: =TRUNC(I30*D30, 0) -> 0 | K30: =TRUNC(E30+G30+I30, 0) -> 0 | L30: =TRUNC(F30+H30+J30, 0) -> 0 | N30: 43FA209422A86EB481460F1290712EE0D0EE6 | Q30: 0102 | R30: F | S30: F | T30: T | X30: 1 | AU30: 010243FA209422A86EB481460F1290712EE0D0EE6 | AV30: 40
A31: 배관용탄소강관 | B31: 배관용탄소강관, SPP(백관), ∮32mm, 반제품 | C31: M | D31: 47 | E31: =TRUNC('단가대비표-MF'!O30,0) -> 0 | F31: =TRUNC(E31*D31, 0) -> 0 | G31: =TRUNC('단가대비표-MF'!P30,0) -> 0 | H31: =TRUNC(G31*D31, 0) -> 0 | I31: =TRUNC('단가대비표-MF'!V30,0) -> 0 | J31: =TRUNC(I31*D31, 0) -> 0 | K31: =TRUNC(E31+G31+I31, 0) -> 0 | L31: =TRUNC(F31+H31+J31, 0) -> 0 | N31: 43FA209422A86EB481460F1290712EE0D0EE9 | Q31: 0102 | R31: F | S31: F | T31: T | X31: 1 | AU31: 010243FA209422A86EB481460F1290712EE0D0EE9 | AV31: 41
A32: 배관용탄소강관 | B32: 배관용탄소강관, SPP(백관), ∮25mm, 반제품 | C32: M | D32: 108 | E32: =TRUNC('단가대비표-MF'!O29,0) -> 0 | F32: =TRUNC(E32*D32, 0) -> 0 | G32: =TRUNC('단가대비표-MF'!P29,0) -> 0 | H32: =TRUNC(G32*D32, 0) -> 0 | I32: =TRUNC('단가대비표-MF'!V29,0) -> 0 | J32: =TRUNC(I32*D32, 0) -> 0 | K32: =TRUNC(E32+G32+I32, 0) -> 0 | L32: =TRUNC(F32+H32+J32, 0) -> 0 | N32: 43FA209422A86EB481460F1290712EE0D0EE8 | Q32: 0102 | R32: F | S32: F | T32: T | X32: 1 | AU32: 010243FA209422A86EB481460F1290712EE0D0EE8 | AV32: 42
A33: 잡재료비 | B33: 주재료비의 3% | C33: 식 | D33: 1 | E33: =ROUNDDOWN(SUMIF(X29:X68, RIGHTB(N33, 1), F29:F68)*W33, 0) -> 0 | F33: =TRUNC(E33*D33, 0) -> 0 | G33: 0 | H33: =TRUNC(G33*D33, 0) -> 0 | I33: 0 | J33: =TRUNC(I33*D33, 0) -> 0 | K33: =TRUNC(E33+G33+I33, 0) -> 0 | L33: =TRUNC(F33+H33+J33, 0) -> 0 | N33: 45B92D956649C4640696D9AD49B001 | Q33: 0102 | R33: F | S33: F | T33: F | U33: 0 | V33: 0 | W33: 0.03 | AU33: 010245B92D956649C4640696D9AD49B001 | AV33: 164
A34: 관보온(고무발포) | B34: 25t*D50 | C34: M | D34: 9 | E34: =TRUNC('일위대가목록-MF'!E6,0) -> 0 | F34: =TRUNC(E34*D34, 0) -> 0 | G34: =TRUNC('일위대가목록-MF'!F6,0) -> 0 | H34: =TRUNC(G34*D34, 0) -> 0 | I34: =TRUNC('일위대가목록-MF'!G6,0) -> 0 | J34: =TRUNC(I34*D34, 0) -> 0 | K34: =TRUNC(E34+G34+I34, 0) -> 0 | L34: =TRUNC(F34+H34+J34, 0) -> 0 | M34: 호표 3 | N34: 44692B9028ADF7E4040656C731C57 | Q34: 0102 | R34: T | S34: F | T34: F | AU34: 010244692B9028ADF7E4040656C731C57 | AV34: 43
A35: 관보온(고무발포) | B35: 25t*D40 | C35: M | D35: 89 | E35: =TRUNC('일위대가목록-MF'!E7,0) -> 0 | F35: =TRUNC(E35*D35, 0) -> 0 | G35: =TRUNC('일위대가목록-MF'!F7,0) -> 0 | H35: =TRUNC(G35*D35, 0) -> 0 | I35: =TRUNC('일위대가목록-MF'!G7,0) -> 0 | J35: =TRUNC(I35*D35, 0) -> 0 | K35: =TRUNC(E35+G35+I35, 0) -> 0 | L35: =TRUNC(F35+H35+J35, 0) -> 0 | M35: 호표 4 | N35: 44692B9028ADCAA4A5864A42D6818 | Q35: 0102 | R35: T | S35: F | T35: F | AU35: 010244692B9028ADCAA4A5864A42D6818 | AV35: 44
A36: 관보온(고무발포) | B36: 25t*D32 | C36: M | D36: 43 | E36: =TRUNC('일위대가목록-MF'!E8,0) -> 0 | F36: =TRUNC(E36*D36, 0) -> 0 | G36: =TRUNC('일위대가목록-MF'!F8,0) -> 0 | H36: =TRUNC(G36*D36, 0) -> 0 | I36: =TRUNC('일위대가목록-MF'!G8,0) -> 0 | J36: =TRUNC(I36*D36, 0) -> 0 | K36: =TRUNC(E36+G36+I36, 0) -> 0 | L36: =TRUNC(F36+H36+J36, 0) -> 0 | M36: 호표 5 | N36: 44692B9028ADD404FCA6AC1D166FA | Q36: 0102 | R36: T | S36: F | T36: F | AU36: 010244692B9028ADD404FCA6AC1D166FA | AV36: 45
A37: 관보온(고무발포) | B37: 25t*D25 | C37: M | D37: 99 | E37: =TRUNC('일위대가목록-MF'!E9,0) -> 0 | F37: =TRUNC(E37*D37, 0) -> 0 | G37: =TRUNC('일위대가목록-MF'!F9,0) -> 0 | H37: =TRUNC(G37*D37, 0) -> 0 | I37: =TRUNC('일위대가목록-MF'!G9,0) -> 0 | J37: =TRUNC(I37*D37, 0) -> 0 | K37: =TRUNC(E37+G37+I37, 0) -> 0 | L37: =TRUNC(F37+H37+J37, 0) -> 0 | M37: 호표 6 | N37: 44692B9028ADAFC4C956C8233057A | Q37: 0102 | R37: T | S37: F | T37: F | AU37: 010244692B9028ADAFC4C956C8233057A | AV37: 46
A38: 나사식강관제관이음쇠 | B38: 나사식강관제관이음쇠, ∮50mm, 백엘보, 나사 | C38: 개 | D38: 9 | E38: =TRUNC('단가대비표-MF'!O46,0) -> 0 | F38: =TRUNC(E38*D38, 0) -> 0 | G38: =TRUNC('단가대비표-MF'!P46,0) -> 0 | H38: =TRUNC(G38*D38, 0) -> 0 | I38: =TRUNC('단가대비표-MF'!V46,0) -> 0 | J38: =TRUNC(I38*D38, 0) -> 0 | K38: =TRUNC(E38+G38+I38, 0) -> 0 | L38: =TRUNC(F38+H38+J38, 0) -> 0 | N38: 43FA209422A86E94DA16CD542A8B2289FBF83 | Q38: 0102 | R38: F | S38: F | T38: T | AU38: 010243FA209422A86E94DA16CD542A8B2289FBF83 | AV38: 47
A39: 나사식강관제관이음쇠 | B39: 나사식강관제관이음쇠, ∮40mm, 백엘보, 나사 | C39: 개 | D39: 4 | E39: =TRUNC('단가대비표-MF'!O45,0) -> 0 | F39: =TRUNC(E39*D39, 0) -> 0 | G39: =TRUNC('단가대비표-MF'!P45,0) -> 0 | H39: =TRUNC(G39*D39, 0) -> 0 | I39: =TRUNC('단가대비표-MF'!V45,0) -> 0 | J39: =TRUNC(I39*D39, 0) -> 0 | K39: =TRUNC(E39+G39+I39, 0) -> 0 | L39: =TRUNC(F39+H39+J39, 0) -> 0 | N39: 43FA209422A86E94DA16CD542A8B2289FBF80 | Q39: 0102 | R39: F | S39: F | T39: T | AU39: 010243FA209422A86E94DA16CD542A8B2289FBF80 | AV39: 48
A40: 나사식강관제관이음쇠 | B40: 나사식강관제관이음쇠, ∮32mm, 백엘보, 나사 | C40: 개 | D40: 1 | E40: =TRUNC('단가대비표-MF'!O44,0) -> 0 | F40: =TRUNC(E40*D40, 0) -> 0 | G40: =TRUNC('단가대비표-MF'!P44,0) -> 0 | H40: =TRUNC(G40*D40, 0) -> 0 | I40: =TRUNC('단가대비표-MF'!V44,0) -> 0 | J40: =TRUNC(I40*D40, 0) -> 0 | K40: =TRUNC(E40+G40+I40, 0) -> 0 | L40: =TRUNC(F40+H40+J40, 0) -> 0 | N40: 43FA209422A86E94DA16CD542A8B2289FBF81 | Q40: 0102 | R40: F | S40: F | T40: T | AU40: 010243FA209422A86E94DA16CD542A8B2289FBF81 | AV40: 49
...

Sheet 공량산출근거서-MF
A1: 공 량 산 출 근 거 서
A2: [ 전남광주통합특별시의회 광주청사 환경개선공사(소방기계) ]
A3: 코 드 | B3: 품 명 | C3: 규 격 | D3: 단위 | E3: 품 셈 목 록 | F3: 수 량 | G3: 할증 | H3: 노임할증-1 | I3: 노임할증-2 | J3: 노임할증-3 | K3: 내역수량 | L3: 직 종 명 | M3: 공 량 | N3: 계 | O3: 번 호 | P3: 비 고 | T3: 공종+자재 | V3: 보통인부 | W3: 배관공
B4: 01 지하 1층 설치공사
A5: 43FA269EA2312574A546013C08556B1B46161 | B5: 소방용헤드 | C5: 스프링클러, 플러쉬 조기반응형, 72℃(하) | D5: 개 | E5: 소방 6-3-1 | F5: 39 | G5: 0 | K5: 39 | L5: 보통인부 | M5: =0.037*(H5+100)/100*(I5+100)/100*(J5+100)/100 -> 0.037 | N5: =F5*M5 -> 1.443 | O5: 노임 1 | P5: 0.037*1 | Q5: 0101 | R5: 447F2693B791C424E2E645D4AF816276BBD9F | S5: 0.037 | T5: 010143FA269EA2312574A546013C08556B1B46161 | V5: =N5 -> 1.443
L6: 배관공 | M6: =0.092*(H5+100)/100*(I5+100)/100*(J5+100)/100 -> 0.092 | N6: =F5*M6 -> 3.588 | O6: 노임 5 | P6: 0.092*1 | Q6: 0101 | R6: 447F2693B791C424E2E645D4AF816276BBEAD | S6: 0.092 | T6: 010143FA269EA2312574A546013C08556B1B46161 | W6: =N6 -> 3.588
A7: 43FA269EA2312574A546013C08556B1B46160 | B7: 소방용헤드 | C7: 스프링클러, 플러쉬 조기반응형, 103℃(하) | D7: 개 | E7: 소방 6-3-1 | F7: 1 | G7: 0 | K7: 1 | L7: 보통인부 | M7: =0.037*(H7+100)/100*(I7+100)/100*(J7+100)/100 -> 0.037 | N7: =F7*M7 -> 0.037 | O7: 노임 1 | P7: 0.037*1 | Q7: 0101 | R7: 447F2693B791C424E2E645D4AF816276BBD9F | S7: 0.037 | T7: 010143FA269EA2312574A546013C08556B1B46160 | V7: =N7 -> 0.037
L8: 배관공 | M8: =0.092*(H7+100)/100*(I7+100)/100*(J7+100)/100 -> 0.092 | N8: =F7*M8 -> 0.092 | O8: 노임 5 | P8: 0.092*1 | Q8: 0101 | R8: 447F2693B791C424E2E645D4AF816276BBEAD | S8: 0.092 | T8: 010143FA269EA2312574A546013C08556B1B46160 | W8: =N8 -> 0.092
A9: 43FA269EA2312574A546013C2B090B707FAB2 | B9: SP후렉시블관 | C9: SP후렉시블관, 2500MM, KFI인증 | D9: 개 | E9: 소방-6-3-2 | F9: 40 | G9: 0 | H9: 0 | I9: 0 | J9: 0 | K9: 40 | L9: 보통인부 | M9: =0.029*(H9+100)/100*(I9+100)/100*(J9+100)/100 -> 0.029 | N9: =F9*M9 -> 1.16 | O9: 노임 1 | P9: 0.029*1 | Q9: 0101 | R9: 447F2693B791C424E2E645D4AF816276BBD9F | S9: 0.029 | T9: 010143FA269EA2312574A546013C2B090B707FAB2 | V9: =N9 -> 1.16
L10: 배관공 | M10: =0.046*(H9+100)/100*(I9+100)/100*(J9+100)/100 -> 0.046 | N10: =F9*M10 -> 1.84 | O10: 노임 5 | P10: 0.046*1 | Q10: 0101 | R10: 447F2693B791C424E2E645D4AF816276BBEAD | S10: 0.046 | T10: 010143FA269EA2312574A546013C2B090B707FAB2 | W10: =N10 -> 1.84
A11: 447F2693B791C424E2E645D4AF816276BBD9F | B11: 보통인부 | C11: 일반공사 직종 | D11: 인 | F11: =SUM(V5:V10) -> 2.64 | K11: =IF(TRUNC(F11*[1]공량설정!B2/100, [1]공량설정!C3) = 0, 1, TRUNC(F11*[1]공량설정!B2/100, [1]공량설정!C3)) -> 2 | O11: 노임 1 | Q11: 0101 | T11: 0101447F2693B791C424E2E645D4AF816276BBD9F
A12: 447F2693B791C424E2E645D4AF816276BBEAD | B12: 배관공 | C12: 일반공사 직종 | D12: 인 | F12: =SUM(W5:W10) -> 5.52 | K12: =IF(TRUNC(F12*[1]공량설정!B2/100, [1]공량설정!C4) = 0, 1, TRUNC(F12*[1]공량설정!B2/100, [1]공량설정!C4)) -> 5 | O12: 노임 5 | Q12: 0101 | T12: 0101447F2693B791C424E2E645D4AF816276BBEAD
B13: 02 지상 5층 전면부 설치공사
A14: 43FA209422A86EB481460F1290712EE0D0EE7 | B14: 배관용탄소강관 | C14: 배관용탄소강관, SPP(백관), ∮50mm, 반제품 | D14: M | E14: 기계 1-1-2 | F14: 9 | G14: 10 | H14: 0 | I14: 0 | J14: 0 | K14: 9 | L14: 보통인부 | M14: =0.027*(H14+100)/100*(I14+100)/100*(J14+100)/100 -> 0.027 | N14: =F14*M14 -> 0.243 | O14: 노임 1 | P14: 0.027*1 | Q14: 0102 | R14: 447F2693B791C424E2E645D4AF816276BBD9F | S14: 0.027 | T14: 010243FA209422A86EB481460F1290712EE0D0EE7 | V14: =N14 -> 0.243
L15: 배관공 | M15: =0.081*(H14+100)/100*(I14+100)/100*(J14+100)/100 -> 0.081 | N15: =F14*M15 -> 0.729 | O15: 노임 5 | P15: 0.081*1 | Q15: 0102 | R15: 447F2693B791C424E2E645D4AF816276BBEAD | S15: 0.081 | T15: 010243FA209422A86EB481460F1290712EE0D0EE7 | W15: =N15 -> 0.729
A16: 43FA209422A86EB481460F1290712EE0D0EE6 | B16: 배관용탄소강관 | C16: 배관용탄소강관, SPP(백관), ∮40mm, 반제품 | D16: M | E16: 기계 1-1-2 | F16: 89 | G16: 10 | K16: 97 | L16: 보통인부 | M16: =0.022*(H16+100)/100*(I16+100)/100*(J16+100)/100 -> 0.022 | N16: =F16*M16 -> 1.958 | O16: 노임 1 | P16: 0.022*1 | Q16: 0102 | R16: 447F2693B791C424E2E645D4AF816276BBD9F | S16: 0.022 | T16: 010243FA209422A86EB481460F1290712EE0D0EE6 | V16: =N16 -> 1.958
L17: 배관공 | M17: =0.067*(H16+100)/100*(I16+100)/100*(J16+100)/100 -> 0.067 | N17: =F16*M17 -> 5.963 | O17: 노임 5 | P17: 0.067*1 | Q17: 0102 | R17: 447F2693B791C424E2E645D4AF816276BBEAD | S17: 0.067 | T17: 010243FA209422A86EB481460F1290712EE0D0EE6 | W17: =N17 -> 5.963
A18: 43FA209422A86EB481460F1290712EE0D0EE9 | B18: 배관용탄소강관 | C18: 배관용탄소강관, SPP(백관), ∮32mm, 반제품 | D18: M | E18: 기계 1-1-2 | F18: 43 | G18: 10 | H18: 0 | I18: 0 | J18: 0 | K18: 47 | L18: 보통인부 | M18: =0.02*(H18+100)/100*(I18+100)/100*(J18+100)/100 -> 0.02 | N18: =F18*M18 -> 0.86 | O18: 노임 1 | P18: 0.02*1 | Q18: 0102 | R18: 447F2693B791C424E2E645D4AF816276BBD9F | S18: 0.02 | T18: 010243FA209422A86EB481460F1290712EE0D0EE9 | V18: =N18 -> 0.86
L19: 배관공 | M19: =0.06*(H18+100)/100*(I18+100)/100*(J18+100)/100 -> 0.06 | N19: =F18*M19 -> 2.58 | O19: 노임 5 | P19: 0.06*1 | Q19: 0102 | R19: 447F2693B791C424E2E645D4AF816276BBEAD | S19: 0.06 | T19: 010243FA209422A86EB481460F1290712EE0D0EE9 | W19: =N19 -> 2.58
A20: 43FA209422A86EB481460F1290712EE0D0EE8 | B20: 배관용탄소강관 | C20: 배관용탄소강관, SPP(백관), ∮25mm, 반제품 | D20: M | E20: 기계 1-1-2 | F20: 99 | G20: 10 | K20: 108 | L20: 보통인부 | M20: =0.017*(H20+100)/100*(I20+100)/100*(J20+100)/100 -> 0.017 | N20: =F20*M20 -> 1.683 | O20: 노임 1 | P20: 0.017*1 | Q20: 0102 | R20: 447F2693B791C424E2E645D4AF816276BBD9F | S20: 0.017 | T20: 010243FA209422A86EB481460F1290712EE0D0EE8 | V20: =N20 -> 1.683
L21: 배관공 | M21: =0.05*(H20+100)/100*(I20+100)/100*(J20+100)/100 -> 0.05 | N21: =F20*M21 -> 4.95 | O21: 노임 5 | P21: 0.05*1 | Q21: 0102 | R21: 447F2693B791C424E2E645D4AF816276BBEAD | S21: 0.05 | T21: 010243FA209422A86EB481460F1290712EE0D0EE8 | W21: =N21 -> 4.95
A22: 43FA269EA2312574A546013C08556B1B46161 | B22: 소방용헤드 | C22: 스프링클러, 플러쉬 조기반응형, 72℃(하) | D22: 개 | E22: 소방 6-3-1 | F22: 88 | G22: 0 | K22: 88 | L22: 보통인부 | M22: =0.037*(H22+100)/100*(I22+100)/100*(J22+100)/100 -> 0.037 | N22: =F22*M22 -> 3.256 | O22: 노임 1 | P22: 0.037*1 | Q22: 0102 | R22: 447F2693B791C424E2E645D4AF816276BBD9F | S22: 0.037 | T22: 010243FA269EA2312574A546013C08556B1B46161 | V22: =N22 -> 3.256
L23: 배관공 | M23: =0.092*(H22+100)/100*(I22+100)/100*(J22+100)/100 -> 0.092 | N23: =F22*M23 -> 8.096 | O23: 노임 5 | P23: 0.092*1 | Q23: 0102 | R23: 447F2693B791C424E2E645D4AF816276BBEAD | S23: 0.092 | T23: 010243FA269EA2312574A546013C08556B1B46161 | W23: =N23 -> 8.096
A24: 43FA269EA2312574A546013C08556B1B46160 | B24: 소방용헤드 | C24: 스프링클러, 플러쉬 조기반응형, 103℃(하) | D24: 개 | E24: 소방 6-3-1 | F24: 3 | G24: 0 | K24: 3 | L24: 보통인부 | M24: =0.037*(H24+100)/100*(I24+100)/100*(J24+100)/100 -> 0.037 | N24: =F24*M24 -> 0.111 | O24: 노임 1 | P24: 0.037*1 | Q24: 0102 | R24: 447F2693B791C424E2E645D4AF816276BBD9F | S24: 0.037 | T24: 010243FA269EA2312574A546013C08556B1B46160 | V24: =N24 -> 0.111
L25: 배관공 | M25: =0.092*(H24+100)/100*(I24+100)/100*(J24+100)/100 -> 0.092 | N25: =F24*M25 -> 0.276 | O25: 노임 5 | P25: 0.092*1 | Q25: 0102 | R25: 447F2693B791C424E2E645D4AF816276BBEAD | S25: 0.092 | T25: 010243FA269EA2312574A546013C08556B1B46160 | W25: =N25 -> 0.276
A26: 43FA269EA2312574A546013C2B090B707FAB2 | B26: SP후렉시블관 | C26: SP후렉시블관, 2500MM, KFI인증 | D26: 개 | E26: 소방-6-3-2 | F26: 91 | G26: 0 | H26: 0 | I26: 0 | J26: 0 | K26: 91 | L26: 보통인부 | M26: =0.029*(H26+100)/100*(I26+100)/100*(J26+100)/100 -> 0.029 | N26: =F26*M26 -> 2.639 | O26: 노임 1 | P26: 0.029*1 | Q26: 0102 | R26: 447F2693B791C424E2E645D4AF816276BBD9F | S26: 0.029 | T26: 010243FA269EA2312574A546013C2B090B707FAB2 | V26: =N26 -> 2.639
L27: 배관공 | M27: =0.046*(H26+100)/100*(I26+100)/100*(J26+100)/100 -> 0.046 | N27: =F26*M27 -> 4.186 | O27: 노임 5 | P27: 0.046*1 | Q27: 0102 | R27: 447F2693B791C424E2E645D4AF816276BBEAD | S27: 0.046 | T27: 010243FA269EA2312574A546013C2B090B707FAB2 | W27: =N27 -> 4.186
A28: 447F2693B791C424E2E645D4AF816276BBD9F | B28: 보통인부 | C28: 일반공사 직종 | D28: 인 | F28: =SUM(V14:V27) -> 10.75 | K28: =IF(TRUNC(F28*[1]공량설정!B5/100, [1]공량설정!C6) = 0, 1, TRUNC(F28*[1]공량설정!B5/100, [1]공량설정!C6)) -> 10 | O28: 노임 1 | Q28: 0102 | T28: 0102447F2693B791C424E2E645D4AF816276BBD9F
A29: 447F2693B791C424E2E645D4AF816276BBEAD | B29: 배관공 | C29: 일반공사 직종 | D29: 인 | F29: =SUM(W14:W27) -> 26.78 | K29: =IF(TRUNC(F29*[1]공량설정!B5/100, [1]공량설정!C7) = 0, 1, TRUNC(F29*[1]공량설정!B5/100, [1]공량설정!C7)) -> 26 | O29: 노임 5 | Q29: 0102 | T29: 0102447F2693B791C424E2E645D4AF816276BBEAD
B30: 03 지상 5층 후면부 설치공사
A31: 43FA209422A86EB481460F1290712EE0D096E | B31: 배관용탄소강관 | C31: 배관용탄소강관, SPP(백관), ∮100mm, 반제품 | D31: M | E31: 기계 1-1-2 | F31: 26 | G31: 10 | K31: 28 | L31: 보통인부 | M31: =0.056*(H31+100)/100*(I31+100)/100*(J31+100)/100 -> 0.056 | N31: =F31*M31 -> 1.456 | O31: 노임 1 | P31: 0.056*1 | Q31: 0103 | R31: 447F2693B791C424E2E645D4AF816276BBD9F | S31: 0.056 | T31: 010343FA209422A86EB481460F1290712EE0D096E | V31: =N31 -> 1.456
L32: 배관공 | M32: =0.167*(H31+100)/100*(I31+100)/100*(J31+100)/100 -> 0.167 | N32: =F31*M32 -> 4.342 | O32: 노임 5 | P32: 0.167*1 | Q32: 0103 | R32: 447F2693B791C424E2E645D4AF816276BBEAD | S32: 0.167 | T32: 010343FA209422A86EB481460F1290712EE0D096E | W32: =N32 -> 4.342
A33: 43FA209422A86EB481460F1290712EE0D096C | B33: 배관용탄소강관 | C33: 배관용탄소강관, SPP(백관), ∮65mm, 반제품 | D33: M | E33: 기계 1-1-2 | F33: 14 | G33: 10 | K33: 15 | L33: 보통인부 | M33: =0.033*(H33+100)/100*(I33+100)/100*(J33+100)/100 -> 0.033 | N33: =F33*M33 -> 0.462 | O33: 노임 1 | P33: 0.033*1 | Q33: 0103 | R33: 447F2693B791C424E2E645D4AF816276BBD9F | S33: 0.033 | T33: 010343FA209422A86EB481460F1290712EE0D096C | V33: =N33 -> 0.462
L34: 배관공 | M34: =0.1*(H33+100)/100*(I33+100)/100*(J33+100)/100 -> 0.1 | N34: =F33*M34 -> 1.4 | O34: 노임 5 | P34: 0.1*1 | Q34: 0103 | R34: 447F2693B791C424E2E645D4AF816276BBEAD | S34: 0.1 | T34: 010343FA209422A86EB481460F1290712EE0D096C | W34: =N34 -> 1.4
A35: 43FA209422A86EB481460F1290712EE0D0EE7 | B35: 배관용탄소강관 | C35: 배관용탄소강관, SPP(백관), ∮50mm, 반제품 | D35: M | E35: 기계 1-1-2 | F35: 15 | G35: 10 | H35: 0 | I35: 0 | J35: 0 | K35: 16 | L35: 보통인부 | M35: =0.027*(H35+100)/100*(I35+100)/100*(J35+100)/100 -> 0.027 | N35: =F35*M35 -> 0.405 | O35: 노임 1 | P35: 0.027*1 | Q35: 0103 | R35: 447F2693B791C424E2E645D4AF816276BBD9F | S35: 0.027 | T35: 010343FA209422A86EB481460F1290712EE0D0EE7 | V35: =N35 -> 0.405
L36: 배관공 | M36: =0.081*(H35+100)/100*(I35+100)/100*(J35+100)/100 -> 0.081 | N36: =F35*M36 -> 1.215 | O36: 노임 5 | P36: 0.081*1 | Q36: 0103 | R36: 447F2693B791C424E2E645D4AF816276BBEAD | S36: 0.081 | T36: 010343FA209422A86EB481460F1290712EE0D0EE7 | W36: =N36 -> 1.215
A37: 43FA209422A86EB481460F1290712EE0D0EE6 | B37: 배관용탄소강관 | C37: 배관용탄소강관, SPP(백관), ∮40mm, 반제품 | D37: M | E37: 기계 1-1-2 | F37: 2 | G37: 10 | K37: 2 | L37: 보통인부 | M37: =0.022*(H37+100)/100*(I37+100)/100*(J37+100)/100 -> 0.022 | N37: =F37*M37 -> 0.044 | O37: 노임 1 | P37: 0.022*1 | Q37: 0103 | R37: 447F2693B791C424E2E645D4AF816276BBD9F | S37: 0.022 | T37: 010343FA209422A86EB481460F1290712EE0D0EE6 | V37: =N37 -> 0.044
L38: 배관공 | M38: =0.067*(H37+100)/100*(I37+100)/100*(J37+100)/100 -> 0.067 | N38: =F37*M38 -> 0.134 | O38: 노임 5 | P38: 0.067*1 | Q38: 0103 | R38: 447F2693B791C424E2E645D4AF816276BBEAD | S38: 0.067 | T38: 010343FA209422A86EB481460F1290712EE0D0EE6 | W38: =N38 -> 0.134
A39: 43FA209422A86EB481460F1290712EE0D0EE9 | B39: 배관용탄소강관 | C39: 배관용탄소강관, SPP(백관), ∮32mm, 반제품 | D39: M | E39: 기계 1-1-2 | F39: 9 | G39: 10 | H39: 0 | I39: 0 | J39: 0 | K39: 9 | L39: 보통인부 | M39: =0.02*(H39+100)/100*(I39+100)/100*(J39+100)/100 -> 0.02 | N39: =F39*M39 -> 0.18 | O39: 노임 1 | P39: 0.02*1 | Q39: 0103 | R39: 447F2693B791C424E2E645D4AF816276BBD9F | S39: 0.02 | T39: 010343FA209422A86EB481460F1290712EE0D0EE9 | V39: =N39 -> 0.18
L40: 배관공 | M40: =0.06*(H39+100)/100*(I39+100)/100*(J39+100)/100 -> 0.06 | N40: =F39*M40 -> 0.54 | O40: 노임 5 | P40: 0.06*1 | Q40: 0103 | R40: 447F2693B791C424E2E645D4AF816276BBEAD | S40: 0.06 | T40: 010343FA209422A86EB481460F1290712EE0D0EE9 | W40: =N40 -> 0.54
...

Sheet 일위대가목록-MF
B1: 일 위 대 가 목 록
B2: [ 전남광주통합특별시의회 광주청사 환경개선공사(소방기계) ]
A3: 코 드 | B3: 품 명 | C3: 규 격 | D3: 단위 | E3: 재 료 비 | F3: 노 무 비 | G3: 경 비 | H3: 합 계 | I3: 번 호 | J3: 비 고 | K3: 노임계수 | L3: 할증 | M3: 품셈개요 | N3: 장비일위
A4: 4469249BA7598CD4BAC6C24E5D1D5 | B4: 스프링클러헤드 - 철거 | C4: 폐쇄형, 플러쉬, 72℃ | D4: M | E4: ='일위대가-MF'!F8 -> 0 | F4: ='일위대가-MF'!H8 -> 0 | G4: ='일위대가-MF'!J8 -> 0 | H4: =E4+F4+G4 -> 0 | I4: 호표 1
A5: 44202E96256A0BA4CA86BFF04AECB | B5: SP후렉시블관-철거 | D5: EA | E5: ='일위대가-MF'!F14 -> 0 | F5: ='일위대가-MF'!H14 -> 0 | G5: ='일위대가-MF'!J14 -> 0 | H5: =E5+F5+G5 -> 0 | I5: 호표 2
A6: 44692B9028ADF7E4040656C731C57 | B6: 관보온(고무발포) | C6: 25t*D50 | D6: M | E6: ='일위대가-MF'!F22 -> 0 | F6: ='일위대가-MF'!H22 -> 0 | G6: ='일위대가-MF'!J22 -> 0 | H6: =E6+F6+G6 -> 0 | I6: 호표 3
A7: 44692B9028ADCAA4A5864A42D6818 | B7: 관보온(고무발포) | C7: 25t*D40 | D7: M | E7: ='일위대가-MF'!F30 -> 0 | F7: ='일위대가-MF'!H30 -> 0 | G7: ='일위대가-MF'!J30 -> 0 | H7: =E7+F7+G7 -> 0 | I7: 호표 4
A8: 44692B9028ADD404FCA6AC1D166FA | B8: 관보온(고무발포) | C8: 25t*D32 | D8: M | E8: ='일위대가-MF'!F38 -> 0 | F8: ='일위대가-MF'!H38 -> 0 | G8: ='일위대가-MF'!J38 -> 0 | H8: =E8+F8+G8 -> 0 | I8: 호표 5
A9: 44692B9028ADAFC4C956C8233057A | B9: 관보온(고무발포) | C9: 25t*D25 | D9: M | E9: ='일위대가-MF'!F46 -> 0 | F9: ='일위대가-MF'!H46 -> 0 | G9: ='일위대가-MF'!J46 -> 0 | H9: =E9+F9+G9 -> 0 | I9: 호표 6
A10: 4469279EC92ECEE486264EAA5682E | B10: 일반행거(달대볼트) | C10: D50 | D10: 개소 | E10: ='일위대가-MF'!F52 -> 0 | F10: ='일위대가-MF'!H52 -> 0 | G10: ='일위대가-MF'!J52 -> 0 | H10: =E10+F10+G10 -> 0 | I10: 호표 7
A11: 4469279EC92ECEE486264E99F1DC1 | B11: 일반행거(달대볼트) | C11: D40 | D11: 개소 | E11: ='일위대가-MF'!F58 -> 0 | F11: ='일위대가-MF'!H58 -> 0 | G11: ='일위대가-MF'!J58 -> 0 | H11: =E11+F11+G11 -> 0 | I11: 호표 8
A12: 4469279EC92ECEE486264E8F893D7 | B12: 일반행거(달대볼트) | C12: D32 | D12: 개소 | E12: ='일위대가-MF'!F64 -> 0 | F12: ='일위대가-MF'!H64 -> 0 | G12: ='일위대가-MF'!J64 -> 0 | H12: =E12+F12+G12 -> 0 | I12: 호표 9
A13: 4469279EC92ECEE486264EF27A395 | B13: 일반행거(달대볼트) | C13: D25 | D13: 개소 | E13: ='일위대가-MF'!F70 -> 0 | F13: ='일위대가-MF'!H70 -> 0 | G13: ='일위대가-MF'!J70 -> 0 | H13: =E13+F13+G13 -> 0 | I13: 호표 10
A14: 4469249BA7598CD4BAC6C24E5D1D1 | B14: 배관용탄소강관 - 철거 | C14: 배관용탄소강관, SPP(백관), ∮50mm, 반제품 | D14: M | E14: ='일위대가-MF'!F76 -> 0 | F14: ='일위대가-MF'!H76 -> 0 | G14: ='일위대가-MF'!J76 -> 0 | H14: =E14+F14+G14 -> 0 | I14: 호표 11
A15: 4469249BA7598CD4BAC6C24E5D1D2 | B15: 배관용탄소강관 - 철거 | C15: 배관용탄소강관, SPP(백관), ∮40mm, 반제품 | D15: M | E15: ='일위대가-MF'!F82 -> 0 | F15: ='일위대가-MF'!H82 -> 0 | G15: ='일위대가-MF'!J82 -> 0 | H15: =E15+F15+G15 -> 0 | I15: 호표 12
A16: 4469249BA7598CD4BAC6C24E5D1D3 | B16: 배관용탄소강관 - 철거 | C16: 배관용탄소강관, SPP(백관), ∮32mm, 반제품 | D16: M | E16: ='일위대가-MF'!F88 -> 0 | F16: ='일위대가-MF'!H88 -> 0 | G16: ='일위대가-MF'!J88 -> 0 | H16: =E16+F16+G16 -> 0 | I16: 호표 13
A17: 4469249BA7598CD4BAC6C24E5D1D4 | B17: 배관용탄소강관 - 철거 | C17: 배관용탄소강관, SPP(백관), ∮25mm, 반제품 | D17: M | E17: ='일위대가-MF'!F94 -> 0 | F17: ='일위대가-MF'!H94 -> 0 | G17: ='일위대가-MF'!J94 -> 0 | H17: =E17+F17+G17 -> 0 | I17: 호표 14
A18: 44692B901ED53714CD46B4DF968EB | B18: 관보온(고무발포) | C18: 25t*D100 | D18: M | E18: ='일위대가-MF'!F102 -> 0 | F18: ='일위대가-MF'!H102 -> 0 | G18: ='일위대가-MF'!J102 -> 0 | H18: =E18+F18+G18 -> 0 | I18: 호표 15
A19: 44692B9028ADE67486D64BFDC3A6C | B19: 관보온(고무발포) | C19: 25t*D65 | D19: M | E19: ='일위대가-MF'!F110 -> 0 | F19: ='일위대가-MF'!H110 -> 0 | G19: ='일위대가-MF'!J110 -> 0 | H19: =E19+F19+G19 -> 0 | I19: 호표 16
A20: 44692E9C7A9A4084F666D05216609 | B20: 강관용접접합 | C20: D100 | D20: 개소 | E20: ='일위대가-MF'!F115 -> 0 | F20: ='일위대가-MF'!H115 -> 0 | G20: ='일위대가-MF'!J115 -> 0 | H20: =E20+F20+G20 -> 0 | I20: 호표 17
A21: 44692E9C7A9A4084F666D05216836 | B21: 강관용접접합 | C21: D65 | D21: 개소 | E21: ='일위대가-MF'!F120 -> 0 | F21: ='일위대가-MF'!H120 -> 0 | G21: ='일위대가-MF'!J120 -> 0 | H21: =E21+F21+G21 -> 0 | I21: 호표 18
A22: 4469279EC92ECEE486264E5247694 | B22: 일반행거(달대볼트) | C22: D100 | D22: 개소 | E22: ='일위대가-MF'!F126 -> 0 | F22: ='일위대가-MF'!H126 -> 0 | G22: ='일위대가-MF'!J126 -> 0 | H22: =E22+F22+G22 -> 0 | I22: 호표 19
A23: 4469279EC92ECEE486264EB4CD3C5 | B23: 일반행거(달대볼트) | C23: D65 | D23: 개소 | E23: ='일위대가-MF'!F132 -> 0 | F23: ='일위대가-MF'!H132 -> 0 | G23: ='일위대가-MF'!J132 -> 0 | H23: =E23+F23+G23 -> 0 | I23: 호표 20
A24: 4469249B2239C1A488E647A179A0A | B24: 옥내소화전(노출형)STS | C24: 650x1200x180(STS) | D24: 개소 | E24: ='일위대가-MF'!F143 -> 0 | F24: ='일위대가-MF'!H143 -> 0 | G24: ='일위대가-MF'!J143 -> 0 | H24: =E24+F24+G24 -> 0 | I24: 호표 21
A25: 44A324937647C7F465069B0E3BC91 | B25: 녹막이페인트 붓칠 | C25: 철재면, 2회 1종 | D25: M2 | E25: ='일위대가-MF'!F148 -> 0 | F25: ='일위대가-MF'!H148 -> 0 | G25: ='일위대가-MF'!J148 -> 0 | H25: =E25+F25+G25 -> 0 | I25: 호표 22
A26: 44202E96256A14149D7603CC3E9B0 | B26: 압력배관용탄소강관-철거 | C26: 압력배관용탄소강관, 백관(SCH40), ∮100mm | D26: M | E26: ='일위대가-MF'!F155 -> 0 | F26: ='일위대가-MF'!H155 -> 0 | G26: ='일위대가-MF'!J155 -> 0 | H26: =E26+F26+G26 -> 0 | I26: 호표 23
A27: 44202E96256A14149D7603CC3E9B4 | B27: 압력배관용탄소강관-철거 | C27: 압력배관용탄소강관, 백관(SCH40), ∮65mm | D27: M | E27: ='일위대가-MF'!F162 -> 0 | F27: ='일위대가-MF'!H162 -> 0 | G27: ='일위대가-MF'!J162 -> 0 | H27: =E27+F27+G27 -> 0 | I27: 호표 24
A28: 44202E96256A14149D7603CC3E9B5 | B28: 압력배관용탄소강관-철거 | C28: 압력배관용탄소강관, 백관(SCH40), ∮50mm | D28: M | E28: ='일위대가-MF'!F169 -> 0 | F28: ='일위대가-MF'!H169 -> 0 | G28: ='일위대가-MF'!J169 -> 0 | H28: =E28+F28+G28 -> 0 | I28: 호표 25
A29: 44202E96256A14149D7603CC3E9B2 | B29: 압력배관용탄소강관-철거 | C29: 압력배관용탄소강관, 백관(SCH40), ∮32mm | D29: M | E29: ='일위대가-MF'!F176 -> 0 | F29: ='일위대가-MF'!H176 -> 0 | G29: ='일위대가-MF'!J176 -> 0 | H29: =E29+F29+G29 -> 0 | I29: 호표 26
A30: 44202E96256A14149D7603CC3E9B3 | B30: 압력배관용탄소강관-철거 | C30: 압력배관용탄소강관, 백관(SCH40), ∮25mm | D30: M | E30: ='일위대가-MF'!F183 -> 0 | F30: ='일위대가-MF'!H183 -> 0 | G30: ='일위대가-MF'!J183 -> 0 | H30: =E30+F30+G30 -> 0 | I30: 호표 27
A31: 44202E96256A0BA4CA86BFF04AC18 | B31: 동관-철거 | D31: M | E31: ='일위대가-MF'!F188 -> 0 | F31: ='일위대가-MF'!H188 -> 0 | G31: ='일위대가-MF'!J188 -> 0 | H31: =E31+F31+G31 -> 0 | I31: 호표 28
A32: 44202E96256A0BA4CA86BFF04AECA | B32: 방출노즐-철거 | D32: EA | E32: ='일위대가-MF'!F193 -> 0 | F32: ='일위대가-MF'!H193 -> 0 | G32: ='일위대가-MF'!J193 -> 0 | H32: =E32+F32+G32 -> 0 | I32: 호표 29
A33: 44692D9413D589C495E6048F98B70 | B33: 맹후렌지 | C33: D100 | D33: 개소 | E33: ='일위대가-MF'!F201 -> 0 | F33: ='일위대가-MF'!H201 -> 0 | G33: ='일위대가-MF'!J201 -> 0 | H33: =E33+F33+G33 -> 0 | I33: 호표 30
A34: 44A324937647C7F4646613FE1A60D | B34: 녹막이 페인트칠 | C34: 철재면 2회 노무비 | D34: M2 | E34: ='일위대가-MF'!F209 -> 0 | F34: ='일위대가-MF'!H209 -> 0 | G34: ='일위대가-MF'!J209 -> 0 | H34: =E34+F34+G34 -> 0 | I34: 호표 31
A35: 44A324937647C7F46466018D52C8E | B35: 녹막이 페인트칠 재료비(20년 품셈기준) | C35: 철재면, 2회, 1종 | D35: M2 | E35: ='일위대가-MF'!F214 -> 0 | F35: ='일위대가-MF'!H214 -> 0 | G35: ='일위대가-MF'!J214 -> 0 | H35: =E35+F35+G35 -> 0 | I35: 호표 32
A36: 44692D9525042BF4EDC69B3F2D2A9 | B36: 강관전기아크용접 | C36: D100 | D36: 개소 | E36: ='일위대가-MF'!F221 -> 0 | F36: ='일위대가-MF'!H221 -> 0 | G36: ='일위대가-MF'!J221 -> 0 | H36: =E36+F36+G36 -> 0 | I36: 호표 33

Sheet 일위대가-MF
A1: [ 전남광주통합특별시의회 광주청사 환경개선공사(소방기계) ]
A2: 품 명 | B2: 규 격 | C2: 단위 | D2: 수량 | E2: 재 료 비 | G2: 노 무 비 | I2: 경 비 | K2: 합 계 | M2: 비 고 | N2: 일위대가 | O2: 품목코드 | P2: 일위 | Q2: 단산 | R2: 자재 | S2: 손료적용 | T2: 손료저장 | U2: 적용율 | V2: JUK1 | W2: JUK2 | X2: JUK3 | Y2: JUK4 | Z2: JUK5 | AA2: JUK6 | AB2: JUK7 | AC2: JUK8 | AD2: JUK9 | AE2: JUK10 | AF2: JUK11 | AG2: JUK12 | AH2: JUK13 | AI2: JUK14 | AJ2: JUK15 | AK2: JUK16 | AL2: JUK17 | AM2: JUK18 | AN2: JUK19 | AO2: JUK20 | AP2: 할증적용 | AQ2: 할증저장 | AR2: 할증율 | AS2: HAL1 | AT2: HAL2 | AU2: HAL3 | AV2: 자재구분 | AW2: 일위대가+자재 | AX2: 장비일위 | AY2: 설정 | AZ2: 할증체크
E3: 단 가 | F3: 금 액 | G3: 단 가 | H3: 금 액 | I3: 단 가 | J3: 금 액 | K3: 단 가 | L3: 금 액
A4: 스프링클러헤드 - 철거 폐쇄형, 플러쉬, 72℃ M ( 호표 1 ) | N4: 4469249BA7598CD4BAC6C24E5D1D5
A5: 보통인부 | B5: 일반공사 직종 | C5: 인 | E5: ='단가대비표-MF'!O69 -> 0 | F5: =TRUNC(E5*D5,1) -> 0 | G5: ='단가대비표-MF'!P69 -> 0 | H5: =TRUNC(G5*D5,1) -> 0 | I5: ='단가대비표-MF'!V69 -> 0 | J5: =TRUNC(I5*D5,1) -> 0 | K5: =TRUNC(E5+G5+I5,1) -> 0 | L5: =TRUNC(F5+H5+J5,1) -> 0 | N5: 4469249BA7598CD4BAC6C24E5D1D5 | O5: 447F2693B791C424E2E645D4AF816276BBD9F | P5: F | Q5: F | R5: T | V5: 1 | AW5: 4469249BA7598CD4BAC6C24E5D1D5447F2693B791C424E2E645D4AF816276BBD9F
A6: 배관공 | B6: 일반공사 직종 | C6: 인 | E6: ='단가대비표-MF'!O73 -> 0 | F6: =TRUNC(E6*D6,1) -> 0 | G6: ='단가대비표-MF'!P73 -> 0 | H6: =TRUNC(G6*D6,1) -> 0 | I6: ='단가대비표-MF'!V73 -> 0 | J6: =TRUNC(I6*D6,1) -> 0 | K6: =TRUNC(E6+G6+I6,1) -> 0 | L6: =TRUNC(F6+H6+J6,1) -> 0 | N6: 4469249BA7598CD4BAC6C24E5D1D5 | O6: 447F2693B791C424E2E645D4AF816276BBEAD | P6: F | Q6: F | R6: T | V6: 1 | AW6: 4469249BA7598CD4BAC6C24E5D1D5447F2693B791C424E2E645D4AF816276BBEAD
A7: 공구손료 | B7: 인력품의 3% | C7: 식 | E7: =TRUNC(SUMIF(V5:V7, RIGHTB(O7, 1), H5:H7)*U7, 2) -> 0 | F7: =TRUNC(E7*D7,1) -> 0 | G7: 0 | H7: =TRUNC(G7*D7,1) -> 0 | I7: 0 | J7: =TRUNC(I7*D7,1) -> 0 | K7: =TRUNC(E7+G7+I7,1) -> 0 | L7: =TRUNC(F7+H7+J7,1) -> 0 | N7: 4469249BA7598CD4BAC6C24E5D1D5 | O7: 45B92D956649C4640696D9AD49B001 | P7: F | Q7: F | R7: F | S7: 1 | T7: 0 | U7: 0.03 | AW7: 4469249BA7598CD4BAC6C24E5D1D545B92D956649C4640696D9AD49B001
A8: [ 합 계 ] | F8: =TRUNC(SUMIF(N5:N7, N4, F5:F7),0) -> 0 | H8: =TRUNC(SUMIF(N5:N7, N4, H5:H7),0) -> 0 | J8: =TRUNC(SUMIF(N5:N7, N4, J5:J7),0) -> 0 | L8: =F8+H8+J8 -> 0 | N8: TOTAL | O8: TOTAL
A10: SP후렉시블관-철거 EA ( 호표 2 ) | N10: 44202E96256A0BA4CA86BFF04AECB
A11: 보통인부 | B11: 일반공사 직종 | C11: 인 | E11: ='단가대비표-MF'!O69 -> 0 | F11: =TRUNC(E11*D11,1) -> 0 | G11: ='단가대비표-MF'!P69 -> 0 | H11: =TRUNC(G11*D11,1) -> 0 | I11: ='단가대비표-MF'!V69 -> 0 | J11: =TRUNC(I11*D11,1) -> 0 | K11: =TRUNC(E11+G11+I11,1) -> 0 | L11: =TRUNC(F11+H11+J11,1) -> 0 | N11: 44202E96256A0BA4CA86BFF04AECB | O11: 447F2693B791C424E2E645D4AF816276BBD9F | P11: F | Q11: F | R11: T | V11: 1 | AW11: 44202E96256A0BA4CA86BFF04AECB447F2693B791C424E2E645D4AF816276BBD9F
A12: 배관공 | B12: 일반공사 직종 | C12: 인 | E12: ='단가대비표-MF'!O73 -> 0 | F12: =TRUNC(E12*D12,1) -> 0 | G12: ='단가대비표-MF'!P73 -> 0 | H12: =TRUNC(G12*D12,1) -> 0 | I12: ='단가대비표-MF'!V73 -> 0 | J12: =TRUNC(I12*D12,1) -> 0 | K12: =TRUNC(E12+G12+I12,1) -> 0 | L12: =TRUNC(F12+H12+J12,1) -> 0 | N12: 44202E96256A0BA4CA86BFF04AECB | O12: 447F2693B791C424E2E645D4AF816276BBEAD | P12: F | Q12: F | R12: T | V12: 1 | AW12: 44202E96256A0BA4CA86BFF04AECB447F2693B791C424E2E645D4AF816276BBEAD
A13: 공구손료 | B13: 인력품의 3% | C13: 식 | E13: =TRUNC(SUMIF(V11:V13, RIGHTB(O13, 1), H11:H13)*U13, 2) -> 0 | F13: =TRUNC(E13*D13,1) -> 0 | G13: 0 | H13: =TRUNC(G13*D13,1) -> 0 | I13: 0 | J13: =TRUNC(I13*D13,1) -> 0 | K13: =TRUNC(E13+G13+I13,1) -> 0 | L13: =TRUNC(F13+H13+J13,1) -> 0 | N13: 44202E96256A0BA4CA86BFF04AECB | O13: 45B92D956649C4640696D9AD49B001 | P13: F | Q13: F | R13: F | S13: 1 | T13: 0 | U13: 0.03 | AW13: 44202E96256A0BA4CA86BFF04AECB45B92D956649C4640696D9AD49B001
A14: [ 합 계 ] | F14: =TRUNC(SUMIF(N11:N13, N10, F11:F13),0) -> 0 | H14: =TRUNC(SUMIF(N11:N13, N10, H11:H13),0) -> 0 | J14: =TRUNC(SUMIF(N11:N13, N10, J11:J13),0) -> 0 | L14: =F14+H14+J14 -> 0 | N14: TOTAL | O14: TOTAL
A16: 관보온(고무발포) 25t*D50 M ( 호표 3 ) | N16: 44692B9028ADF7E4040656C731C57
A17: 관보온재 | B17: 고무발포, 25t*D50 | C17: M | E17: ='단가대비표-MF'!O26 -> 0 | F17: =TRUNC(E17*D17,1) -> 0 | G17: ='단가대비표-MF'!P26 -> 0 | H17: =TRUNC(G17*D17,1) -> 0 | I17: ='단가대비표-MF'!V26 -> 0 | J17: =TRUNC(I17*D17,1) -> 0 | K17: =TRUNC(E17+G17+I17,1) -> 0 | L17: =TRUNC(F17+H17+J17,1) -> 0 | N17: 44692B9028ADF7E4040656C731C57 | O17: 43FA209422E7E9642796D1862FD478E38200F | P17: F | Q17: F | R17: T | AW17: 44692B9028ADF7E4040656C731C5743FA209422E7E9642796D1862FD478E38200F
A18: 고무발포단열재 | B18: 고무발포단열재, 본드, 고무발포용 | C18: kg | E18: ='단가대비표-MF'!O22 -> 0 | F18: =TRUNC(E18*D18,1) -> 0 | G18: ='단가대비표-MF'!P22 -> 0 | H18: =TRUNC(G18*D18,1) -> 0 | I18: ='단가대비표-MF'!V22 -> 0 | J18: =TRUNC(I18*D18,1) -> 0 | K18: =TRUNC(E18+G18+I18,1) -> 0 | L18: =TRUNC(F18+H18+J18,1) -> 0 | N18: 44692B9028ADF7E4040656C731C57 | O18: 43FA209422E7E9642796D190B146D71EDE766 | P18: F | Q18: F | R18: T | AW18: 44692B9028ADF7E4040656C731C5743FA209422E7E9642796D190B146D71EDE766
A19: 보온공 | B19: 일반공사 직종 | C19: 인 | E19: ='단가대비표-MF'!O74 -> 0 | F19: =TRUNC(E19*D19,1) -> 0 | G19: ='단가대비표-MF'!P74 -> 0 | H19: =TRUNC(G19*D19,1) -> 0 | I19: ='단가대비표-MF'!V74 -> 0 | J19: =TRUNC(I19*D19,1) -> 0 | K19: =TRUNC(E19+G19+I19,1) -> 0 | L19: =TRUNC(F19+H19+J19,1) -> 0 | N19: 44692B9028ADF7E4040656C731C57 | O19: 447F2693B791C424E2E645D4AF816276BB926 | P19: F | Q19: F | R19: T | V19: 1 | AW19: 44692B9028ADF7E4040656C731C57447F2693B791C424E2E645D4AF816276BB926
A20: 보통인부 | B20: 일반공사 직종 | C20: 인 | E20: ='단가대비표-MF'!O69 -> 0 | F20: =TRUNC(E20*D20,1) -> 0 | G20: ='단가대비표-MF'!P69 -> 0 | H20: =TRUNC(G20*D20,1) -> 0 | I20: ='단가대비표-MF'!V69 -> 0 | J20: =TRUNC(I20*D20,1) -> 0 | K20: =TRUNC(E20+G20+I20,1) -> 0 | L20: =TRUNC(F20+H20+J20,1) -> 0 | N20: 44692B9028ADF7E4040656C731C57 | O20: 447F2693B791C424E2E645D4AF816276BBD9F | P20: F | Q20: F | R20: T | V20: 1 | AW20: 44692B9028ADF7E4040656C731C57447F2693B791C424E2E645D4AF816276BBD9F
A21: 공구손료 | B21: 인력품의 3% | C21: 식 | E21: =TRUNC(SUMIF(V17:V21, RIGHTB(O21, 1), H17:H21)*U21, 2) -> 0 | F21: =TRUNC(E21*D21,1) -> 0 | G21: 0 | H21: =TRUNC(G21*D21,1) -> 0 | I21: 0 | J21: =TRUNC(I21*D21,1) -> 0 | K21: =TRUNC(E21+G21+I21,1) -> 0 | L21: =TRUNC(F21+H21+J21,1) -> 0 | N21: 44692B9028ADF7E4040656C731C57 | O21: 45B92D956649C4640696D9AD49B001 | P21: F | Q21: F | R21: F | S21: 1 | T21: 0 | U21: 0.03 | AW21: 44692B9028ADF7E4040656C731C5745B92D956649C4640696D9AD49B001
A22: [ 합 계 ] | F22: =TRUNC(SUMIF(N17:N21, N16, F17:F21),0) -> 0 | H22: =TRUNC(SUMIF(N17:N21, N16, H17:H21),0) -> 0 | J22: =TRUNC(SUMIF(N17:N21, N16, J17:J21),0) -> 0 | L22: =F22+H22+J22 -> 0 | N22: TOTAL | O22: TOTAL
A24: 관보온(고무발포) 25t*D40 M ( 호표 4 ) | N24: 44692B9028ADCAA4A5864A42D6818
A25: 관보온재 | B25: 고무발포, 25t*D40 | C25: M | E25: ='단가대비표-MF'!O25 -> 0 | F25: =TRUNC(E25*D25,1) -> 0 | G25: ='단가대비표-MF'!P25 -> 0 | H25: =TRUNC(G25*D25,1) -> 0 | I25: ='단가대비표-MF'!V25 -> 0 | J25: =TRUNC(I25*D25,1) -> 0 | K25: =TRUNC(E25+G25+I25,1) -> 0 | L25: =TRUNC(F25+H25+J25,1) -> 0 | N25: 44692B9028ADCAA4A5864A42D6818 | O25: 43FA209422E7E9642796D1862FD478E38200E | P25: F | Q25: F | R25: T | AW25: 44692B9028ADCAA4A5864A42D681843FA209422E7E9642796D1862FD478E38200E
A26: 고무발포단열재 | B26: 고무발포단열재, 본드, 고무발포용 | C26: kg | E26: ='단가대비표-MF'!O22 -> 0 | F26: =TRUNC(E26*D26,1) -> 0 | G26: ='단가대비표-MF'!P22 -> 0 | H26: =TRUNC(G26*D26,1) -> 0 | I26: ='단가대비표-MF'!V22 -> 0 | J26: =TRUNC(I26*D26,1) -> 0 | K26: =TRUNC(E26+G26+I26,1) -> 0 | L26: =TRUNC(F26+H26+J26,1) -> 0 | N26: 44692B9028ADCAA4A5864A42D6818 | O26: 43FA209422E7E9642796D190B146D71EDE766 | P26: F | Q26: F | R26: T | AW26: 44692B9028ADCAA4A5864A42D681843FA209422E7E9642796D190B146D71EDE766
A27: 보온공 | B27: 일반공사 직종 | C27: 인 | E27: ='단가대비표-MF'!O74 -> 0 | F27: =TRUNC(E27*D27,1) -> 0 | G27: ='단가대비표-MF'!P74 -> 0 | H27: =TRUNC(G27*D27,1) -> 0 | I27: ='단가대비표-MF'!V74 -> 0 | J27: =TRUNC(I27*D27,1) -> 0 | K27: =TRUNC(E27+G27+I27,1) -> 0 | L27: =TRUNC(F27+H27+J27,1) -> 0 | N27: 44692B9028ADCAA4A5864A42D6818 | O27: 447F2693B791C424E2E645D4AF816276BB926 | P27: F | Q27: F | R27: T | V27: 1 | AW27: 44692B9028ADCAA4A5864A42D6818447F2693B791C424E2E645D4AF816276BB926
A28: 보통인부 | B28: 일반공사 직종 | C28: 인 | E28: ='단가대비표-MF'!O69 -> 0 | F28: =TRUNC(E28*D28,1) -> 0 | G28: ='단가대비표-MF'!P69 -> 0 | H28: =TRUNC(G28*D28,1) -> 0 | I28: ='단가대비표-MF'!V69 -> 0 | J28: =TRUNC(I28*D28,1) -> 0 | K28: =TRUNC(E28+G28+I28,1) -> 0 | L28: =TRUNC(F28+H28+J28,1) -> 0 | N28: 44692B9028ADCAA4A5864A42D6818 | O28: 447F2693B791C424E2E645D4AF816276BBD9F | P28: F | Q28: F | R28: T | V28: 1 | AW28: 44692B9028ADCAA4A5864A42D6818447F2693B791C424E2E645D4AF816276BBD9F
A29: 공구손료 | B29: 인력품의 3% | C29: 식 | E29: =TRUNC(SUMIF(V25:V29, RIGHTB(O29, 1), H25:H29)*U29, 2) -> 0 | F29: =TRUNC(E29*D29,1) -> 0 | G29: 0 | H29: =TRUNC(G29*D29,1) -> 0 | I29: 0 | J29: =TRUNC(I29*D29,1) -> 0 | K29: =TRUNC(E29+G29+I29,1) -> 0 | L29: =TRUNC(F29+H29+J29,1) -> 0 | N29: 44692B9028ADCAA4A5864A42D6818 | O29: 45B92D956649C4640696D9AD49B001 | P29: F | Q29: F | R29: F | S29: 1 | T29: 0 | U29: 0.03 | AW29: 44692B9028ADCAA4A5864A42D681845B92D956649C4640696D9AD49B001
A30: [ 합 계 ] | F30: =TRUNC(SUMIF(N25:N29, N24, F25:F29),0) -> 0 | H30: =TRUNC(SUMIF(N25:N29, N24, H25:H29),0) -> 0 | J30: =TRUNC(SUMIF(N25:N29, N24, J25:J29),0) -> 0 | L30: =F30+H30+J30 -> 0 | N30: TOTAL | O30: TOTAL
A32: 관보온(고무발포) 25t*D32 M ( 호표 5 ) | N32: 44692B9028ADD404FCA6AC1D166FA
A33: 관보온재 | B33: 고무발포, 25t*D32 | C33: M | E33: ='단가대비표-MF'!O24 -> 0 | F33: =TRUNC(E33*D33,1) -> 0 | G33: ='단가대비표-MF'!P24 -> 0 | H33: =TRUNC(G33*D33,1) -> 0 | I33: ='단가대비표-MF'!V24 -> 0 | J33: =TRUNC(I33*D33,1) -> 0 | K33: =TRUNC(E33+G33+I33,1) -> 0 | L33: =TRUNC(F33+H33+J33,1) -> 0 | N33: 44692B9028ADD404FCA6AC1D166FA | O33: 43FA209422E7E9642796D1862FD478E38200D | P33: F | Q33: F | R33: T | AW33: 44692B9028ADD404FCA6AC1D166FA43FA209422E7E9642796D1862FD478E38200D
A34: 고무발포단열재 | B34: 고무발포단열재, 본드, 고무발포용 | C34: kg | E34: ='단가대비표-MF'!O22 -> 0 | F34: =TRUNC(E34*D34,1) -> 0 | G34: ='단가대비표-MF'!P22 -> 0 | H34: =TRUNC(G34*D34,1) -> 0 | I34: ='단가대비표-MF'!V22 -> 0 | J34: =TRUNC(I34*D34,1) -> 0 | K34: =TRUNC(E34+G34+I34,1) -> 0 | L34: =TRUNC(F34+H34+J34,1) -> 0 | N34: 44692B9028ADD404FCA6AC1D166FA | O34: 43FA209422E7E9642796D190B146D71EDE766 | P34: F | Q34: F | R34: T | AW34: 44692B9028ADD404FCA6AC1D166FA43FA209422E7E9642796D190B146D71EDE766
A35: 보온공 | B35: 일반공사 직종 | C35: 인 | E35: ='단가대비표-MF'!O74 -> 0 | F35: =TRUNC(E35*D35,1) -> 0 | G35: ='단가대비표-MF'!P74 -> 0 | H35: =TRUNC(G35*D35,1) -> 0 | I35: ='단가대비표-MF'!V74 -> 0 | J35: =TRUNC(I35*D35,1) -> 0 | K35: =TRUNC(E35+G35+I35,1) -> 0 | L35: =TRUNC(F35+H35+J35,1) -> 0 | N35: 44692B9028ADD404FCA6AC1D166FA | O35: 447F2693B791C424E2E645D4AF816276BB926 | P35: F | Q35: F | R35: T | V35: 1 | AW35: 44692B9028ADD404FCA6AC1D166FA447F2693B791C424E2E645D4AF816276BB926
A36: 보통인부 | B36: 일반공사 직종 | C36: 인 | E36: ='단가대비표-MF'!O69 -> 0 | F36: =TRUNC(E36*D36,1) -> 0 | G36: ='단가대비표-MF'!P69 -> 0 | H36: =TRUNC(G36*D36,1) -> 0 | I36: ='단가대비표-MF'!V69 -> 0 | J36: =TRUNC(I36*D36,1) -> 0 | K36: =TRUNC(E36+G36+I36,1) -> 0 | L36: =TRUNC(F36+H36+J36,1) -> 0 | N36: 44692B9028ADD404FCA6AC1D166FA | O36: 447F2693B791C424E2E645D4AF816276BBD9F | P36: F | Q36: F | R36: T | V36: 1 | AW36: 44692B9028ADD404FCA6AC1D166FA447F2693B791C424E2E645D4AF816276BBD9F
A37: 공구손료 | B37: 인력품의 3% | C37: 식 | E37: =TRUNC(SUMIF(V33:V37, RIGHTB(O37, 1), H33:H37)*U37, 2) -> 0 | F37: =TRUNC(E37*D37,1) -> 0 | G37: 0 | H37: =TRUNC(G37*D37,1) -> 0 | I37: 0 | J37: =TRUNC(I37*D37,1) -> 0 | K37: =TRUNC(E37+G37+I37,1) -> 0 | L37: =TRUNC(F37+H37+J37,1) -> 0 | N37: 44692B9028ADD404FCA6AC1D166FA | O37: 45B92D956649C4640696D9AD49B001 | P37: F | Q37: F | R37: F | S37: 1 | T37: 0 | U37: 0.03 | AW37: 44692B9028ADD404FCA6AC1D166FA45B92D956649C4640696D9AD49B001
A38: [ 합 계 ] | F38: =TRUNC(SUMIF(N33:N37, N32, F33:F37),0) -> 0 | H38: =TRUNC(SUMIF(N33:N37, N32, H33:H37),0) -> 0 | J38: =TRUNC(SUMIF(N33:N37, N32, J33:J37),0) -> 0 | L38: =F38+H38+J38 -> 0 | N38: TOTAL | O38: TOTAL
A40: 관보온(고무발포) 25t*D25 M ( 호표 6 ) | N40: 44692B9028ADAFC4C956C8233057A
A41: 관보온재 | B41: 고무발포, 25t*D25 | C41: M | E41: ='단가대비표-MF'!O23 -> 0 | F41: =TRUNC(E41*D41,1) -> 0 | G41: ='단가대비표-MF'!P23 -> 0 | H41: =TRUNC(G41*D41,1) -> 0 | I41: ='단가대비표-MF'!V23 -> 0 | J41: =TRUNC(I41*D41,1) -> 0 | K41: =TRUNC(E41+G41+I41,1) -> 0 | L41: =TRUNC(F41+H41+J41,1) -> 0 | N41: 44692B9028ADAFC4C956C8233057A | O41: 43FA209422E7E9642796D1862FD478E38200C | P41: F | Q41: F | R41: T | AW41: 44692B9028ADAFC4C956C8233057A43FA209422E7E9642796D1862FD478E38200C
A42: 고무발포단열재 | B42: 고무발포단열재, 본드, 고무발포용 | C42: kg | E42: ='단가대비표-MF'!O22 -> 0 | F42: =TRUNC(E42*D42,1) -> 0 | G42: ='단가대비표-MF'!P22 -> 0 | H42: =TRUNC(G42*D42,1) -> 0 | I42: ='단가대비표-MF'!V22 -> 0 | J42: =TRUNC(I42*D42,1) -> 0 | K42: =TRUNC(E42+G42+I42,1) -> 0 | L42: =TRUNC(F42+H42+J42,1) -> 0 | N42: 44692B9028ADAFC4C956C8233057A | O42: 43FA209422E7E9642796D190B146D71EDE766 | P42: F | Q42: F | R42: T | AW42: 44692B9028ADAFC4C956C8233057A43FA209422E7E9642796D190B146D71EDE766
A43: 보온공 | B43: 일반공사 직종 | C43: 인 | E43: ='단가대비표-MF'!O74 -> 0 | F43: =TRUNC(E43*D43,1) -> 0 | G43: ='단가대비표-MF'!P74 -> 0 | H43: =TRUNC(G43*D43,1) -> 0 | I43: ='단가대비표-MF'!V74 -> 0 | J43: =TRUNC(I43*D43,1) -> 0 | K43: =TRUNC(E43+G43+I43,1) -> 0 | L43: =TRUNC(F43+H43+J43,1) -> 0 | N43: 44692B9028ADAFC4C956C8233057A | O43: 447F2693B791C424E2E645D4AF816276BB926 | P43: F | Q43: F | R43: T | V43: 1 | AW43: 44692B9028ADAFC4C956C8233057A447F2693B791C424E2E645D4AF816276BB926
A44: 보통인부 | B44: 일반공사 직종 | C44: 인 | E44: ='단가대비표-MF'!O69 -> 0 | F44: =TRUNC(E44*D44,1) -> 0 | G44: ='단가대비표-MF'!P69 -> 0 | H44: =TRUNC(G44*D44,1) -> 0 | I44: ='단가대비표-MF'!V69 -> 0 | J44: =TRUNC(I44*D44,1) -> 0 | K44: =TRUNC(E44+G44+I44,1) -> 0 | L44: =TRUNC(F44+H44+J44,1) -> 0 | N44: 44692B9028ADAFC4C956C8233057A | O44: 447F2693B791C424E2E645D4AF816276BBD9F | P44: F | Q44: F | R44: T | V44: 1 | AW44: 44692B9028ADAFC4C956C8233057A447F2693B791C424E2E645D4AF816276BBD9F
A45: 공구손료 | B45: 인력품의 3% | C45: 식 | E45: =TRUNC(SUMIF(V41:V45, RIGHTB(O45, 1), H41:H45)*U45, 2) -> 0 | F45: =TRUNC(E45*D45,1) -> 0 | G45: 0 | H45: =TRUNC(G45*D45,1) -> 0 | I45: 0 | J45: =TRUNC(I45*D45,1) -> 0 | K45: =TRUNC(E45+G45+I45,1) -> 0 | L45: =TRUNC(F45+H45+J45,1) -> 0 | N45: 44692B9028ADAFC4C956C8233057A | O45: 45B92D956649C4640696D9AD49B001 | P45: F | Q45: F | R45: F | S45: 1 | T45: 0 | U45: 0.03 | AW45: 44692B9028ADAFC4C956C8233057A45B92D956649C4640696D9AD49B001
...

Sheet 단가대비표-MF
A1: 단 가 대 비 표
A2: [ 전남광주통합특별시의회 광주청사 환경개선공사(소방기계) ]
A3: 코 드 | B3: 품 명 | C3: 규격 | D3: 단위 | E3: 재 료 비 | P3: 노 무 비 | Q3: 경 비 | W3: 번 호 | X3: 비 고 | Y3: 품목구분 | Z3: 노임구분 | AA3: 소수점처리 | AB3: 자재구분
E4: 조달청가격 | F4: PAGE | G4: 거래가격 | H4: PAGE | I4: 유통물가 | J4: PAGE | K4: 조사가격1 | L4: PAGE | M4: 조사가격2 | N4: PAGE | O4: 적용단가 | Q4: 조달청가격 | R4: 거래가격 | S4: 유통물가 | T4: 조사가격1 | U4: 조사가격2 | V4: 적용단가
A5: 43912B931928533475C6A2636B30A539A516A | B5: 연강용피복아크용접봉 | C5: 연강용피복아크용접봉, CS-200, ∮4.0mm | D5: kg | P5: 0 | Q5: 0 | R5: 0 | S5: 0 | T5: 0 | U5: 0 | V5: 0 | W5: 자재 1
A6: 4387209EF41809B438169DE373E87AB0981B9 | B6: 행어볼트 | C6: 행어볼트, 아연도금, M10*1000 | D6: 개 | P6: 0 | Q6: 0 | R6: 0 | S6: 0 | T6: 0 | U6: 0 | V6: 0 | W6: 자재 2
A7: 4387209EF41809B438169DE373E87AB0981BF | B7: 행어볼트 | C7: 행어볼트, 아연도금, M14*1000 | D7: EA | P7: 0 | Q7: 0 | R7: 0 | S7: 0 | T7: 0 | U7: 0 | V7: 0 | W7: 자재 3
A8: 4387209EF4180954A956B19ED002BBFB7F22F | B8: 평와셔 | C8: 평와셔, 호칭경 16mm | D8: 개 | P8: 0 | Q8: 0 | R8: 0 | S8: 0 | T8: 0 | U8: 0 | V8: 0 | W8: 자재 4
A9: 4387209EF4180954A956B18C6778597DF26B4 | B9: 볼트+너트 | C9: M16*65L | D9: SET | P9: 0 | Q9: 0 | R9: 0 | S9: 0 | T9: 0 | U9: 0 | V9: 0 | W9: 자재 5
A10: 4387209EF4180954A956B18C6778597DC5027 | B10: 소요전력 | D10: kwh | P10: 0 | Q10: 0 | R10: 0 | S10: 0 | T10: 0 | U10: 0 | V10: 0 | W10: 자재 6
A11: 4387209EF41835049F36BD6790E8E89192FD1 | B11: 스트롱앵커 | C11: 스트롱앵커, M10, 9.5mm | D11: 개 | P11: 0 | Q11: 0 | R11: 0 | S11: 0 | T11: 0 | U11: 0 | V11: 0 | W11: 자재 7
A12: 4387209EF41835049F36BD6790E8E89192FD0 | B12: 스트롱앵커 | C12: 스트롱앵커, M13, 12.7mm | D12: 개 | P12: 0 | Q12: 0 | R12: 0 | S12: 0 | T12: 0 | U12: 0 | V12: 0 | W12: 자재 8
A13: 4387209EF41835244C868765C66BECF7BC9E1 | B13: 지지행어 | C13: 지지행어, 파이프행어(일반), ∮25mm | D13: 개 | P13: 0 | Q13: 0 | R13: 0 | S13: 0 | T13: 0 | U13: 0 | V13: 0 | W13: 자재 9
A14: 4387209EF41835244C868765C66BECF7BC9E0 | B14: 지지행어 | C14: 지지행어, 파이프행어(일반), ∮32mm | D14: 개 | P14: 0 | Q14: 0 | R14: 0 | S14: 0 | T14: 0 | U14: 0 | V14: 0 | W14: 자재 10
A15: 4387209EF41835244C868765C66BECF7BC9EF | B15: 지지행어 | C15: 지지행어, 파이프행어(일반), ∮40mm | D15: 개 | P15: 0 | Q15: 0 | R15: 0 | S15: 0 | T15: 0 | U15: 0 | V15: 0 | W15: 자재 11
A16: 4387209EF41835244C868765C66BECF7BC9EE | B16: 지지행어 | C16: 지지행어, 파이프행어(일반), ∮50mm | D16: 개 | P16: 0 | Q16: 0 | R16: 0 | S16: 0 | T16: 0 | U16: 0 | V16: 0 | W16: 자재 12
A17: 4387209EF41835244C868765C66BECF7BC612 | B17: 지지행어 | C17: 지지행어, 파이프행어(일반), ∮65mm | D17: 개 | P17: 0 | Q17: 0 | R17: 0 | S17: 0 | T17: 0 | U17: 0 | V17: 0 | W17: 자재 13
A18: 4387209EF41835244C868765C66BECF7BC610 | B18: 지지행어 | C18: 지지행어, 파이프행어(일반), ∮100mm | D18: 개 | P18: 0 | Q18: 0 | R18: 0 | S18: 0 | T18: 0 | U18: 0 | V18: 0 | W18: 자재 14
A19: 4387209EF4F6168487E6819EFB8FDCBDD6AF3 | B19: 패킹 | C19: 패킹, 플랜지용, ∮100mm | D19: 개 | P19: 0 | Q19: 0 | R19: 0 | S19: 0 | T19: 0 | U19: 0 | V19: 0 | W19: 자재 15
A20: 4387209ECF2C5784BB660C46349D7FB33969A | B20: 방청페인트 | C20: 방청페인트, KSM6030-1종1류, 광명단페인트 | D20: L | P20: 0 | Q20: 0 | R20: 0 | S20: 0 | T20: 0 | U20: 0 | V20: 0 | W20: 자재 16
A21: 4387209ECF2C5754FE56C0437F0835A07D891 | B21: 시너 | C21: 시너, KSM6060, 1종 | D21: L | P21: 0 | Q21: 0 | R21: 0 | S21: 0 | T21: 0 | U21: 0 | V21: 0 | W21: 자재 17
A22: 43FA209422E7E9642796D190B146D71EDE766 | B22: 고무발포단열재 | C22: 고무발포단열재, 본드, 고무발포용 | D22: kg | P22: 0 | Q22: 0 | R22: 0 | S22: 0 | T22: 0 | U22: 0 | V22: 0 | W22: 자재 18
... A66: 43FA269EA2312574A5462DDB9D536B78DB585 | B66: 호스걸이 | C66: 회전식 | D66: EA | P66: 0 | Q66: 0 | R66: 0 | S66: 0 | T66: 0 | U66: 0 | V66: 0 | W66: 자재 62
A67: 43FA269EA2312574A546CC38392D1712D5BA4 | B67: 소화기받침대 | C67: 소화기받침대, 3.3kg | D67: 개 | Q67: 0 | R67: 0 | S67: 0 | T67: 0 | U67: 0 | V67: 0 | W67: 자재 63
A68: 43FA269EA2312574A546CC3828BE6EEE831E4 | B68: 방화포 | C68: 1.8m x 1.8m | D68: 조 | Q68: 0 | R68: 0 | S68: 0 | T68: 0 | U68: 0 | V68: 0 | W68: 자재 64
A69: 447F2693B791C424E2E645D4AF816276BBD9F | B69: 보통인부 | C69: 일반공사 직종 | D69: 인 | Q69: 0 | R69: 0 | S69: 0 | T69: 0 | U69: 0 | V69: 0 | W69: 노임 1 | Y69: B
A70: 447F2693B791C424E2E645D4AF816276BBD9E | B70: 특별인부 | C70: 일반공사 직종 | D70: 인 | Q70: 0 | R70: 0 | S70: 0 | T70: 0 | U70: 0 | V70: 0 | W70: 노임 2 | Y70: B
A71: 447F2693B791C424E2E645D4AF816276BBCF4 | B71: 용접공 | C71: 일반공사 직종 | D71: 인 | E71: 0 | G71: 0 | I71: 0 | K71: 0 | M71: 0 | O71: 0 | Q71: 0 | R71: 0 | S71: 0 | T71: 0 | U71: 0 | V71: 0 | W71: 노임 3 | Y71: B
A72: 447F2693B791C424E2E645D4AF816276BBF42 | B72: 도장공 | C72: 일반공사 직종 | D72: 인 | E72: 0 | G72: 0 | I72: 0 | K72: 0 | M72: 0 | O72: 0 | Q72: 0 | R72: 0 | S72: 0 | T72: 0 | U72: 0 | V72: 0 | W72: 노임 4 | Y72: B
A73: 447F2693B791C424E2E645D4AF816276BBEAD | B73: 배관공 | C73: 일반공사 직종 | D73: 인 | E73: 0 | G73: 0 | I73: 0 | K73: 0 | M73: 0 | O73: 0 | Q73: 0 | R73: 0 | S73: 0 | T73: 0 | U73: 0 | V73: 0 | W73: 노임 5 | Y73: B
A74: 447F2693B791C424E2E645D4AF816276BB926 | B74: 보온공 | C74: 일반공사 직종 | D74: 인 | E74: 0 | G74: 0 | I74: 0 | K74: 0 | M74: 0 | O74: 0 | Q74: 0 | R74: 0 | S74: 0 | T74: 0 | U74: 0 | V74: 0 | W74: 노임 6 | Y74: B
A75: 447F2693B791C424E2E645D4AF816276BB81D | B75: 플랜트배관공 | C75: 일반공사 직종 | D75: 인 | E75: 0 | G75: 0 | I75: 0 | K75: 0 | M75: 0 | O75: 0 | Q75: 0 | R75: 0 | S75: 0 | T75: 0 | U75: 0 | V75: 0 | W75: 노임 7 | Y75: B
A76: 447F2693B791C424E2E645D4AF816276BB813 | B76: 플랜트용접공 | C76: 일반공사 직종 | D76: 인 | E76: 0 | G76: 0 | I76: 0 | K76: 0 | M76: 0 | O76: 0 | Q76: 0 | R76: 0 | S76: 0 | T76: 0 | U76: 0 | V76: 0 | W76: 노임 8 | Y76: B

Sheet 내역간지3
A7: 1-2) 내 역 서 ( 소 방 전 기 )

Sheet 공종별집계표-EF
A1: 공 종 별 집 계 표
A2: [ 전남광주통합특별시의회 광주청사 환경개선공사(소방전기) ]
A3: 품 명 | B3: 규 격 | C3: 단위 | D3: 수량 | E3: 재 료 비 | G3: 노 무 비 | I3: 경 비 | K3: 합 계 | M3: 비 고 | N3: 공종코드 | O3: 변수 | P3: 상위공종 | Q3: 공종구분 | R3: 공종레벨 | S3: 공종소계 | T3: 원가계산서 연결금액
E4: 단 가 | F4: 금 액 | G4: 단 가 | H4: 금 액 | I4: 단 가 | J4: 금 액 | K4: 단 가 | L4: 금 액
A5: 01 전남광주통합특별시의회 광주청사 환경개선공사(소방전기) | D5: 1 | E5: =F6+F7+F8 -> 0 | F5: =E5*D5 -> 0 | G5: =H6+H7+H8 -> 0 | H5: =G5*D5 -> 0 | I5: =J6+J7+J8 -> 0 | J5: =I5*D5 -> 0 | K5: =E5+G5+I5 -> 0 | L5: =F5+H5+J5 -> 0 | N5: 01 | R5: 1
A6: 0101 지하 1층 설치공사 | D6: 1 | E6: ='공종별내역서-EF'!F27 -> 0 | F6: =E6*D6 -> 0 | G6: ='공종별내역서-EF'!H27 -> 0 | H6: =G6*D6 -> 0 | I6: ='공종별내역서-EF'!J27 -> 0 | J6: =I6*D6 -> 0 | K6: =E6+G6+I6 -> 0 | L6: =F6+H6+J6 -> 0 | N6: 0101 | P6: 01 | R6: 2
A7: 0102 지상 5층 전면부 설치공사 | D7: 1 | E7: ='공종별내역서-EF'!F51 -> 0 | F7: =E7*D7 -> 0 | G7: ='공종별내역서-EF'!H51 -> 0 | H7: =G7*D7 -> 0 | I7: ='공종별내역서-EF'!J51 -> 0 | J7: =I7*D7 -> 0 | K7: =E7+G7+I7 -> 0 | L7: =F7+H7+J7 -> 0 | N7: 0102 | P7: 01 | R7: 2
A8: 0103 지상 5층 후면부 설치공사 | D8: 1 | E8: ='공종별내역서-EF'!F99 -> 0 | F8: =E8*D8 -> 0 | G8: ='공종별내역서-EF'!H99 -> 0 | H8: =G8*D8 -> 0 | I8: ='공종별내역서-EF'!J99 -> 0 | J8: =I8*D8 -> 0 | K8: =E8+G8+I8 -> 0 | L8: =F8+H8+J8 -> 0 | N8: 0103 | P8: 01 | R8: 2
A27: [ 합 계 ] | F27: =F5 -> 0 | H27: =H5 -> 0 | J27: =J5 -> 0 | L27: =L5 -> 0

Sheet 공종별내역서-EF
A1: [ 전남광주통합특별시의회 광주청사 환경개선공사(소방전기) ]
A2: 품 명 | B2: 규 격 | C2: 단위 | D2: 수량 | E2: 재 료 비 | G2: 노 무 비 | I2: 경 비 | K2: 합 계 | M2: 비 고 | N2: 품목코드 | O2: 변수 | P2: 설정 | Q2: 공종코드 | R2: 일위 | S2: 단산 | T2: 자재 | U2: 손료적용 | V2: 손료저장 | W2: 적용율 | X2: JUK1 | Y2: JUK2 | Z2: JUK3 | AA2: JUK4 | AB2: JUK5 | AC2: JUK6 | AD2: JUK7 | AE2: JUK8 | AF2: JUK9 | AG2: JUK10 | AH2: JUK11 | AI2: JUK12 | AJ2: JUK13 | AK2: JUK14 | AL2: JUK15 | AM2: JUK16 | AN2: JUK17 | AO2: JUK18 | AP2: JUK19 | AQ2: JUK20 | AR2: 자재구분 | AS2: 공종구분 | AT2: 공종레벨 | AU2: 공종+자재 | AV2: 고유번호
E3: 단 가 | F3: 금 액 | G3: 단 가 | H3: 금 액 | I3: 단 가 | J3: 금 액 | K3: 단 가 | L3: 금 액
A4: 0101 지하 1층 설치공사 | Q4: 0101
A5: 1종금속제가요전선관 | B5: 1종금속제가요전선관, 16mm, 비방수 | C5: M | D5: 101 | E5: =TRUNC('단가대비표-EF'!O19,0) -> 0 | F5: =TRUNC(E5*D5, 0) -> 0 | G5: =TRUNC('단가대비표-EF'!P19,0) -> 0 | H5: =TRUNC(G5*D5, 0) -> 0 | I5: =TRUNC('단가대비표-EF'!V19,0) -> 0 | J5: =TRUNC(I5*D5, 0) -> 0 | K5: =TRUNC(E5+G5+I5, 0) -> 0 | L5: =TRUNC(F5+H5+J5, 0) -> 0 | N5: 42304D66113F63005D389F0C774D33D7821F9 | Q5: 0101 | R5: F | S5: F | T5: T | X5: 1 | Y5: 2 | AU5: 010142304D66113F63005D389F0C774D33D7821F9 | AV5: 3
A6: 전선관부속품비 | B6: 전선관의 15% | C6: 식 | D6: 1 | E6: =ROUNDDOWN(SUMIF(X5:X23, RIGHTB(N6, 1), F5:F23)*W6, 0) -> 0 | F6: =TRUNC(E6*D6, 0) -> 0 | G6: 0 | H6: =TRUNC(G6*D6, 0) -> 0 | I6: 0 | J6: =TRUNC(I6*D6, 0) -> 0 | K6: =TRUNC(E6+G6+I6, 0) -> 0 | L6: =TRUNC(F6+H6+J6, 0) -> 0 | N6: 4400488D113AA6E85BF1C5C3F64001 | Q6: 0101 | R6: F | S6: F | T6: F | U6: 0 | V6: 0 | W6: 0.15 | AU6: 01014400488D113AA6E85BF1C5C3F66003 | AV6: 101
