Workbook
Name ___B100000: #REF!
Name ___B100000: #REF!
Name ___B100000: #REF!
Name ___B100000: #REF!
Name ___B66000: #REF!
Name ___B66000: #REF!
Name ___B66000: #REF!
Name ___B66000: #REF!
Name ___B70000: #REF!
Name ___B70000: #REF!
Name ___B70000: #REF!
Name ___B70000: #REF!
Name ___C67000: #REF!
Name ___C67000: #REF!
Name ___C67000: #REF!
Name ___C67000: #REF!
Name ___C68000: #REF!
Name ___C68000: #REF!
Name ___C68000: #REF!
Name ___C68000: #REF!
Name ___DOG1: #REF!
Name ___DOG2: #REF!
Name ___DOG22: #REF!
Name ___DOG3: #REF!
Name ___DOG33: #REF!
Name ___DOG4: #REF!
Name ___LP1: #REF!
Name ___LP2: #REF!
Name ___NMB96: #REF!
Name ___PI48: #REF!
Name ___PI60: #REF!
Name ___RO110: #REF!
Name ___RO22: #REF!
Name ___RO35: #REF!
Name ___RO45: #REF!
Name ___RO60: #REF!
Name ___RO80: #REF!
Name ___SUB1: #REF!
Name ___SUB2: #REF!
Name ___SUB3: #REF!
Name ___sub4: #REF!
Name ___sub5: #REF!
Name ___TON1: #REF!
Name ___TON2: #REF!
Name ___WW2: #REF!
Name ___WW3: #REF!
Name ___WW6: #REF!
Name ___WW7: #REF!
Name ___WW8: #REF!
Name ___zz5: #REF!
Name __A1: #REF!
Name __A1: #REF!
Name __A1: #REF!
Name __A1: #REF!
Name __B100000: #REF!
Name __B100000: #REF!
Name __B100000: #REF!
Name __B100000: #REF!
Name __b2: #REF!
Name __b2: #REF!

Sheet 간지
A4: 2026 . 07.
A7: 전남광주통합특별시의회 광주청사 환경개선공사
A9: (소방)
A29: - 목 차 -
A33: 설 계 내 역 서
A35: 공 사 시 방 서
A37: 설 계 도 면(별책)
A52: =A4 -> 2026 . 07.
A55: =A7 -> 전남광주통합특별시의회 광주청사 환경개선공사
A57: =A9 -> (소방)
A59: 설 계 내 역 서

Sheet 설계서
A1: 과 장 | C1: 담 당 | E1: 심사자 | G1: 설계자 | I1: 조사자 | K1: 2026년 07월
B4: 2026년도
B5: 공 사 명 | C5: : | D5: =간지!A7&간지!A9 -> 전남광주통합특별시의회 광주청사 환경개선공사(소방)
A6: ◎ | B6: 위 치 | C6: : | D6: 광주광역시 서구 내방로 111
A7: ◎ | B7: 규 모 | C7: : | D7: 소방공사
A10: ◎ | B10: 총공사비 | C10: : | D10: ="일금"&NUMBERSTRING(L10,1)&"원정(\"&TEXT(L10,"#,###")&")" -> 일금영원정(\) | L10: =원가계산서!E32 -> 0
B11: 공급가액 | C11: : | D11: ="일금"&NUMBERSTRING(L11,1)&"원정(\"&TEXT(L11,"#,###")&")" -> 일금영원정(\) | L11: =원가계산서!E27 -> 0
B12: 부가가치세 | C12: : | D12: ="일금"&NUMBERSTRING(L12,1)&"원정(\"&TEXT(L12,"#,###")&")" -> 일금영원정(\) | L12: =원가계산서!E28 -> 0
B13: 도급액 | C13: : | D13: ="일금"&NUMBERSTRING(L13,1)&"원정(\"&TEXT(L13,"#,###")&")" -> 일금영원정(\) | L13: =원가계산서!E29 -> 0
B14: 재해 예방 기술 지도비 | C14: : | D14: ="일금"&NUMBERSTRING(L14,1)&"원정(\"&TEXT(L14,"#,###")&")" -> 일금영원정(\)

Sheet 내역간지1
A7: 1) 내 역 서

Sheet 원가계산서
B1: 공 사 원 가 계 산 서
B2: 공사명 : 전남광주통합특별시의회 광주청사 환경개선공사(소방) | G2: 금액: | H2: =""&NUMBERSTRING(E32,1)&"원정(\"&TEXT(E32,"#,###")&")" -> 영원정(\)
B3: 비 목 | E3: 금 액 | F3: 구 성 비 | G3: 비 고
A4: A1 | B4: 순 공 사 원 가 | C4: 재 료 비 | D4: 직 접 재 료 비 | E4: =공종별총괄집계표!F5 -> 0
A5: A2 | D5: 간 접 재 료 비 | E5: 0
A6: A3 | D6: 작업설, 부산물(△) | E6: 0
A7: AS | D7: [ 소 계 ] | E7: =TRUNC(E4+E5-E6, 0) -> 0
A8: B1 | C8: 노 무 비 | D8: 직 접 노 무 비 | E8: =공종별총괄집계표!H5 -> 0
A9: B2 | D9: 간 접 노 무 비 | E9: =TRUNC(E8*0.175, 0) -> 0 | F9: 직접노무비 * 17.5% | G9: 30일 미만
A10: BS | D10: [ 소 계 ] | E10: =TRUNC(E8+E9, 0) -> 0
A11: C2 | C11: 경 비 | D11: 기 계 경 비 | E11: =공종별총괄집계표!J5 -> 0
A12: C4 | D12: 산 재 보 험 료 | E12: =TRUNC(E10*0.0356, 0) -> 0 | F12: 노무비 * 3.56%
A13: C5 | D13: 고 용 보 험 료 | E13: =TRUNC(E10*0.0101, 0) -> 0 | F13: 노무비 * 1.01%
A14: C6 | D14: 국민 건강 보험료 | E14: =TRUNC(E8*0.03595, 0)*0 -> 0 | F14: 직접노무비 * 3.595%
A15: C7 | D15: 국민 연금 보험료 | E15: =TRUNC(E8*0.0475, 0)*0 -> 0 | F15: 직접노무비 * 4.75%
A16: CB | D16: 노인장기요양보험료 | E16: =TRUNC(E14*0.1314, 0) -> 0 | F16: 건강보험료 * 13.14%
A17: C8 | D17: 퇴직 공제 부금비 | E17: =TRUNC(E8*0.023, 0) -> 0 | F17: 직접노무비 * 2.3%
A18: CA | D18: 산업안전보건관리비 | E18: =TRUNC((E7+E8+(0/1.1))*0.0207, 0) -> 0 | F18: (재료비+직노+관급자재비) * 2.07% | G18: 특수건설공사(소방)
A19: CC | D19: 석면분담금 | E19: =TRUNC(E10*0.00006, 0) -> 0 | F19: 노무비 * 0.006%
A20: CE | D20: 임금채권부담금 | E20: =TRUNC(E10*0.0009, 0) -> 0 | F20: 노무비 * 0.09%
A21: CG | D21: 기 타 경 비 | E21: =TRUNC((E7+E10)*0.05, 0) -> 0 | F21: (재료비+노무비) * 5.0%
A22: CS | D22: [ 소 계 ] | E22: =TRUNC(E11+E12+E13+E14+E15+E17+E18+E16+E21, 0) -> 0
A23: S1 | B23: 계 | E23: =TRUNC(E7+E10+E22, 0) -> 0
A24: D1 | B24: 일 반 관 리 비 | F24: 계 * 8%
A25: D2 | B25: 이 윤 | F25: (노무비+경비+일반관리비) * 10%
A26: DD | B26: 소방시설공사업 배상책임공제 | F26: (총원가+관급자재비)*0.364%
A27: D9 | B27: 공 급 가 액
A28: DB | B28: 부 가 가 치 세 | F28: 공급가액 * 10%
A29: DH | B29: 도 급 액
A30: DH | B30: 관 급 자 재 비 | E30: =공종별총괄집계표!L8 -> 0
A31: DH | B31: 재해 예방 기술 지도비 | F31: 25일 * 231,000 | G31: 365일(12개월) / 15일 = 25일 * 1회단가
A32: S2 | B32: 총 공 사 비 | E32: =TRUNC(E29+E30+E31, -3) -> 0

Sheet 공종별총괄집계표
A1: 공 종 별 집 계 표
A2: [ 전남광주통합특별시의회 광주청사 환경개선공사(소방) ]
A3: 품 명 | B3: 규 격 | C3: 단위 | D3: 수량 | E3: 재 료 비 | G3: 노 무 비 | I3: 경 비 | K3: 합 계 | M3: 비 고 | N3: 공종코드 | O3: 변수 | P3: 상위공종 | Q3: 공종구분 | R3: 공종레벨 | S3: 공종소계 | T3: 원가계산서 연결금액
E4: 단 가 | F4: 금 액 | G4: 단 가 | H4: 금 액 | I4: 단 가 | J4: 금 액 | K4: 단 가 | L4: 금 액
A5: 01 전남광주통합특별시의회 광주청사 환경개선공사(소방) | D5: 1 | E5: =F6+F7 -> 0 | F5: =E5*D5 -> 0 | G5: =H6+H7 -> 0 | H5: =G5*D5 -> 0 | I5: =J6+J7 -> 0 | J5: =I5*D5 -> 0 | K5: =E5+G5+I5 -> 0 | L5: =F5+H5+J5 -> 0 | N5: 01 | R5: 1
A6: 0101 소방기계공사 | D6: 1 | E6: ='공종별집계표-MF'!F5 -> 0 | F6: =E6*D6 -> 0 | G6: ='공종별집계표-MF'!H5 -> 0 | H6: =G6*D6 -> 0 | I6: ='공종별집계표-MF'!J5 -> 0 | J6: =I6*D6 -> 0 | K6: =E6+G6+I6 -> 0 | L6: =F6+H6+J6 -> 0 | N6: 0101 | P6: 01 | R6: 2
A7: 0102 소방전기공사 | D7: 1 | E7: ='공종별집계표-EF'!F5 -> 0 | F7: =E7*D7 -> 0 | G7: ='공종별집계표-EF'!H5 -> 0 | H7: =G7*D7 -> 0 | I7: ='공종별집계표-EF'!J5 -> 0 | J7: =I7*D7 -> 0 | K7: =E7+G7+I7 -> 0 | L7: =F7+H7+J7 -> 0 | N7: 010101 | P7: 0101 | R7: 3
F8: =E8*D8 -> 0 | H8: =G8*D8 -> 0 | J8: =I8*D8 -> 0 | K8: =E8+G8+I8 -> 0 | L8: =F8+H8+J8 -> 0 | N8: 01010101 | P8: 010101 | R8: 4
N9: 0101010101 | P9: 01010101 | R9: 5
N10: 0101010102 | P10: 01010101 | R10: 5
N11: 01010102 | P11: 010101 | R11: 4
N12: 0101010201 | P12: 01010102 | R12: 5
N13: 01010103 | P13: 010101 | R13: 4
N14: 01010104 | P14: 010101 | R14: 4
N15: 01010105 | P15: 010101 | R15: 4
N16: 01010106 | P16: 010101 | R16: 4
N17: 010102 | P17: 0101 | R17: 3
N18: 01010201 | P18: 010102 | R18: 4
N19: 01010202 | P19: 010102 | R19: 4
N20: 01010203 | P20: 010102 | R20: 4
... N25: 010202 | P25: 0102 | R25: 3
A26: [ 합 계 ] | F26: =F5 -> 0 | H26: =H5 -> 0 | J26: =J5 -> 0 | L26: =L5 -> 0

Sheet 내역간지2
A7: 1-1) 내 역 서 ( 소 방 기 계 )

Sheet 공종별집계표-MF
A1: 공 종 별 집 계 표
A2: [ 전남광주통합특별시의회 광주청사 환경개선공사(소방기계) ]
A3: 품 명 | B3: 규 격 | C3: 단위 | D3: 수량 | E3: 재 료 비 | G3: 노 무 비 | I3: 경 비 | K3: 합 계 | M3: 비 고 | N3: 공종코드 | O3: 변수 | P3: 상위공종 | Q3: 공종구분 | R3: 공종레벨 | S3: 공종소계 | T3: 원가계산서 연결금액
E4: 단 가 | F4: 금 액 | G4: 단 가 | H4: 금 액 | I4: 단 가 | J4: 금 액 | K4: 단 가 | L4: 금 액
A5: 01 전남광주통합특별시의회 광주청사 환경개선공사(소방기계) | D5: 1 | E5: =F6+F7+F8+F9 -> 0 | F5: =E5*D5 -> 0 | G5: =H6+H7+H8+H9 -> 0 | H5: =G5*D5 -> 0 | I5: =J6+J7+J8+J9 -> 0 | J5: =I5*D5 -> 0 | K5: =E5+G5+I5 -> 0 | L5: =F5+H5+J5 -> 0 | N5: 01 | R5: 1
A6: 0101 지하 1층 설치공사 | D6: 1 | E6: ='공종별내역서-MF'!F27 -> 0 | F6: =E6*D6 -> 0 | G6: ='공종별내역서-MF'!H27 -> 0 | H6: =G6*D6 -> 0 | I6: ='공종별내역서-MF'!J27 -> 0 | J6: =I6*D6 -> 0 | K6: =E6+G6+I6 -> 0 | L6: =F6+H6+J6 -> 0 | N6: 0101 | P6: 01 | R6: 2
A7: 0102 지상 5층 전면부 설치공사 | D7: 1 | E7: ='공종별내역서-MF'!F75 -> 0 | F7: =E7*D7 -> 0 | G7: ='공종별내역서-MF'!H75 -> 0 | H7: =G7*D7 -> 0 | I7: ='공종별내역서-MF'!J75 -> 0 | J7: =I7*D7 -> 0 | K7: =E7+G7+I7 -> 0 | L7: =F7+H7+J7 -> 0 | N7: 0102 | P7: 01 | R7: 2
A8: 0103 지상 5층 후면부 설치공사 | D8: 1 | E8: ='공종별내역서-MF'!F147 -> 0 | F8: =E8*D8 -> 0 | G8: ='공종별내역서-MF'!H147 -> 0 | H8: =G8*D8 -> 0 | I8: ='공종별내역서-MF'!J147 -> 0 | J8: =I8*D8 -> 0 | K8: =E8+G8+I8 -> 0 | L8: =F8+H8+J8 -> 0 | N8: 0103 | P8: 01 | R8: 2
A9: 0104 임시소방시설 설치공사 | D9: 1 | E9: ='공종별내역서-MF'!F171 -> 0 | F9: =E9*D9 -> 0 | G9: ='공종별내역서-MF'!H171 -> 0 | H9: =G9*D9 -> 0 | I9: ='공종별내역서-MF'!J171 -> 0 | J9: =I9*D9 -> 0 | K9: =E9+G9+I9 -> 0 | L9: =F9+H9+J9 -> 0 | N9: 0104 | P9: 01 | R9: 2
A27: [ 합 계 ] | F27: =F5 -> 0 | H27: =H5 -> 0 | J27: =J5 -> 0 | L27: =L5 -> 0

Sheet 공종별내역서-MF
A1: [ 전남광주통합특별시의회 광주청사 환경개선공사(소방기계) ]
A2: 품 명 | B2: 규 격 | C2: 단위 | D2: 수량 | E2: 재 료 비 | G2: 노 무 비 | I2: 경 비 | K2: 합 계 | M2: 비 고 | N2: 품목코드 | O2: 변수 | P2: 설정 | Q2: 공종코드 | R2: 일위 | S2: 단산 | T2: 자재 | U2: 손료적용 | V2: 손료저장 | W2: 적용율 | X2: JUK1 | Y2: JUK2 | Z2: JUK3 | AA2: JUK4 | AB2: JUK5 | AC2: JUK6 | AD2: JUK7 | AE2: JUK8 | AF2: JUK9 | AG2: JUK10 | AH2: JUK11 | AI2: JUK12 | AJ2: JUK13 | AK2: JUK14 | AL2: JUK15 | AM2: JUK16 | AN2: JUK17 | AO2: JUK18 | AP2: JUK19 | AQ2: JUK20 | AR2: 자재구분 | AS2: 공종구분 | AT2: 공종레벨 | AU2: 공종+자재 | AV2: 고유번호
E3: 단 가 | F3: 금 액 | G3: 단 가 | H3: 금 액 | I3: 단 가 | J3: 금 액 | K3: 단 가 | L3: 금 액
A4: 0101 지하 1층 설치공사 | Q4: 0101
A5: 소방용헤드 | B5: 스프링클러, 플러쉬 조기반응형, 72℃(하) | C5: 개 | D5: 39 | E5: =TRUNC('단가대비표-MF'!O64,0) -> 0 | F5: =TRUNC(E5*D5, 0) -> 0 | G5: =TRUNC('단가대비표-MF'!P64,0) -> 0 | H5: =TRUNC(G5*D5, 0) -> 0 | I5: =TRUNC('단가대비표-MF'!V64,0) -> 0 | J5: =TRUNC(I5*D5, 0) -> 0 | K5: =TRUNC(E5+G5+I5, 0) -> 0 | L5: =TRUNC(F5+H5+J5, 0) -> 0 | N5: 43FA269EA2312574A546013C08556B1B46161 | Q5: 0101 | R5: F | S5: F | T5: T | AU5: 010143FA269EA2312574A546013C08556B1B46161 | AV5: 28
A6: 소방용헤드 | B6: 스프링클러, 플러쉬 조기반응형, 103℃(하) | C6: 개 | D6: 1 | E6: =TRUNC('단가대비표-MF'!O65,0) -> 0 | F6: =TRUNC(E6*D6, 0) -> 0 | G6: =TRUNC('단가대비표-MF'!P65,0) -> 0 | H6: =TRUNC(G6*D6, 0) -> 0 | I6: =TRUNC('단가대비표-MF'!V65,0) -> 0 | J6: =TRUNC(I6*D6, 0) -> 0 | K6: =TRUNC(E6+G6+I6, 0) -> 0 | L6: =TRUNC(F6+H6+J6, 0) -> 0 | N6: 43FA269EA2312574A546013C08556B1B46160 | Q6: 0101 | R6: F | S6: F | T6: T | AU6: 010143FA269EA2312574A546013C08556B1B46160 | AV6: 29
A7: SP후렉시블관 | B7: SP후렉시블관, 2500MM, KFI인증 | C7: 개 | D7: 40 | E7: =TRUNC('단가대비표-MF'!O63,0) -> 0 | F7: =TRUNC(E7*D7, 0) -> 0 | G7: =TRUNC('단가대비표-MF'!P63,0) -> 0 | H7: =TRUNC(G7*D7, 0) -> 0 | I7: =TRUNC('단가대비표-MF'!V63,0) -> 0 | J7: =TRUNC(I7*D7, 0) -> 0 | K7: =TRUNC(E7+G7+I7, 0) -> 0 | L7: =TRUNC(F7+H7+J7, 0) -> 0 | N7: 43FA269EA2312574A546013C2B090B707FAB2 | Q7: 0101 | R7: F | S7: F | T7: T | AU7: 010143FA269EA2312574A546013C2B090B707FAB2 | AV7: 30
A8: 수동식소화기 | B8: 수동식소화기, 자동확산소화기3.3kg | C8: 개 | D8: 1 | E8: =TRUNC('단가대비표-MF'!O58,0) -> 0 | F8: =TRUNC(E8*D8, 0) -> 0 | G8: =TRUNC('단가대비표-MF'!P58,0) -> 0 | H8: =TRUNC(G8*D8, 0) -> 0 | I8: =TRUNC('단가대비표-MF'!V58,0) -> 0 | J8: =TRUNC(I8*D8, 0) -> 0 | K8: =TRUNC(E8+G8+I8, 0) -> 0 | L8: =TRUNC(F8+H8+J8, 0) -> 0 | N8: 43FA269EA2312574AD96B087DAD578EFE56AE | Q8: 0101 | R8: F | S8: F | T8: T | AU8: 010143FA269EA2312574AD96B087DAD578EFE56AE | AV8: 32
A9: 스프링클러헤드 - 철거 | B9: 폐쇄형, 플러쉬, 72℃ | C9: M | D9: 58 | E9: =TRUNC('일위대가목록-MF'!E4,0) -> 0 | F9: =TRUNC(E9*D9, 0) -> 0 | G9: =TRUNC('일위대가목록-MF'!F4,0) -> 0 | H9: =TRUNC(G9*D9, 0) -> 0 | I9: =TRUNC('일위대가목록-MF'!G4,0) -> 0 | J9: =TRUNC(I9*D9, 0) -> 0 | K9: =TRUNC(E9+G9+I9, 0) -> 0 | L9: =TRUNC(F9+H9+J9, 0) -> 0 | M9: 호표 1 | N9: 4469249BA7598CD4BAC6C24E5D1D5 | Q9: 0101 | R9: T | S9: F | T9: F | AU9: 01014469249BA7598CD4BAC6C24E5D1D5 | AV9: 37
A10: SP후렉시블관-철거 | C10: EA | D10: 58 | E10: =TRUNC('일위대가목록-MF'!E5,0) -> 0 | F10: =TRUNC(E10*D10, 0) -> 0 | G10: =TRUNC('일위대가목록-MF'!F5,0) -> 0 | H10: =TRUNC(G10*D10, 0) -> 0 | I10: =TRUNC('일위대가목록-MF'!G5,0) -> 0 | J10: =TRUNC(I10*D10, 0) -> 0 | K10: =TRUNC(E10+G10+I10, 0) -> 0 | L10: =TRUNC(F10+H10+J10, 0) -> 0 | M10: 호표 2 | N10: 44202E96256A0BA4CA86BFF04AECB | Q10: 0101 | R10: T | S10: F | T10: F | AU10: 010144202E96256A0BA4CA86BFF04AECB | AV10: 143
A11: 보통인부 | B11: 일반공사 직종 | C11: 인 | D11: ='공량산출근거서-MF'!K11 -> 2 | E11: =TRUNC('단가대비표-MF'!O69,0) -> 0 | F11: =TRUNC(E11*D11, 0) -> 0 | G11: =TRUNC('단가대비표-MF'!P69,0) -> 0 | H11: =TRUNC(G11*D11, 0) -> 0 | I11: =TRUNC('단가대비표-MF'!V69,0) -> 0 | J11: =TRUNC(I11*D11, 0) -> 0 | K11: =TRUNC(E11+G11+I11, 0) -> 0 | L11: =TRUNC(F11+H11+J11, 0) -> 0 | N11: 447F2693B791C424E2E645D4AF816276BBD9F | Q11: 0101 | R11: F | S11: F | T11: T | X11: 1 | AU11: 0101447F2693B791C424E2E645D4AF816276BBD9F | AV11: 157
A12: 배관공 | B12: 일반공사 직종 | C12: 인 | D12: ='공량산출근거서-MF'!K12 -> 5 | E12: =TRUNC('단가대비표-MF'!O73,0) -> 0 | F12: =TRUNC(E12*D12, 0) -> 0 | G12: =TRUNC('단가대비표-MF'!P73,0) -> 0 | H12: =TRUNC(G12*D12, 0) -> 0 | I12: =TRUNC('단가대비표-MF'!V73,0) -> 0 | J12: =TRUNC(I12*D12, 0) -> 0 | K12: =TRUNC(E12+G12+I12, 0) -> 0 | L12: =TRUNC(F12+H12+J12, 0) -> 0 | N12: 447F2693B791C424E2E645D4AF816276BBEAD | Q12: 0101 | R12: F | S12: F | T12: T | X12: 1 | AU12: 0101447F2693B791C424E2E645D4AF816276BBEAD | AV12: 158
A13: 공구손료 | B13: 인력품의 2% | C13: 식 | D13: 1 | E13: =ROUNDDOWN(SUMIF(X5:X13, RIGHTB(N13, 1), H5:H13)*W13, 0) -> 0 | F13: =TRUNC(E13*D13, 0) -> 0 | G13: 0 | H13: =TRUNC(G13*D13, 0) -> 0 | I13: 0 | J13: =TRUNC(I13*D13, 0) -> 0 | K13: =TRUNC(E13+G13+I13, 0) -> 0 | L13: =TRUNC(F13+H13+J13, 0) -> 0 | N13: 45B92D956649C4640696D9AD49B001 | Q13: 0101 | R13: F | S13: F | T13: F | U13: 1 | V13: 0 | W13: 0.02 | AU13: 010145B92D956649C4640696D9AD49B001 | AV13: 163
Q14: 0101
Q15: 0101
Q16: 0101
Q17: 0101
Q18: 0101
Q19: 0101
Q20: 0101
Q21: 0101
Q22: 0101
Q23: 0101
Q24: 0101
Q25: 0101
Q26: 0101
A27: [ 합 계 ] | F27: =SUMIF(Q5:Q26,"0101",F5:F26) -> 0 | H27: =SUMIF(Q5:Q26,"0101",H5:H26) -> 0 | J27: =SUMIF(Q5:Q26,"0101",J5:J26) -> 0 | L27: =SUMIF(Q5:Q26,"0101",L5:L26) -> 0 | N27: TOTAL
A28: 0102 지상 5층 전면부 설치공사 | Q28: 0102
A29: 배관용탄소강관 | B29: 배관용탄소강관, SPP(백관), ∮50mm, 반제품 | C29: M | D29: 9 | E29: =TRUNC('단가대비표-MF'!O32,0) -> 0 | F29: =TRUNC(E29*D29, 0) -> 0 | G29: =TRUNC('단가대비표-MF'!P32,0) -> 0 | H29: =TRUNC(G29*D29, 0) -> 0 | I29: =TRUNC('단가대비표-MF'!V32,0) -> 0 | J29: =TRUNC(I29*D29, 0) -> 0 | K29: =TRUNC(E29+G29+I29, 0) -> 0 | L29: =TRUNC(F29+H29+J29, 0) -> 0 | N29: 43FA209422A86EB481460F1290712EE0D0EE7 | Q29: 0102 | R29: F | S29: F | T29: T | X29: 1 | AU29: 010243FA209422A86EB481460F1290712EE0D0EE7 | AV29: 39
A30: 배관용탄소강관 | B30: 배관용탄소강관, SPP(백관), ∮40mm, 반제품 | C30: M | D30: 97 | E30: =TRUNC('단가대비표-MF'!O31,0) -> 0 | F30: =TRUNC(E30*D30, 0) -> 0 | G30: =TRUNC('단가대비표-MF'!P31,0) -> 0 | H30: =TRUNC(G30*D30, 0) -> 0 | I30: =TRUNC('단가대비표-MF'!V31,0) -> 0 | J30: =TRUNC(I30*D30, 0) -> 0 | K30: =TRUNC(E30+G30+I30, 0) -> 0 | L30: =TRUNC(F30+H30+J30, 0) -> 0 | N30: 43FA209422A86EB481460F1290712EE0D0EE6 | Q30: 0102 | R30: F | S30: F | T30: T | X30: 1 | AU30: 010243FA209422A86EB481460F1290712EE0D0EE6 | AV30: 40
A31: 배관용탄소강관 | B31: 배관용탄소강관, SPP(백관), ∮32mm, 반제품 | C31: M | D31: 47 | E31: =TRUNC('단가대비표-MF'!O30,0) -> 0 | F31: =TRUNC(E31*D31, 0) -> 0 | G31: =TRUNC('단가대비표-MF'!P30,0) -> 0 | H31: =TRUNC(G31*D31, 0) -> 0 | I31: =TRUNC('단가대비표-MF'!V30,0) -> 0 | J31: =TRUNC(I31*D31, 0) -> 0 | K31: =TRUNC(E31+G31+I31, 0) -> 0 | L31: =TRUNC(F31+H31+J31, 0) -> 0 | N31: 43FA209422A86EB481460F1290712EE0D0EE9 | Q31: 0102 | R31: F | S31: F | T31: T | X31: 1 | AU31: 010243FA209422A86EB481460F1290712EE0D0EE9 | AV31: 41
A32: 배관용탄소강관 | B32: 배관용탄소강관, SPP(백관), ∮25mm, 반제품 | C32: M | D32: 108 | E32: =TRUNC('단가대비표-MF'!O29,0) -> 0 | F32: =TRUNC(E32*D32, 0) -> 0 | G32: =TRUNC('단가대비표-MF'!P29,0) -> 0 | H32: =TRUNC(G32*D32, 0) -> 0 | I32: =TRUNC('단가대비표-MF'!V29,0) -> 0 | J32: =TRUNC(I32*D32, 0) -> 0 | K32: =TRUNC(E32+G32+I32, 0) -> 0 | L32: =TRUNC(F32+H32+J32, 0) -> 0 | N32: 43FA209422A86EB481460F1290712EE0D0EE8 | Q32: 0102 | R32: F | S32: F | T32: T | X32: 1 | AU32: 010243FA209422A86EB481460F1290712EE0D0EE8 | AV32: 42
A33: 잡재료비 | B33: 주재료비의 3% | C33: 식 | D33: 1 | E33: =ROUNDDOWN(SUMIF(X29:X68, RIGHTB(N33, 1), F29:F68)*W33, 0) -> 0 | F33: =TRUNC(E33*D33, 0) -> 0 | G33: 0 | H33: =TRUNC(G33*D33, 0) -> 0 | I33: 0 | J33: =TRUNC(I33*D33, 0) -> 0 | K33: =TRUNC(E33+G33+I33, 0) -> 0 | L33: =TRUNC(F33+H33+J33, 0) -> 0 | N33: 45B92D956649C4640696D9AD49B001 | Q33: 0102 | R33: F | S33: F | T33: F | U33: 0 | V33: 0 | W33: 0.03 | AU33: 010245B92D956649C4640696D9AD49B001 | AV33: 164
A34: 관보온(고무발포) | B34: 25t*D50 | C34: M | D34: 9 | E34: =TRUNC('일위대가목록-MF'!E6,0) -> 0 | F34: =TRUNC(E34*D34, 0) -> 0 | G34: =TRUNC('일위대가목록-MF'!F6,0) -> 0 | H34: =TRUNC(G34*D34, 0) -> 0 | I34: =TRUNC('일위대가목록-MF'!G6,0) -> 0 | J34: =TRUNC(I34*D34, 0) -> 0 | K34: =TRUNC(E34+G34+I34, 0) -> 0 | L34: =TRUNC(F34+H34+J34, 0) -> 0 | M34: 호표 3 | N34: 44692B9028ADF7E4040656C731C57 | Q34: 0102 | R34: T | S34: F | T34: F | AU34: 010244692B9028ADF7E4040656C731C57 | AV34: 43
A35: 관보온(고무발포) | B35: 25t*D40 | C35: M | D35: 89 | E35: =TRUNC('일위대가목록-MF'!E7,0) -> 0 | F35: =TRUNC(E35*D35, 0) -> 0 | G35: =TRUNC('일위대가목록-MF'!F7,0) -> 0 | H35: =TRUNC(G35*D35, 0) -> 0 | I35: =TRUNC('일위대가목록-MF'!G7,0) -> 0 | J35: =TRUNC(I35*D35, 0) -> 0 | K35: =TRUNC(E35+G35+I35, 0) -> 0 | L35: =TRUNC(F35+H35+J35, 0) -> 0 | M35: 호표 4 | N35: 44692B9028ADCAA4A5864A42D6818 | Q35: 0102 | R35: T | S35: F | T35: F | AU35: 010244692B9028ADCAA4A5864A42D6818 | AV35: 44
A36: 관보온(고무발포) | B36: 25t*D32 | C36: M | D36: 43 | E36: =TRUNC('일위대가목록-MF'!E8,0) -> 0 | F36: =TRUNC(E36*D36, 0) -> 0 | G36: =TRUNC('일위대가목록-MF'!F8,0) -> 0 | H36: =TRUNC(G36*D36, 0) -> 0 | I36: =TRUNC('일위대가목록-MF'!G8,0) -> 0 | J36: =TRUNC(I36*D36, 0) -> 0 | K36: =TRUNC(E36+G36+I36, 0) -> 0 | L36: =TRUNC(F36+H36+J36, 0) -> 0 | M36: 호표 5 | N36: 44692B9028ADD404FCA6AC1D166FA | Q36: 0102 | R36: T | S36: F | T36: F | AU36: 010244692B9028ADD404FCA6AC1D166FA | AV36: 45
A37: 관보온(고무발포) | B37: 25t*D25 | C37: M | D37: 99 | E37: =TRUNC('일위대가목록-MF'!E9,0) -> 0 | F37: =TRUNC(E37*D37, 0) -> 0 | G37: =TRUNC('일위대가목록-MF'!F9,0) -> 0 | H37: =TRUNC(G37*D37, 0) -> 0 | I37: =TRUNC('일위대가목록-MF'!G9,0) -> 0 | J37: =TRUNC(I37*D37, 0) -> 0 | K37: =TRUNC(E37+G37+I37, 0) -> 0 | L37: =TRUNC(F37+H37+J37, 0) -> 0 | M37: 호표 6 | N37: 44692B9028ADAFC4C956C8233057A | Q37: 0102 | R37: T | S37: F | T37: F | AU37: 010244692B9028ADAFC4C956C8233057A | AV37: 46
A38: 나사식강관제관이음쇠 | B38: 나사식강관제관이음쇠, ∮50mm, 백엘보, 나사 | C38: 개 | D38: 9 | E38: =TRUNC('단가대비표-MF'!O46,0) -> 0 | F38: =TRUNC(E38*D38, 0) -> 0 | G38: =TRUNC('단가대비표-MF'!P46,0) -> 0 | H38: =TRUNC(G38*D38, 0) -> 0 | I38: =TRUNC('단가대비표-MF'!V46,0) -> 0 | J38: =TRUNC(I38*D38, 0) -> 0 | K38: =TRUNC(E38+G38+I38, 0) -> 0 | L38: =TRUNC(F38+H38+J38, 0) -> 0 | N38: 43FA209422A86E94DA16CD542A8B2289FBF83 | Q38: 0102 | R38: F | S38: F | T38: T | AU38: 010243FA209422A86E94DA16CD542A8B2289FBF83 | AV38: 47
A39: 나사식강관제관이음쇠 | B39: 나사식강관제관이음쇠, ∮40mm, 백엘보, 나사 | C39: 개 | D39: 4 | E39: =TRUNC('단가대비표-MF'!O45,0) -> 0 | F39: =TRUNC(E39*D39, 0) -> 0 | G39: =TRUNC('단가대비표-MF'!P45,0) -> 0 | H39: =TRUNC(G39*D39, 0) -> 0 | I39: =TRUNC('단가대비표-MF'!V45,0) -> 0 | J39: =TRUNC(I39*D39, 0) -> 0 | K39: =TRUNC(E39+G39+I39, 0) -> 0 | L39: =TRUNC(F39+H39+J39, 0) -> 0 | N39: 43FA209422A86E94DA16CD542A8B2289FBF80 | Q39: 0102 | R39: F | S39: F | T39: T | AU39: 010243FA209422A86E94DA16CD542A8B2289FBF80 | AV39: 48
A40: 나사식강관제관이음쇠 | B40: 나사식강관제관이음쇠, ∮32mm, 백엘보, 나사 | C40: 개 | D40: 1 | E40: =TRUNC('단가대비표-MF'!O44,0) -> 0 | F40: =TRUNC(E40*D40, 0) -> 0 | G40: =TRUNC('단가대비표-MF'!P44,0) -> 0 | H40: =TRUNC(G40*D40, 0) -> 0 | I40: =TRUNC('단가대비표-MF'!V44,0) -> 0 | J40: =TRUNC(I40*D40, 0) -> 0 | K40: =TRUNC(E40+G40+I40, 0) -> 0 | L40: =TRUNC(F40+H40+J40, 0) -> 0 | N40: 43FA209422A86E94DA16CD542A8B2289FBF81 | Q40: 0102 | R40: F | S40: F | T40: T | AU40: 010243FA209422A86E94DA16CD542A8B2289FBF81 | AV40: 49
A41: 나사식강관제관이음쇠 | B41: 나사식강관제관이음쇠, ∮25mm, 백엘보, 나사 | C41: 개 | D41: 4 | E41: =TRUNC('단가대비표-MF'!O43,0) -> 0 | F41: =TRUNC(E41*D41, 0) -> 0 | G41: =TRUNC('단가대비표-MF'!P43,0) -> 0 | H41: =TRUNC(G41*D41, 0) -> 0 | I41: =TRUNC('단가대비표-MF'!V43,0) -> 0 | J41: =TRUNC(I41*D41, 0) -> 0 | K41: =TRUNC(E41+G41+I41, 0) -> 0 | L41: =TRUNC(F41+H41+J41, 0) -> 0 | N41: 43FA209422A86E94DA16CD542A8B2289FBF86 | Q41: 0102 | R41: F | S41: F | T41: T | AU41: 010243FA209422A86E94DA16CD542A8B2289FBF86 | AV41: 50
A42: 나사식강관제관이음쇠 | B42: 나사식강관제관이음쇠, ∮50mm, 백티, 나사 | C42: 개 | D42: 9 | E42: =TRUNC('단가대비표-MF'!O50,0) -> 0 | F42: =TRUNC(E42*D42, 0) -> 0 | G42: =TRUNC('단가대비표-MF'!P50,0) -> 0 | H42: =TRUNC(G42*D42, 0) -> 0 | I42: =TRUNC('단가대비표-MF'!V50,0) -> 0 | J42: =TRUNC(I42*D42, 0) -> 0 | K42: =TRUNC(E42+G42+I42, 0) -> 0 | L42: =TRUNC(F42+H42+J42, 0) -> 0 | N42: 43FA209422A86E94DA16CD542A8B2289FB124 | Q42: 0102 | R42: F | S42: F | T42: T | AU42: 010243FA209422A86E94DA16CD542A8B2289FB124 | AV42: 51
A43: 나사식강관제관이음쇠 | B43: 나사식강관제관이음쇠, ∮40mm, 백티, 나사 | C43: 개 | D43: 31 | E43: =TRUNC('단가대비표-MF'!O49,0) -> 0 | F43: =TRUNC(E43*D43, 0) -> 0 | G43: =TRUNC('단가대비표-MF'!P49,0) -> 0 | H43: =TRUNC(G43*D43, 0) -> 0 | I43: =TRUNC('단가대비표-MF'!V49,0) -> 0 | J43: =TRUNC(I43*D43, 0) -> 0 | K43: =TRUNC(E43+G43+I43, 0) -> 0 | L43: =TRUNC(F43+H43+J43, 0) -> 0 | N43: 43FA209422A86E94DA16CD542A8B2289FB127 | Q43: 0102 | R43: F | S43: F | T43: T | AU43: 010243FA209422A86E94DA16CD542A8B2289FB127 | AV43: 52
A44: 나사식강관제관이음쇠 | B44: 나사식강관제관이음쇠, ∮32mm, 백티, 나사 | C44: 개 | D44: 16 | E44: =TRUNC('단가대비표-MF'!O48,0) -> 0 | F44: =TRUNC(E44*D44, 0) -> 0 | G44: =TRUNC('단가대비표-MF'!P48,0) -> 0 | H44: =TRUNC(G44*D44, 0) -> 0 | I44: =TRUNC('단가대비표-MF'!V48,0) -> 0 | J44: =TRUNC(I44*D44, 0) -> 0 | K44: =TRUNC(E44+G44+I44, 0) -> 0 | L44: =TRUNC(F44+H44+J44, 0) -> 0 | N44: 43FA209422A86E94DA16CD542A8B2289FB126 | Q44: 0102 | R44: F | S44: F | T44: T | AU44: 010243FA209422A86E94DA16CD542A8B2289FB126 | AV44: 53
A45: 나사식강관제관이음쇠 | B45: 나사식강관제관이음쇠, ∮25mm, 백티, 나사 | C45: 개 | D45: 36 | E45: =TRUNC('단가대비표-MF'!O47,0) -> 0 | F45: =TRUNC(E45*D45, 0) -> 0 | G45: =TRUNC('단가대비표-MF'!P47,0) -> 0 | H45: =TRUNC(G45*D45, 0) -> 0 | I45: =TRUNC('단가대비표-MF'!V47,0) -> 0 | J45: =TRUNC(I45*D45, 0) -> 0 | K45: =TRUNC(E45+G45+I45, 0) -> 0 | L45: =TRUNC(F45+H45+J45, 0) -> 0 | N45: 43FA209422A86E94DA16CD542A8B2289FBEF7 | Q45: 0102 | R45: F | S45: F | T45: T | AU45: 010243FA209422A86E94DA16CD542A8B2289FBEF7 | AV45: 54
A46: 용접식강관이음쇠 | B46: 용접식강관이음쇠, ∮80mm, 백리듀서, 용접 | C46: 개 | D46: 8 | E46: =TRUNC('단가대비표-MF'!O40,0) -> 0 | F46: =TRUNC(E46*D46, 0) -> 0 | G46: =TRUNC('단가대비표-MF'!P40,0) -> 0 | H46: =TRUNC(G46*D46, 0) -> 0 | I46: =TRUNC('단가대비표-MF'!V40,0) -> 0 | J46: =TRUNC(I46*D46, 0) -> 0 | K46: =TRUNC(E46+G46+I46, 0) -> 0 | L46: =TRUNC(F46+H46+J46, 0) -> 0 | N46: 43FA209422A86E94DB3635647F51C27208DD6 | Q46: 0102 | R46: F | S46: F | T46: T | AU46: 010243FA209422A86E94DB3635647F51C27208DD6 | AV46: 55
A47: 용접식강관이음쇠 | B47: 용접식강관이음쇠, ∮65mm, 백리듀서, 용접 | C47: 개 | D47: 9 | E47: =TRUNC('단가대비표-MF'!O39,0) -> 0 | F47: =TRUNC(E47*D47, 0) -> 0 | G47: =TRUNC('단가대비표-MF'!P39,0) -> 0 | H47: =TRUNC(G47*D47, 0) -> 0 | I47: =TRUNC('단가대비표-MF'!V39,0) -> 0 | J47: =TRUNC(I47*D47, 0) -> 0 | K47: =TRUNC(E47+G47+I47, 0) -> 0 | L47: =TRUNC(F47+H47+J47, 0) -> 0 | N47: 43FA209422A86E94DB3635647F51C27208DD7 | Q47: 0102 | R47: F | S47: F | T47: T | AU47: 010243FA209422A86E94DB3635647F51C27208DD7 | AV47: 56
A48: 나사식강관제관이음쇠 | B48: 나사식강관제관이음쇠, ∮50mm, 백리듀서, 나사 | C48: 개 | D48: 18 | E48: =TRUNC('단가대비표-MF'!O53,0) -> 0 | F48: =TRUNC(E48*D48, 0) -> 0 | G48: =TRUNC('단가대비표-MF'!P53,0) -> 0 | H48: =TRUNC(G48*D48, 0) -> 0 | I48: =TRUNC('단가대비표-MF'!V53,0) -> 0 | J48: =TRUNC(I48*D48, 0) -> 0 | K48: =TRUNC(E48+G48+I48, 0) -> 0 | L48: =TRUNC(F48+H48+J48, 0) -> 0 | N48: 43FA209422A86E94DA16CD542A8B2289FB01B | Q48: 0102 | R48: F | S48: F | T48: T | AU48: 010243FA209422A86E94DA16CD542A8B2289FB01B | AV48: 57
A49: 나사식강관제관이음쇠 | B49: 나사식강관제관이음쇠, ∮40mm, 백리듀서, 나사 | C49: 개 | D49: 61 | E49: =TRUNC('단가대비표-MF'!O52,0) -> 0 | F49: =TRUNC(E49*D49, 0) -> 0 | G49: =TRUNC('단가대비표-MF'!P52,0) -> 0 | H49: =TRUNC(G49*D49, 0) -> 0 | I49: =TRUNC('단가대비표-MF'!V52,0) -> 0 | J49: =TRUNC(I49*D49, 0) -> 0 | K49: =TRUNC(E49+G49+I49, 0) -> 0 | L49: =TRUNC(F49+H49+J49, 0) -> 0 | N49: 43FA209422A86E94DA16CD542A8B2289FB01C | Q49: 0102 | R49: F | S49: F | T49: T | AU49: 010243FA209422A86E94DA16CD542A8B2289FB01C | AV49: 58
A50: 나사식강관제관이음쇠 | B50: 나사식강관제관이음쇠, ∮32mm, 백리듀서, 나사 | C50: 개 | D50: 32 | E50: =TRUNC('단가대비표-MF'!O51,0) -> 0 | F50: =TRUNC(E50*D50, 0) -> 0 | G50: =TRUNC('단가대비표-MF'!P51,0) -> 0 | H50: =TRUNC(G50*D50, 0) -> 0 | I50: =TRUNC('단가대비표-MF'!V51,0) -> 0 | J50: =TRUNC(I50*D50, 0) -> 0 | K50: =TRUNC(E50+G50+I50, 0) -> 0 | L50: =TRUNC(F50+H50+J50, 0) -> 0 | N50: 43FA209422A86E94DA16CD542A8B2289FB01D | Q50: 0102 | R50: F | S50: F | T50: T | AU50: 010243FA209422A86E94DA16CD542A8B2289FB01D | AV50: 59
A51: 일반행거(달대볼트) | B51: D50 | C51: 개소 | D51: 3 | E51: =TRUNC('일위대가목록-MF'!E10,0) -> 0 | F51: =TRUNC(E51*D51, 0) -> 0 | G51: =TRUNC('일위대가목록-MF'!F10,0) -> 0 | H51: =TRUNC(G51*D51, 0) -> 0 | I51: =TRUNC('일위대가목록-MF'!G10,0) -> 0 | J51: =TRUNC(I51*D51, 0) -> 0 | K51: =TRUNC(E51+G51+I51, 0) -> 0 | L51: =TRUNC(F51+H51+J51, 0) -> 0 | M51: 호표 7 | N51: 4469279EC92ECEE486264EAA5682E | Q51: 0102 | R51: T | S51: F | T51: F | AU51: 01024469279EC92ECEE486264EAA5682E | AV51: 60
A52: 일반행거(달대볼트) | B52: D40 | C52: 개소 | D52: 29 | E52: =TRUNC('일위대가목록-MF'!E11,0) -> 0 | F52: =TRUNC(E52*D52, 0) -> 0 | G52: =TRUNC('일위대가목록-MF'!F11,0) -> 0 | H52: =TRUNC(G52*D52, 0) -> 0 | I52: =TRUNC('일위대가목록-MF'!G11,0) -> 0 | J52: =TRUNC(I52*D52, 0) -> 0 | K52: =TRUNC(E52+G52+I52, 0) -> 0 | L52: =TRUNC(F52+H52+J52, 0) -> 0 | M52: 호표 8 | N52: 4469279EC92ECEE486264E99F1DC1 | Q52: 0102 | R52: T | S52: F | T52: F | AU52: 01024469279EC92ECEE486264E99F1DC1 | AV52: 61
A53: 일반행거(달대볼트) | B53: D32 | C53: 개소 | D53: 14 | E53: =TRUNC('일위대가목록-MF'!E12,0) -> 0 | F53: =TRUNC(E53*D53, 0) -> 0 | G53: =TRUNC('일위대가목록-MF'!F12,0) -> 0 | H53: =TRUNC(G53*D53, 0) -> 0 | I53: =TRUNC('일위대가목록-MF'!G12,0) -> 0 | J53: =TRUNC(I53*D53, 0) -> 0 | K53: =TRUNC(E53+G53+I53, 0) -> 0 | L53: =TRUNC(F53+H53+J53, 0) -> 0 | M53: 호표 9 | N53: 4469279EC92ECEE486264E8F893D7 | Q53: 0102 | R53: T | S53: F | T53: F | AU53: 01024469279EC92ECEE486264E8F893D7 | AV53: 62
A54: 일반행거(달대볼트) | B54: D25 | C54: 개소 | D54: 32 | E54: =TRUNC('일위대가목록-MF'!E13,0) -> 0 | F54: =TRUNC(E54*D54, 0) -> 0 | G54: =TRUNC('일위대가목록-MF'!F13,0) -> 0 | H54: =TRUNC(G54*D54, 0) -> 0 | I54: =TRUNC('일위대가목록-MF'!G13,0) -> 0 | J54: =TRUNC(I54*D54, 0) -> 0 | K54: =TRUNC(E54+G54+I54, 0) -> 0 | L54: =TRUNC(F54+H54+J54, 0) -> 0 | M54: 호표 10 | N54: 4469279EC92ECEE486264EF27A395 | Q54: 0102 | R54: T | S54: F | T54: F | AU54: 01024469279EC92ECEE486264EF27A395 | AV54: 63
A55: 소방용헤드 | B55: 스프링클러, 플러쉬 조기반응형, 72℃(하) | C55: 개 | D55: 88 | E55: =TRUNC('단가대비표-MF'!O64,0) -> 0 | F55: =TRUNC(E55*D55, 0) -> 0 | G55: =TRUNC('단가대비표-MF'!P64,0) -> 0 | H55: =TRUNC(G55*D55, 0) -> 0 | I55: =TRUNC('단가대비표-MF'!V64,0) -> 0 | J55: =TRUNC(I55*D55, 0) -> 0 | K55: =TRUNC(E55+G55+I55, 0) -> 0 | L55: =TRUNC(F55+H55+J55, 0) -> 0 | N55: 43FA269EA2312574A546013C08556B1B46161 | Q55: 0102 | R55: F | S55: F | T55: T | AU55: 010243FA269EA2312574A546013C08556B1B46161 | AV55: 64
A56: 소방용헤드 | B56: 스프링클러, 플러쉬 조기반응형, 103℃(하) | C56: 개 | D56: 3 | E56: =TRUNC('단가대비표-MF'!O65,0) -> 0 | F56: =TRUNC(E56*D56, 0) -> 0 | G56: =TRUNC('단가대비표-MF'!P65,0) -> 0 | H56: =TRUNC(G56*D56, 0) -> 0 | I56: =TRUNC('단가대비표-MF'!V65,0) -> 0 | J56: =TRUNC(I56*D56, 0) -> 0 | K56: =TRUNC(E56+G56+I56, 0) -> 0 | L56: =TRUNC(F56+H56+J56, 0) -> 0 | N56: 43FA269EA2312574A546013C08556B1B46160 | Q56: 0102 | R56: F | S56: F | T56: T | AU56: 010243FA269EA2312574A546013C08556B1B46160 | AV56: 65
A57: SP후렉시블관 | B57: SP후렉시블관, 2500MM, KFI인증 | C57: 개 | D57: 91 | E57: =TRUNC('단가대비표-MF'!O63,0) -> 0 | F57: =TRUNC(E57*D57, 0) -> 0 | G57: =TRUNC('단가대비표-MF'!P63,0) -> 0 | H57: =TRUNC(G57*D57, 0) -> 0 | I57: =TRUNC('단가대비표-MF'!V63,0) -> 0 | J57: =TRUNC(I57*D57, 0) -> 0 | K57: =TRUNC(E57+G57+I57, 0) -> 0 | L57: =TRUNC(F57+H57+J57, 0) -> 0 | N57: 43FA269EA2312574A546013C2B090B707FAB2 | Q57: 0102 | R57: F | S57: F | T57: T | AU57: 010243FA269EA2312574A546013C2B090B707FAB2 | AV57: 66
A58: 나사식강관제관이음쇠 | B58: 나사식강관제관이음쇠, ∮25mm, 백캡, 나사 | C58: 개 | D58: 17 | E58: =TRUNC('단가대비표-MF'!O54,0) -> 0 | F58: =TRUNC(E58*D58, 0) -> 0 | G58: =TRUNC('단가대비표-MF'!P54,0) -> 0 | H58: =TRUNC(G58*D58, 0) -> 0 | I58: =TRUNC('단가대비표-MF'!V54,0) -> 0 | J58: =TRUNC(I58*D58, 0) -> 0 | K58: =TRUNC(E58+G58+I58, 0) -> 0 | L58: =TRUNC(F58+H58+J58, 0) -> 0 | N58: 43FA209422A86E94DA16CD542A8B22891DA5F | Q58: 0102 | R58: F | S58: F | T58: T | AU58: 010243FA209422A86E94DA16CD542A8B22891DA5F | AV58: 67
A59: 수동식소화기 | B59: 수동식소화기, 자동확산소화기3.3kg | C59: 개 | D59: 1 | E59: =TRUNC('단가대비표-MF'!O58,0) -> 0 | F59: =TRUNC(E59*D59, 0) -> 0 | G59: =TRUNC('단가대비표-MF'!P58,0) -> 0 | H59: =TRUNC(G59*D59, 0) -> 0 | I59: =TRUNC('단가대비표-MF'!V58,0) -> 0 | J59: =TRUNC(I59*D59, 0) -> 0 | K59: =TRUNC(E59+G59+I59, 0) -> 0 | L59: =TRUNC(F59+H59+J59, 0) -> 0 | N59: 43FA269EA2312574AD96B087DAD578EFE56AE | Q59: 0102 | R59: F | S59: F | T59: T | AU59: 010243FA269EA2312574AD96B087DAD578EFE56AE | AV59: 68
A60: 배관용탄소강관 - 철거 | B60: 배관용탄소강관, SPP(백관), ∮50mm, 반제품 | C60: M | D60: 15 | E60: =TRUNC('일위대가목록-MF'!E14,0) -> 0 | F60: =TRUNC(E60*D60, 0) -> 0 | G60: =TRUNC('일위대가목록-MF'!F14,0) -> 0 | H60: =TRUNC(G60*D60, 0) -> 0 | I60: =TRUNC('일위대가목록-MF'!G14,0) -> 0 | J60: =TRUNC(I60*D60, 0) -> 0 | K60: =TRUNC(E60+G60+I60, 0) -> 0 | L60: =TRUNC(F60+H60+J60, 0) -> 0 | M60: 호표 11 | N60: 4469249BA7598CD4BAC6C24E5D1D1 | Q60: 0102 | R60: T | S60: F | T60: F | AU60: 01024469249BA7598CD4BAC6C24E5D1D1 | AV60: 69
A61: 배관용탄소강관 - 철거 | B61: 배관용탄소강관, SPP(백관), ∮40mm, 반제품 | C61: M | D61: 68 | E61: =TRUNC('일위대가목록-MF'!E15,0) -> 0 | F61: =TRUNC(E61*D61, 0) -> 0 | G61: =TRUNC('일위대가목록-MF'!F15,0) -> 0 | H61: =TRUNC(G61*D61, 0) -> 0 | I61: =TRUNC('일위대가목록-MF'!G15,0) -> 0 | J61: =TRUNC(I61*D61, 0) -> 0 | K61: =TRUNC(E61+G61+I61, 0) -> 0 | L61: =TRUNC(F61+H61+J61, 0) -> 0 | M61: 호표 12 | N61: 4469249BA7598CD4BAC6C24E5D1D2 | Q61: 0102 | R61: T | S61: F | T61: F | AU61: 01024469249BA7598CD4BAC6C24E5D1D2 | AV61: 70
A62: 배관용탄소강관 - 철거 | B62: 배관용탄소강관, SPP(백관), ∮32mm, 반제품 | C62: M | D62: 36 | E62: =TRUNC('일위대가목록-MF'!E16,0) -> 0 | F62: =TRUNC(E62*D62, 0) -> 0 | G62: =TRUNC('일위대가목록-MF'!F16,0) -> 0 | H62: =TRUNC(G62*D62, 0) -> 0 | I62: =TRUNC('일위대가목록-MF'!G16,0) -> 0 | J62: =TRUNC(I62*D62, 0) -> 0 | K62: =TRUNC(E62+G62+I62, 0) -> 0 | L62: =TRUNC(F62+H62+J62, 0) -> 0 | M62: 호표 13 | N62: 4469249BA7598CD4BAC6C24E5D1D3 | Q62: 0102 | R62: T | S62: F | T62: F | AU62: 01024469249BA7598CD4BAC6C24E5D1D3 | AV62: 71
A63: 배관용탄소강관 - 철거 | B63: 배관용탄소강관, SPP(백관), ∮25mm, 반제품 | C63: M | D63: 84 | E63: =TRUNC('일위대가목록-MF'!E17,0) -> 0 | F63: =TRUNC(E63*D63, 0) -> 0 | G63: =TRUNC('일위대가목록-MF'!F17,0) -> 0 | H63: =TRUNC(G63*D63, 0) -> 0 | I63: =TRUNC('일위대가목록-MF'!G17,0) -> 0 | J63: =TRUNC(I63*D63, 0) -> 0 | K63: =TRUNC(E63+G63+I63, 0) -> 0 | L63: =TRUNC(F63+H63+J63, 0) -> 0 | M63: 호표 14 | N63: 4469249BA7598CD4BAC6C24E5D1D4 | Q63: 0102 | R63: T | S63: F | T63: F | AU63: 01024469249BA7598CD4BAC6C24E5D1D4 | AV63: 72
A64: 스프링클러헤드 - 철거 | B64: 폐쇄형, 플러쉬, 72℃ | C64: M | D64: 96 | E64: =TRUNC('일위대가목록-MF'!E4,0) -> 0 | F64: =TRUNC(E64*D64, 0) -> 0 | G64: =TRUNC('일위대가목록-MF'!F4,0) -> 0 | H64: =TRUNC(G64*D64, 0) -> 0 | I64: =TRUNC('일위대가목록-MF'!G4,0) -> 0 | J64: =TRUNC(I64*D64, 0) -> 0 | K64: =TRUNC(E64+G64+I64, 0) -> 0 | L64: =TRUNC(F64+H64+J64, 0) -> 0 | M64: 호표 1 | N64: 4469249BA7598CD4BAC6C24E5D1D5 | Q64: 0102 | R64: T | S64: F | T64: F | AU64: 01024469249BA7598CD4BAC6C24E5D1D5 | AV64: 73
A65: SP후렉시블관-철거 | C65: EA | D65: 96 | E65: =TRUNC('일위대가목록-MF'!E5,0) -> 0 | F65: =TRUNC(E65*D65, 0) -> 0 | G65: =TRUNC('일위대가목록-MF'!F5,0) -> 0 | H65: =TRUNC(G65*D65, 0) -> 0 | I65: =TRUNC('일위대가목록-MF'!G5,0) -> 0 | J65: =TRUNC(I65*D65, 0) -> 0 | K65: =TRUNC(E65+G65+I65, 0) -> 0 | L65: =TRUNC(F65+H65+J65, 0) -> 0 | M65: 호표 2 | N65: 44202E96256A0BA4CA86BFF04AECB | Q65: 0102 | R65: T | S65: F | T65: F | AU65: 010244202E96256A0BA4CA86BFF04AECB | AV65: 144
A66: 보통인부 | B66: 일반공사 직종 | C66: 인 | D66: ='공량산출근거서-MF'!K28 -> 10 | E66: =TRUNC('단가대비표-MF'!O69,0) -> 0 | F66: =TRUNC(E66*D66, 0) -> 0 | G66: =TRUNC('단가대비표-MF'!P69,0) -> 0 | H66: =TRUNC(G66*D66, 0) -> 0 | I66: =TRUNC('단가대비표-MF'!V69,0) -> 0 | J66: =TRUNC(I66*D66, 0) -> 0 | K66: =TRUNC(E66+G66+I66, 0) -> 0 | L66: =TRUNC(F66+H66+J66, 0) -> 0 | N66: 447F2693B791C424E2E645D4AF816276BBD9F | Q66: 0102 | R66: F | S66: F | T66: T | Y66: 2 | AU66: 0102447F2693B791C424E2E645D4AF816276BBD9F | AV66: 159
A67: 배관공 | B67: 일반공사 직종 | C67: 인 | D67: ='공량산출근거서-MF'!K29 -> 26 | E67: =TRUNC('단가대비표-MF'!O73,0) -> 0 | F67: =TRUNC(E67*D67, 0) -> 0 | G67: =TRUNC('단가대비표-MF'!P73,0) -> 0 | H67: =TRUNC(G67*D67, 0) -> 0 | I67: =TRUNC('단가대비표-MF'!V73,0) -> 0 | J67: =TRUNC(I67*D67, 0) -> 0 | K67: =TRUNC(E67+G67+I67, 0) -> 0 | L67: =TRUNC(F67+H67+J67, 0) -> 0 | N67: 447F2693B791C424E2E645D4AF816276BBEAD | Q67: 0102 | R67: F | S67: F | T67: T | Y67: 2 | AU67: 0102447F2693B791C424E2E645D4AF816276BBEAD | AV67: 160
A68: 공구손료 | B68: 인력품의 2% | C68: 식 | D68: 1 | E68: =ROUNDDOWN(SUMIF(Y29:Y68, RIGHTB(N68, 1), H29:H68)*W68, 0) -> 0 | F68: =TRUNC(E68*D68, 0) -> 0 | G68: 0 | H68: =TRUNC(G68*D68, 0) -> 0 | I68: 0 | J68: =TRUNC(I68*D68, 0) -> 0 | K68: =TRUNC(E68+G68+I68, 0) -> 0 | L68: =TRUNC(F68+H68+J68, 0) -> 0 | N68: 45B92D956649C4640696D9AD498002 | Q68: 0102 | R68: F | S68: F | T68: F | U68: 1 | V68: 0 | W68: 0.02 | AU68: 010245B92D956649C4640696D9AD498002 | AV68: 165
Q69: 0102
Q70: 0102
Q71: 0102
Q72: 0102
Q73: 0102
Q74: 0102
A75: [ 합 계 ] | F75: =SUMIF(Q29:Q74,"0102",F29:F74) -> 0 | H75: =SUMIF(Q29:Q74,"0102",H29:H74) -> 0 | J75: =SUMIF(Q29:Q74,"0102",J29:J74) -> 0 | L75: =SUMIF(Q29:Q74,"0102",L29:L74) -> 0 | N75: TOTAL
A76: 0103 지상 5층 후면부 설치공사 | Q76: 0103
A77: 배관용탄소강관 | B77: 배관용탄소강관, SPP(백관), ∮100mm, 반제품 | C77: M | D77: 28 | E77: =TRUNC('단가대비표-MF'!O34,0) -> 0 | F77: =TRUNC(E77*D77, 0) -> 0 | G77: =TRUNC('단가대비표-MF'!P34,0) -> 0 | H77: =TRUNC(G77*D77, 0) -> 0 | I77: =TRUNC('단가대비표-MF'!V34,0) -> 0 | J77: =TRUNC(I77*D77, 0) -> 0 | K77: =TRUNC(E77+G77+I77, 0) -> 0 | L77: =TRUNC(F77+H77+J77, 0) -> 0 | N77: 43FA209422A86EB481460F1290712EE0D096E | Q77: 0103 | R77: F | S77: F | T77: T | X77: 1 | AU77: 010343FA209422A86EB481460F1290712EE0D096E | AV77: 79
A78: 배관용탄소강관 | B78: 배관용탄소강관, SPP(백관), ∮65mm, 반제품 | C78: M | D78: 15 | E78: =TRUNC('단가대비표-MF'!O33,0) -> 0 | F78: =TRUNC(E78*D78, 0) -> 0 | G78: =TRUNC('단가대비표-MF'!P33,0) -> 0 | H78: =TRUNC(G78*D78, 0) -> 0 | I78: =TRUNC('단가대비표-MF'!V33,0) -> 0 | J78: =TRUNC(I78*D78, 0) -> 0 | K78: =TRUNC(E78+G78+I78, 0) -> 0 | L78: =TRUNC(F78+H78+J78, 0) -> 0 | N78: 43FA209422A86EB481460F1290712EE0D096C | Q78: 0103 | R78: F | S78: F | T78: T | X78: 1 | AU78: 010343FA209422A86EB481460F1290712EE0D096C | AV78: 80
A79: 배관용탄소강관 | B79: 배관용탄소강관, SPP(백관), ∮50mm, 반제품 | C79: M | D79: 16 | E79: =TRUNC('단가대비표-MF'!O32,0) -> 0 | F79: =TRUNC(E79*D79, 0) -> 0 | G79: =TRUNC('단가대비표-MF'!P32,0) -> 0 | H79: =TRUNC(G79*D79, 0) -> 0 | I79: =TRUNC('단가대비표-MF'!V32,0) -> 0 | J79: =TRUNC(I79*D79, 0) -> 0 | K79: =TRUNC(E79+G79+I79, 0) -> 0 | L79: =TRUNC(F79+H79+J79, 0) -> 0 | N79: 43FA209422A86EB481460F1290712EE0D0EE7 | Q79: 0103 | R79: F | S79: F | T79: T | X79: 1 | AU79: 010343FA209422A86EB481460F1290712EE0D0EE7 | AV79: 75
A80: 배관용탄소강관 | B80: 배관용탄소강관, SPP(백관), ∮40mm, 반제품 | C80: M | D80: 2 | E80: =TRUNC('단가대비표-MF'!O31,0) -> 0 | F80: =TRUNC(E80*D80, 0) -> 0 | G80: =TRUNC('단가대비표-MF'!P31,0) -> 0 | H80: =TRUNC(G80*D80, 0) -> 0 | I80: =TRUNC('단가대비표-MF'!V31,0) -> 0 | J80: =TRUNC(I80*D80, 0) -> 0 | K80: =TRUNC(E80+G80+I80, 0) -> 0 | L80: =TRUNC(F80+H80+J80, 0) -> 0 | N80: 43FA209422A86EB481460F1290712EE0D0EE6 | Q80: 0103 | R80: F | S80: F | T80: T | X80: 1 | AU80: 010343FA209422A86EB481460F1290712EE0D0EE6 | AV80: 76
A81: 배관용탄소강관 | B81: 배관용탄소강관, SPP(백관), ∮32mm, 반제품 | C81: M | D81: 9 | E81: =TRUNC('단가대비표-MF'!O30,0) -> 0 | F81: =TRUNC(E81*D81, 0) -> 0 | G81: =TRUNC('단가대비표-MF'!P30,0) -> 0 | H81: =TRUNC(G81*D81, 0) -> 0 | I81: =TRUNC('단가대비표-MF'!V30,0) -> 0 | J81: =TRUNC(I81*D81, 0) -> 0 | K81: =TRUNC(E81+G81+I81, 0) -> 0 | L81: =TRUNC(F81+H81+J81, 0) -> 0 | N81: 43FA209422A86EB481460F1290712EE0D0EE9 | Q81: 0103 | R81: F | S81: F | T81: T | X81: 1 | AU81: 010343FA209422A86EB481460F1290712EE0D0EE9 | AV81: 77
A82: 배관용탄소강관 | B82: 배관용탄소강관, SPP(백관), ∮25mm, 반제품 | C82: M | D82: 126 | E82: =TRUNC('단가대비표-MF'!O29,0) -> 0 | F82: =TRUNC(E82*D82, 0) -> 0 | G82: =TRUNC('단가대비표-MF'!P29,0) -> 0 | H82: =TRUNC(G82*D82, 0) -> 0 | I82: =TRUNC('단가대비표-MF'!V29,0) -> 0 | J82: =TRUNC(I82*D82, 0) -> 0 | K82: =TRUNC(E82+G82+I82, 0) -> 0 | L82: =TRUNC(F82+H82+J82, 0) -> 0 | N82: 43FA209422A86EB481460F1290712EE0D0EE8 | Q82: 0103 | R82: F | S82: F | T82: T | X82: 1 | AU82: 010343FA209422A86EB481460F1290712EE0D0EE8 | AV82: 78
A83: 잡재료비 | B83: 주재료비의 3% | C83: 식 | D83: 1 | E83: =ROUNDDOWN(SUMIF(X77:X130, RIGHTB(N83, 1), F77:F130)*W83, 0) -> 0 | F83: =TRUNC(E83*D83, 0) -> 0 | G83: 0 | H83: =TRUNC(G83*D83, 0) -> 0 | I83: 0 | J83: =TRUNC(I83*D83, 0) -> 0 | K83: =TRUNC(E83+G83+I83, 0) -> 0 | L83: =TRUNC(F83+H83+J83, 0) -> 0 | N83: 45B92D956649C4640696D9AD49B001 | Q83: 0103 | R83: F | S83: F | T83: F | U83: 0 | V83: 0 | W83: 0.03 | AU83: 010345B92D956649C4640696D9AD49B001 | AV83: 166
A84: 관보온(고무발포) | B84: 25t*D100 | C84: M | D84: 26 | E84: =TRUNC('일위대가목록-MF'!E18,0) -> 0 | F84: =TRUNC(E84*D84, 0) -> 0 | G84: =TRUNC('일위대가목록-MF'!F18,0) -> 0 | H84: =TRUNC(G84*D84, 0) -> 0 | I84: =TRUNC('일위대가목록-MF'!G18,0) -> 0 | J84: =TRUNC(I84*D84, 0) -> 0 | K84: =TRUNC(E84+G84+I84, 0) -> 0 | L84: =TRUNC(F84+H84+J84, 0) -> 0 | M84: 호표 15 | N84: 44692B901ED53714CD46B4DF968EB | Q84: 0103 | R84: T | S84: F | T84: F | AU84: 010344692B901ED53714CD46B4DF968EB | AV84: 85
A85: 관보온(고무발포) | B85: 25t*D65 | C85: M | D85: 14 | E85: =TRUNC('일위대가목록-MF'!E19,0) -> 0 | F85: =TRUNC(E85*D85, 0) -> 0 | G85: =TRUNC('일위대가목록-MF'!F19,0) -> 0 | H85: =TRUNC(G85*D85, 0) -> 0 | I85: =TRUNC('일위대가목록-MF'!G19,0) -> 0 | J85: =TRUNC(I85*D85, 0) -> 0 | K85: =TRUNC(E85+G85+I85, 0) -> 0 | L85: =TRUNC(F85+H85+J85, 0) -> 0 | M85: 호표 16 | N85: 44692B9028ADE67486D64BFDC3A6C | Q85: 0103 | R85: T | S85: F | T85: F | AU85: 010344692B9028ADE67486D64BFDC3A6C | AV85: 86
A86: 관보온(고무발포) | B86: 25t*D50 | C86: M | D86: 15 | E86: =TRUNC('일위대가목록-MF'!E6,0) -> 0 | F86: =TRUNC(E86*D86, 0) -> 0 | G86: =TRUNC('일위대가목록-MF'!F6,0) -> 0 | H86: =TRUNC(G86*D86, 0) -> 0 | I86: =TRUNC('일위대가목록-MF'!G6,0) -> 0 | J86: =TRUNC(I86*D86, 0) -> 0 | K86: =TRUNC(E86+G86+I86, 0) -> 0 | L86: =TRUNC(F86+H86+J86, 0) -> 0 | M86: 호표 3 | N86: 44692B9028ADF7E4040656C731C57 | Q86: 0103 | R86: T | S86: F | T86: F | AU86: 010344692B9028ADF7E4040656C731C57 | AV86: 81
A87: 관보온(고무발포) | B87: 25t*D40 | C87: M | D87: 2 | E87: =TRUNC('일위대가목록-MF'!E7,0) -> 0 | F87: =TRUNC(E87*D87, 0) -> 0 | G87: =TRUNC('일위대가목록-MF'!F7,0) -> 0 | H87: =TRUNC(G87*D87, 0) -> 0 | I87: =TRUNC('일위대가목록-MF'!G7,0) -> 0 | J87: =TRUNC(I87*D87, 0) -> 0 | K87: =TRUNC(E87+G87+I87, 0) -> 0 | L87: =TRUNC(F87+H87+J87, 0) -> 0 | M87: 호표 4 | N87: 44692B9028ADCAA4A5864A42D6818 | Q87: 0103 | R87: T | S87: F | T87: F | AU87: 010344692B9028ADCAA4A5864A42D6818 | AV87: 82
A88: 관보온(고무발포) | B88: 25t*D32 | C88: M | D88: 9 | E88: =TRUNC('일위대가목록-MF'!E8,0) -> 0 | F88: =TRUNC(E88*D88, 0) -> 0 | G88: =TRUNC('일위대가목록-MF'!F8,0) -> 0 | H88: =TRUNC(G88*D88, 0) -> 0 | I88: =TRUNC('일위대가목록-MF'!G8,0) -> 0 | J88: =TRUNC(I88*D88, 0) -> 0 | K88: =TRUNC(E88+G88+I88, 0) -> 0 | L88: =TRUNC(F88+H88+J88, 0) -> 0 | M88: 호표 5 | N88: 44692B9028ADD404FCA6AC1D166FA | Q88: 0103 | R88: T | S88: F | T88: F | AU88: 010344692B9028ADD404FCA6AC1D166FA | AV88: 83
A89: 관보온(고무발포) | B89: 25t*D25 | C89: M | D89: 115 | E89: =TRUNC('일위대가목록-MF'!E9,0) -> 0 | F89: =TRUNC(E89*D89, 0) -> 0 | G89: =TRUNC('일위대가목록-MF'!F9,0) -> 0 | H89: =TRUNC(G89*D89, 0) -> 0 | I89: =TRUNC('일위대가목록-MF'!G9,0) -> 0 | J89: =TRUNC(I89*D89, 0) -> 0 | K89: =TRUNC(E89+G89+I89, 0) -> 0 | L89: =TRUNC(F89+H89+J89, 0) -> 0 | M89: 호표 6 | N89: 44692B9028ADAFC4C956C8233057A | Q89: 0103 | R89: T | S89: F | T89: F | AU89: 010344692B9028ADAFC4C956C8233057A | AV89: 84
A90: 용접식강관이음쇠 | B90: 용접식강관이음쇠, ∮100mm, 백엘보, 용접 | C90: 개 | D90: 3 | E90: =TRUNC('단가대비표-MF'!O35,0) -> 0 | F90: =TRUNC(E90*D90, 0) -> 0 | G90: =TRUNC('단가대비표-MF'!P35,0) -> 0 | H90: =TRUNC(G90*D90, 0) -> 0 | I90: =TRUNC('단가대비표-MF'!V35,0) -> 0 | J90: =TRUNC(I90*D90, 0) -> 0 | K90: =TRUNC(E90+G90+I90, 0) -> 0 | L90: =TRUNC(F90+H90+J90, 0) -> 0 | N90: 43FA209422A86E94DB3635647F51C272E61EA | Q90: 0103 | R90: F | S90: F | T90: T | AU90: 010343FA209422A86E94DB3635647F51C272E61EA | AV90: 88
A91: 나사식강관제관이음쇠 | B91: 나사식강관제관이음쇠, ∮50mm, 백엘보, 나사 | C91: 개 | D91: 3 | E91: =TRUNC('단가대비표-MF'!O46,0) -> 0 | F91: =TRUNC(E91*D91, 0) -> 0 | G91: =TRUNC('단가대비표-MF'!P46,0) -> 0 | H91: =TRUNC(G91*D91, 0) -> 0 | I91: =TRUNC('단가대비표-MF'!V46,0) -> 0 | J91: =TRUNC(I91*D91, 0) -> 0 | K91: =TRUNC(E91+G91+I91, 0) -> 0 | L91: =TRUNC(F91+H91+J91, 0) -> 0 | N91: 43FA209422A86E94DA16CD542A8B2289FBF83 | Q91: 0103 | R91: F | S91: F | T91: T | AU91: 010343FA209422A86E94DA16CD542A8B2289FBF83 | AV91: 87
A92: 나사식강관제관이음쇠 | B92: 나사식강관제관이음쇠, ∮25mm, 백엘보, 나사 | C92: 개 | D92: 1 | E92: =TRUNC('단가대비표-MF'!O43,0) -> 0 | F92: =TRUNC(E92*D92, 0) -> 0 | G92: =TRUNC('단가대비표-MF'!P43,0) -> 0 | H92: =TRUNC(G92*D92, 0) -> 0 | I92: =TRUNC('단가대비표-MF'!V43,0) -> 0 | J92: =TRUNC(I92*D92, 0) -> 0 | K92: =TRUNC(E92+G92+I92, 0) -> 0 | L92: =TRUNC(F92+H92+J92, 0) -> 0 | N92: 43FA209422A86E94DA16CD542A8B2289FBF86 | Q92: 0103 | R92: F | S92: F | T92: T | AU92: 010343FA209422A86E94DA16CD542A8B2289FBF86 | AV92: 89
A93: 용접식강관이음쇠 | B93: 용접식강관이음쇠, ∮150mm, 백티, 용접 | C93: 개 | D93: 1 | E93: =TRUNC('단가대비표-MF'!O38,0) -> 0 | F93: =TRUNC(E93*D93, 0) -> 0 | G93: =TRUNC('단가대비표-MF'!P38,0) -> 0 | H93: =TRUNC(G93*D93, 0) -> 0 | I93: =TRUNC('단가대비표-MF'!V38,0) -> 0 | J93: =TRUNC(I93*D93, 0) -> 0 | K93: =TRUNC(E93+G93+I93, 0) -> 0 | L93: =TRUNC(F93+H93+J93, 0) -> 0 | N93: 43FA209422A86E94DB3635647F51C272F786D | Q93: 0103 | R93: F | S93: F | T93: T | AU93: 010343FA209422A86E94DB3635647F51C272F786D | AV93: 90
A94: 용접식강관이음쇠 | B94: 용접식강관이음쇠, ∮100mm, 백티, 용접 | C94: 개 | D94: 7 | E94: =TRUNC('단가대비표-MF'!O37,0) -> 0 | F94: =TRUNC(E94*D94, 0) -> 0 | G94: =TRUNC('단가대비표-MF'!P37,0) -> 0 | H94: =TRUNC(G94*D94, 0) -> 0 | I94: =TRUNC('단가대비표-MF'!V37,0) -> 0 | J94: =TRUNC(I94*D94, 0) -> 0 | K94: =TRUNC(E94+G94+I94, 0) -> 0 | L94: =TRUNC(F94+H94+J94, 0) -> 0 | N94: 43FA209422A86E94DB3635647F51C272F786B | Q94: 0103 | R94: F | S94: F | T94: T | AU94: 010343FA209422A86E94DB3635647F51C272F786B | AV94: 91
A95: 용접식강관이음쇠 | B95: 용접식강관이음쇠, ∮65mm, 백티, 용접 | C95: 개 | D95: 6 | E95: =TRUNC('단가대비표-MF'!O36,0) -> 0 | F95: =TRUNC(E95*D95, 0) -> 0 | G95: =TRUNC('단가대비표-MF'!P36,0) -> 0 | H95: =TRUNC(G95*D95, 0) -> 0 | I95: =TRUNC('단가대비표-MF'!V36,0) -> 0 | J95: =TRUNC(I95*D95, 0) -> 0 | K95: =TRUNC(E95+G95+I95, 0) -> 0 | L95: =TRUNC(F95+H95+J95, 0) -> 0 | N95: 43FA209422A86E94DB3635647F51C272F7869 | Q95: 0103 | R95: F | S95: F | T95: T | AU95: 010343FA209422A86E94DB3635647F51C272F7869 | AV95: 92
A96: 나사식강관제관이음쇠 | B96: 나사식강관제관이음쇠, ∮40mm, 백티, 나사 | C96: 개 | D96: 2 | E96: =TRUNC('단가대비표-MF'!O49,0) -> 0 | F96: =TRUNC(E96*D96, 0) -> 0 | G96: =TRUNC('단가대비표-MF'!P49,0) -> 0 | H96: =TRUNC(G96*D96, 0) -> 0 | I96: =TRUNC('단가대비표-MF'!V49,0) -> 0 | J96: =TRUNC(I96*D96, 0) -> 0 | K96: =TRUNC(E96+G96+I96, 0) -> 0 | L96: =TRUNC(F96+H96+J96, 0) -> 0 | N96: 43FA209422A86E94DA16CD542A8B2289FB127 | Q96: 0103 | R96: F | S96: F | T96: T | AU96: 010343FA209422A86E94DA16CD542A8B2289FB127 | AV96: 93
A97: 나사식강관제관이음쇠 | B97: 나사식강관제관이음쇠, ∮32mm, 백티, 나사 | C97: 개 | D97: 9 | E97: =TRUNC('단가대비표-MF'!O48,0) -> 0 | F97: =TRUNC(E97*D97, 0) -> 0 | G97: =TRUNC('단가대비표-MF'!P48,0) -> 0 | H97: =TRUNC(G97*D97, 0) -> 0 | I97: =TRUNC('단가대비표-MF'!V48,0) -> 0 | J97: =TRUNC(I97*D97, 0) -> 0 | K97: =TRUNC(E97+G97+I97, 0) -> 0 | L97: =TRUNC(F97+H97+J97, 0) -> 0 | N97: 43FA209422A86E94DA16CD542A8B2289FB126 | Q97: 0103 | R97: F | S97: F | T97: T | AU97: 010343FA209422A86E94DA16CD542A8B2289FB126 | AV97: 94
A98: 나사식강관제관이음쇠 | B98: 나사식강관제관이음쇠, ∮25mm, 백티, 나사 | C98: 개 | D98: 53 | E98: =TRUNC('단가대비표-MF'!O47,0) -> 0 | F98: =TRUNC(E98*D98, 0) -> 0 | G98: =TRUNC('단가대비표-MF'!P47,0) -> 0 | H98: =TRUNC(G98*D98, 0) -> 0 | I98: =TRUNC('단가대비표-MF'!V47,0) -> 0 | J98: =TRUNC(I98*D98, 0) -> 0 | K98: =TRUNC(E98+G98+I98, 0) -> 0 | L98: =TRUNC(F98+H98+J98, 0) -> 0 | N98: 43FA209422A86E94DA16CD542A8B2289FBEF7 | Q98: 0103 | R98: F | S98: F | T98: T | AU98: 010343FA209422A86E94DA16CD542A8B2289FBEF7 | AV98: 95
A99: 용접식강관이음쇠 | B99: 용접식강관이음쇠, ∮150mm, 백리듀서, 용접 | C99: 개 | D99: 1 | E99: =TRUNC('단가대비표-MF'!O42,0) -> 0 | F99: =TRUNC(E99*D99, 0) -> 0 | G99: =TRUNC('단가대비표-MF'!P42,0) -> 0 | H99: =TRUNC(G99*D99, 0) -> 0 | I99: =TRUNC('단가대비표-MF'!V42,0) -> 0 | J99: =TRUNC(I99*D99, 0) -> 0 | K99: =TRUNC(E99+G99+I99, 0) -> 0 | L99: =TRUNC(F99+H99+J99, 0) -> 0 | N99: 43FA209422A86E94DB3635647F51C272082C7 | Q99: 0103 | R99: F | S99: F | T99: T | AU99: 010343FA209422A86E94DB3635647F51C272082C7 | AV99: 96
A100: 용접식강관이음쇠 | B100: 용접식강관이음쇠, ∮100mm, 백리듀서, 용접 | C100: 개 | D100: 7 | E100: =TRUNC('단가대비표-MF'!O41,0) -> 0 | F100: =TRUNC(E100*D100, 0) -> 0 | G100: =TRUNC('단가대비표-MF'!P41,0) -> 0 | H100: =TRUNC(G100*D100, 0) -> 0 | I100: =TRUNC('단가대비표-MF'!V41,0) -> 0 | J100: =TRUNC(I100*D100, 0) -> 0 | K100: =TRUNC(E100+G100+I100, 0) -> 0 | L100: =TRUNC(F100+H100+J100, 0) -> 0 | N100: 43FA209422A86E94DB3635647F51C27208DD9 | Q100: 0103 | R100: F | S100: F | T100: T | AU100: 010343FA209422A86E94DB3635647F51C27208DD9 | AV100: 97
...

Sheet 공량산출근거서-MF
A1: 공 량 산 출 근 거 서
A2: [ 전남광주통합특별시의회 광주청사 환경개선공사(소방기계) ]
A3: 코 드 | B3: 품 명 | C3: 규 격 | D3: 단위 | E3: 품 셈 목 록 | F3: 수 량 | G3: 할증 | H3: 노임할증-1 | I3: 노임할증-2 | J3: 노임할증-3 | K3: 내역수량 | L3: 직 종 명 | M3: 공 량 | N3: 계 | O3: 번 호 | P3: 비 고 | T3: 공종+자재 | V3: 보통인부 | W3: 배관공
B4: 01 지하 1층 설치공사
A5: 43FA269EA2312574A546013C08556B1B46161 | B5: 소방용헤드 | C5: 스프링클러, 플러쉬 조기반응형, 72℃(하) | D5: 개 | E5: 소방 6-3-1 | F5: 39 | G5: 0 | K5: 39 | L5: 보통인부 | M5: =0.037*(H5+100)/100*(I5+100)/100*(J5+100)/100 -> 0.037 | N5: =F5*M5 -> 1.443 | O5: 노임 1 | P5: 0.037*1 | Q5: 0101 | R5: 447F2693B791C424E2E645D4AF816276BBD9F | S5: 0.037 | T5: 010143FA269EA2312574A546013C08556B1B46161 | V5: =N5 -> 1.443
L6: 배관공 | M6: =0.092*(H5+100)/100*(I5+100)/100*(J5+100)/100 -> 0.092 | N6: =F5*M6 -> 3.588 | O6: 노임 5 | P6: 0.092*1 | Q6: 0101 | R6: 447F2693B791C424E2E645D4AF816276BBEAD | S6: 0.092 | T6: 010143FA269EA2312574A546013C08556B1B46161 | W6: =N6 -> 3.588
A7: 43FA269EA2312574A546013C08556B1B46160 | B7: 소방용헤드 | C7: 스프링클러, 플러쉬 조기반응형, 103℃(하) | D7: 개 | E7: 소방 6-3-1 | F7: 1 | G7: 0 | K7: 1 | L7: 보통인부 | M7: =0.037*(H7+100)/100*(I7+100)/100*(J7+100)/100 -> 0.037 | N7: =F7*M7 -> 0.037 | O7: 노임 1 | P7: 0.037*1 | Q7: 0101 | R7: 447F2693B791C424E2E645D4AF816276BBD9F | S7: 0.037 | T7: 010143FA269EA2312574A546013C08556B1B46160 | V7: =N7 -> 0.037
L8: 배관공 | M8: =0.092*(H7+100)/100*(I7+100)/100*(J7+100)/100 -> 0.092 | N8: =F7*M8 -> 0.092 | O8: 노임 5 | P8: 0.092*1 | Q8: 0101 | R8: 447F2693B791C424E2E645D4AF816276BBEAD | S8: 0.092 | T8: 010143FA269EA2312574A546013C08556B1B46160 | W8: =N8 -> 0.092
A9: 43FA269EA2312574A546013C2B090B707FAB2 | B9: SP후렉시블관 | C9: SP후렉시블관, 2500MM, KFI인증 | D9: 개 | E9: 소방-6-3-2 | F9: 40 | G9: 0 | H9: 0 | I9: 0 | J9: 0 | K9: 40 | L9: 보통인부 | M9: =0.029*(H9+100)/100*(I9+100)/100*(J9+100)/100 -> 0.029 | N9: =F9*M9 -> 1.16 | O9: 노임 1 | P9: 0.029*1 | Q9: 0101 | R9: 447F2693B791C424E2E645D4AF816276BBD9F | S9: 0.029 | T9: 010143FA269EA2312574A546013C2B090B707FAB2 | V9: =N9 -> 1.16
L10: 배관공 | M10: =0.046*(H9+100)/100*(I9+100)/100*(J9+100)/100 -> 0.046 | N10: =F9*M10 -> 1.84 | O10: 노임 5 | P10: 0.046*1 | Q10: 0101 | R10: 447F2693B791C424E2E645D4AF816276BBEAD | S10: 0.046 | T10: 010143FA269EA2312574A546013C2B090B707FAB2 | W10: =N10 -> 1.84
A11: 447F2693B791C424E2E645D4AF816276BBD9F | B11: 보통인부 | C11: 일반공사 직종 | D11: 인 | F11: =SUM(V5:V10) -> 2.64 | K11: =IF(TRUNC(F11*[1]공량설정!B2/100, [1]공량설정!C3) = 0, 1, TRUNC(F11*[1]공량설정!B2/100, [1]공량설정!C3)) -> 2 | O11: 노임 1 | Q11: 0101 | T11: 0101447F2693B791C424E2E645D4AF816276BBD9F
A12: 447F2693B791C424E2E645D4AF816276BBEAD | B12: 배관공 | C12: 일반공사 직종 | D12: 인 | F12: =SUM(W5:W10) -> 5.52 | K12: =IF(TRUNC(F12*[1]공량설정!B2/100, [1]공량설정!C4) = 0, 1, TRUNC(F12*[1]공량설정!B2/100, [1]공량설정!C4)) -> 5 | O12: 노임 5 | Q12: 0101 | T12: 0101447F2693B791C424E2E645D4AF816276BBEAD
B13: 02 지상 5층 전면부 설치공사
A14: 43FA209422A86EB481460F1290712EE0D0EE7 | B14: 배관용탄소강관 | C14: 배관용탄소강관, SPP(백관), ∮50mm, 반제품 | D14: M | E14: 기계 1-1-2 | F14: 9 | G14: 10 | H14: 0 | I14: 0 | J14: 0 | K14: 9 | L14: 보통인부 | M14: =0.027*(H14+100)/100*(I14+100)/100*(J14+100)/100 -> 0.027 | N14: =F14*M14 -> 0.243 | O14: 노임 1 | P14: 0.027*1 | Q14: 0102 | R14: 447F2693B791C424E2E645D4AF816276BBD9F | S14: 0.027 | T14: 010243FA209422A86EB481460F1290712EE0D0EE7 | V14: =N14 -> 0.243
L15: 배관공 | M15: =0.081*(H14+100)/100*(I14+100)/100*(J14+100)/100 -> 0.081 | N15: =F14*M15 -> 0.729 | O15: 노임 5 | P15: 0.081*1 | Q15: 0102 | R15: 447F2693B791C424E2E645D4AF816276BBEAD | S15: 0.081 | T15: 010243FA209422A86EB481460F1290712EE0D0EE7 | W15: =N15 -> 0.729
A16: 43FA209422A86EB481460F1290712EE0D0EE6 | B16: 배관용탄소강관 | C16: 배관용탄소강관, SPP(백관), ∮40mm, 반제품 | D16: M | E16: 기계 1-1-2 | F16: 89 | G16: 10 | K16: 97 | L16: 보통인부 | M16: =0.022*(H16+100)/100*(I16+100)/100*(J16+100)/100 -> 0.022 | N16: =F16*M16 -> 1.958 | O16: 노임 1 | P16: 0.022*1 | Q16: 0102 | R16: 447F2693B791C424E2E645D4AF816276BBD9F | S16: 0.022 | T16: 010243FA209422A86EB481460F1290712EE0D0EE6 | V16: =N16 -> 1.958
L17: 배관공 | M17: =0.067*(H16+100)/100*(I16+100)/100*(J16+100)/100 -> 0.067 | N17: =F16*M17 -> 5.963 | O17: 노임 5 | P17: 0.067*1 | Q17: 0102 | R17: 447F2693B791C424E2E645D4AF816276BBEAD | S17: 0.067 | T17: 010243FA209422A86EB481460F1290712EE0D0EE6 | W17: =N17 -> 5.963
A18: 43FA209422A86EB481460F1290712EE0D0EE9 | B18: 배관용탄소강관 | C18: 배관용탄소강관, SPP(백관), ∮32mm, 반제품 | D18: M | E18: 기계 1-1-2 | F18: 43 | G18: 10 | H18: 0 | I18: 0 | J18: 0 | K18: 47 | L18: 보통인부 | M18: =0.02*(H18+100)/100*(I18+100)/100*(J18+100)/100 -> 0.02 | N18: =F18*M18 -> 0.86 | O18: 노임 1 | P18: 0.02*1 | Q18: 0102 | R18: 447F2693B791C424E2E645D4AF816276BBD9F | S18: 0.02 | T18: 010243FA209422A86EB481460F1290712EE0D0EE9 | V18: =N18 -> 0.86
L19: 배관공 | M19: =0.06*(H18+100)/100*(I18+100)/100*(J18+100)/100 -> 0.06 | N19: =F18*M19 -> 2.58 | O19: 노임 5 | P19: 0.06*1 | Q19: 0102 | R19: 447F2693B791C424E2E645D4AF816276BBEAD | S19: 0.06 | T19: 010243FA209422A86EB481460F1290712EE0D0EE9 | W19: =N19 -> 2.58
A20: 43FA209422A86EB481460F1290712EE0D0EE8 | B20: 배관용탄소강관 | C20: 배관용탄소강관, SPP(백관), ∮25mm, 반제품 | D20: M | E20: 기계 1-1-2 | F20: 99 | G20: 10 | K20: 108 | L20: 보통인부 | M20: =0.017*(H20+100)/100*(I20+100)/100*(J20+100)/100 -> 0.017 | N20: =F20*M20 -> 1.683 | O20: 노임 1 | P20: 0.017*1 | Q20: 0102 | R20: 447F2693B791C424E2E645D4AF816276BBD9F | S20: 0.017 | T20: 010243FA209422A86EB481460F1290712EE0D0EE8 | V20: =N20 -> 1.683
L21: 배관공 | M21: =0.05*(H20+100)/100*(I20+100)/100*(J20+100)/100 -> 0.05 | N21: =F20*M21 -> 4.95 | O21: 노임 5 | P21: 0.05*1 | Q21: 0102 | R21: 447F2693B791C424E2E645D4AF816276BBEAD | S21: 0.05 | T21: 010243FA209422A86EB481460F1290712EE0D0EE8 | W21: =N21 -> 4.95
A22: 43FA269EA2312574A546013C08556B1B46161 | B22: 소방용헤드 | C22: 스프링클러, 플러쉬 조기반응형, 72℃(하) | D22: 개 | E22: 소방 6-3-1 | F22: 88 | G22: 0 | K22: 88 | L22: 보통인부 | M22: =0.037*(H22+100)/100*(I22+100)/100*(J22+100)/100 -> 0.037 | N22: =F22*M22 -> 3.256 | O22: 노임 1 | P22: 0.037*1 | Q22: 0102 | R22: 447F2693B791C424E2E645D4AF816276BBD9F | S22: 0.037 | T22: 010243FA269EA2312574A546013C08556B1B46161 | V22: =N22 -> 3.256
L23: 배관공 | M23: =0.092*(H22+100)/100*(I22+100)/100*(J22+100)/100 -> 0.092 | N23: =F22*M23 -> 8.096 | O23: 노임 5 | P23: 0.092*1 | Q23: 0102 | R23: 447F2693B791C424E2E645D4AF816276BBEAD | S23: 0.092 | T23: 010243FA269EA2312574A546013C08556B1B46161 | W23: =N23 -> 8.096
A24: 43FA269EA2312574A546013C08556B1B46160 | B24: 소방용헤드 | C24: 스프링클러, 플러쉬 조기반응형, 103℃(하) | D24: 개 | E24: 소방 6-3-1 | F24: 3 | G24: 0 | K24: 3 | L24: 보통인부 | M24: =0.037*(H24+100)/100*(I24+100)/100*(J24+100)/100 -> 0.037 | N24: =F24*M24 -> 0.111 | O24: 노임 1 | P24: 0.037*1 | Q24: 0102 | R24: 447F2693B791C424E2E645D4AF816276BBD9F | S24: 0.037 | T24: 010243FA269EA2312574A546013C08556B1B46160 | V24: =N24 -> 0.111
L25: 배관공 | M25: =0.092*(H24+100)/100*(I24+100)/100*(J24+100)/100 -> 0.092 | N25: =F24*M25 -> 0.276 | O25: 노임 5 | P25: 0.092*1 | Q25: 0102 | R25: 447F2693B791C424E2E645D4AF816276BBEAD | S25: 0.092 | T25: 010243FA269EA2312574A546013C08556B1B46160 | W25: =N25 -> 0.276
A26: 43FA269EA2312574A546013C2B090B707FAB2 | B26: SP후렉시블관 | C26: SP후렉시블관, 2500MM, KFI인증 | D26: 개 | E26: 소방-6-3-2 | F26: 91 | G26: 0 | H26: 0 | I26: 0 | J26: 0 | K26: 91 | L26: 보통인부 | M26: =0.029*(H26+100)/100*(I26+100)/100*(J26+100)/100 -> 0.029 | N26: =F26*M26 -> 2.639 | O26: 노임 1 | P26: 0.029*1 | Q26: 0102 | R26: 447F2693B791C424E2E645D4AF816276BBD9F | S26: 0.029 | T26: 010243FA269EA2312574A546013C2B090B707FAB2 | V26: =N26 -> 2.639
L27: 배관공 | M27: =0.046*(H26+100)/100*(I26+100)/100*(J26+100)/100 -> 0.046 | N27: =F26*M27 -> 4.186 | O27: 노임 5 | P27: 0.046*1 | Q27: 0102 | R27: 447F2693B791C424E2E645D4AF816276BBEAD | S27: 0.046 | T27: 010243FA269EA2312574A546013C2B090B707FAB2 | W27: =N27 -> 4.186
A28: 447F2693B791C424E2E645D4AF816276BBD9F | B28: 보통인부 | C28: 일반공사 직종 | D28: 인 | F28: =SUM(V14:V27) -> 10.75 | K28: =IF(TRUNC(F28*[1]공량설정!B5/100, [1]공량설정!C6) = 0, 1, TRUNC(F28*[1]공량설정!B5/100, [1]공량설정!C6)) -> 10 | O28: 노임 1 | Q28: 0102 | T28: 0102447F2693B791C424E2E645D4AF816276BBD9F
A29: 447F2693B791C424E2E645D4AF816276BBEAD | B29: 배관공 | C29: 일반공사 직종 | D29: 인 | F29: =SUM(W14:W27) -> 26.78 | K29: =IF(TRUNC(F29*[1]공량설정!B5/100, [1]공량설정!C7) = 0, 1, TRUNC(F29*[1]공량설정!B5/100, [1]공량설정!C7)) -> 26 | O29: 노임 5 | Q29: 0102 | T29: 0102447F2693B791C424E2E645D4AF816276BBEAD
B30: 03 지상 5층 후면부 설치공사
A31: 43FA209422A86EB481460F1290712EE0D096E | B31: 배관용탄소강관 | C31: 배관용탄소강관, SPP(백관), ∮100mm, 반제품 | D31: M | E31: 기계 1-1-2 | F31: 26 | G31: 10 | K31: 28 | L31: 보통인부 | M31: =0.056*(H31+100)/100*(I31+100)/100*(J31+100)/100 -> 0.056 | N31: =F31*M31 -> 1.456 | O31: 노임 1 | P31: 0.056*1 | Q31: 0103 | R31: 447F2693B791C424E2E645D4AF816276BBD9F | S31: 0.056 | T31: 010343FA209422A86EB481460F1290712EE0D096E | V31: =N31 -> 1.456
L32: 배관공 | M32: =0.167*(H31+100)/100*(I31+100)/100*(J31+100)/100 -> 0.167 | N32: =F31*M32 -> 4.342 | O32: 노임 5 | P32: 0.167*1 | Q32: 0103 | R32: 447F2693B791C424E2E645D4AF816276BBEAD | S32: 0.167 | T32: 010343FA209422A86EB481460F1290712EE0D096E | W32: =N32 -> 4.342
A33: 43FA209422A86EB481460F1290712EE0D096C | B33: 배관용탄소강관 | C33: 배관용탄소강관, SPP(백관), ∮65mm, 반제품 | D33: M | E33: 기계 1-1-2 | F33: 14 | G33: 10 | K33: 15 | L33: 보통인부 | M33: =0.033*(H33+100)/100*(I33+100)/100*(J33+100)/100 -> 0.033 | N33: =F33*M33 -> 0.462 | O33: 노임 1 | P33: 0.033*1 | Q33: 0103 | R33: 447F2693B791C424E2E645D4AF816276BBD9F | S33: 0.033 | T33: 010343FA209422A86EB481460F1290712EE0D096C | V33: =N33 -> 0.462
L34: 배관공 | M34: =0.1*(H33+100)/100*(I33+100)/100*(J33+100)/100 -> 0.1 | N34: =F33*M34 -> 1.4 | O34: 노임 5 | P34: 0.1*1 | Q34: 0103 | R34: 447F2693B791C424E2E645D4AF816276BBEAD | S34: 0.1 | T34: 010343FA209422A86EB481460F1290712EE0D096C | W34: =N34 -> 1.4
A35: 43FA209422A86EB481460F1290712EE0D0EE7 | B35: 배관용탄소강관 | C35: 배관용탄소강관, SPP(백관), ∮50mm, 반제품 | D35: M | E35: 기계 1-1-2 | F35: 15 | G35: 10 | H35: 0 | I35: 0 | J35: 0 | K35: 16 | L35: 보통인부 | M35: =0.027*(H35+100)/100*(I35+100)/100*(J35+100)/100 -> 0.027 | N35: =F35*M35 -> 0.405 | O35: 노임 1 | P35: 0.027*1 | Q35: 0103 | R35: 447F2693B791C424E2E645D4AF816276BBD9F | S35: 0.027 | T35: 010343FA209422A86EB481460F1290712EE0D0EE7 | V35: =N35 -> 0.405
L36: 배관공 | M36: =0.081*(H35+100)/100*(I35+100)/100*(J35+100)/100 -> 0.081 | N36: =F35*M36 -> 1.215 | O36: 노임 5 | P36: 0.081*1 | Q36: 0103 | R36: 447F2693B791C424E2E645D4AF816276BBEAD | S36: 0.081 | T36: 010343FA209422A86EB481460F1290712EE0D0EE7 | W36: =N36 -> 1.215
A37: 43FA209422A86EB481460F1290712EE0D0EE6 | B37: 배관용탄소강관 | C37: 배관용탄소강관, SPP(백관), ∮40mm, 반제품 | D37: M | E37: 기계 1-1-2 | F37: 2 | G37: 10 | K37: 2 | L37: 보통인부 | M37: =0.022*(H37+100)/100*(I37+100)/100*(J37+100)/100 -> 0.022 | N37: =F37*M37 -> 0.044 | O37: 노임 1 | P37: 0.022*1 | Q37: 0103 | R37: 447F2693B791C424E2E645D4AF816276BBD9F | S37: 0.022 | T37: 010343FA209422A86EB481460F1290712EE0D0EE6 | V37: =N37 -> 0.044
L38: 배관공 | M38: =0.067*(H37+100)/100*(I37+100)/100*(J37+100)/100 -> 0.067 | N38: =F37*M38 -> 0.134 | O38: 노임 5 | P38: 0.067*1 | Q38: 0103 | R38: 447F2693B791C424E2E645D4AF816276BBEAD | S38: 0.067 | T38: 010343FA209422A86EB481460F1290712EE0D0EE6 | W38: =N38 -> 0.134
A39: 43FA209422A86EB481460F1290712EE0D0EE9 | B39: 배관용탄소강관 | C39: 배관용탄소강관, SPP(백관), ∮32mm, 반제품 | D39: M | E39: 기계 1-1-2 | F39: 9 | G39: 10 | H39: 0 | I39: 0 | J39: 0 | K39: 9 | L39: 보통인부 | M39: =0.02*(H39+100)/100*(I39+100)/100*(J39+100)/100 -> 0.02 | N39: =F39*M39 -> 0.18 | O39: 노임 1 | P39: 0.02*1 | Q39: 0103 | R39: 447F2693B791C424E2E645D4AF816276BBD9F | S39: 0.02 | T39: 010343FA209422A86EB481460F1290712EE0D0EE9 | V39: =N39 -> 0.18
L40: 배관공 | M40: =0.06*(H39+100)/100*(I39+100)/100*(J39+100)/100 -> 0.06 | N40: =F39*M40 -> 0.54 | O40: 노임 5 | P40: 0.06*1 | Q40: 0103 | R40: 447F2693B791C424E2E645D4AF816276BBEAD | S40: 0.06 | T40: 010343FA209422A86EB481460F1290712EE0D0EE9 | W40: =N40 -> 0.54
A41: 43FA209422A86EB481460F1290712EE0D0EE8 | B41: 배관용탄소강관 | C41: 배관용탄소강관, SPP(백관), ∮25mm, 반제품 | D41: M | E41: 기계 1-1-2 | F41: 115 | G41: 10 | K41: 126 | L41: 보통인부 | M41: =0.017*(H41+100)/100*(I41+100)/100*(J41+100)/100 -> 0.017 | N41: =F41*M41 -> 1.955 | O41: 노임 1 | P41: 0.017*1 | Q41: 0103 | R41: 447F2693B791C424E2E645D4AF816276BBD9F | S41: 0.017 | T41: 010343FA209422A86EB481460F1290712EE0D0EE8 | V41: =N41 -> 1.955
L42: 배관공 | M42: =0.05*(H41+100)/100*(I41+100)/100*(J41+100)/100 -> 0.05 | N42: =F41*M42 -> 5.75 | O42: 노임 5 | P42: 0.05*1 | Q42: 0103 | R42: 447F2693B791C424E2E645D4AF816276BBEAD | S42: 0.05 | T42: 010343FA209422A86EB481460F1290712EE0D0EE8 | W42: =N42 -> 5.75
A43: 43FA269EA2312574A546013C08556B1B46161 | B43: 소방용헤드 | C43: 스프링클러, 플러쉬 조기반응형, 72℃(하) | D43: 개 | E43: 소방 6-3-1 | F43: 54 | G43: 0 | K43: 54 | L43: 보통인부 | M43: =0.037*(H43+100)/100*(I43+100)/100*(J43+100)/100 -> 0.037 | N43: =F43*M43 -> 1.998 | O43: 노임 1 | P43: 0.037*1 | Q43: 0103 | R43: 447F2693B791C424E2E645D4AF816276BBD9F | S43: 0.037 | T43: 010343FA269EA2312574A546013C08556B1B46161 | V43: =N43 -> 1.998
L44: 배관공 | M44: =0.092*(H43+100)/100*(I43+100)/100*(J43+100)/100 -> 0.092 | N44: =F43*M44 -> 4.968 | O44: 노임 5 | P44: 0.092*1 | Q44: 0103 | R44: 447F2693B791C424E2E645D4AF816276BBEAD | S44: 0.092 | T44: 010343FA269EA2312574A546013C08556B1B46161 | W44: =N44 -> 4.968
A45: 43FA269EA2312574A546013C08556B1B46160 | B45: 소방용헤드 | C45: 스프링클러, 플러쉬 조기반응형, 103℃(하) | D45: 개 | E45: 소방 6-3-1 | F45: 2 | G45: 0 | K45: 2 | L45: 보통인부 | M45: =0.037*(H45+100)/100*(I45+100)/100*(J45+100)/100 -> 0.037 | N45: =F45*M45 -> 0.074 | O45: 노임 1 | P45: 0.037*1 | Q45: 0103 | R45: 447F2693B791C424E2E645D4AF816276BBD9F | S45: 0.037 | T45: 010343FA269EA2312574A546013C08556B1B46160 | V45: =N45 -> 0.074
L46: 배관공 | M46: =0.092*(H45+100)/100*(I45+100)/100*(J45+100)/100 -> 0.092 | N46: =F45*M46 -> 0.184 | O46: 노임 5 | P46: 0.092*1 | Q46: 0103 | R46: 447F2693B791C424E2E645D4AF816276BBEAD | S46: 0.092 | T46: 010343FA269EA2312574A546013C08556B1B46160 | W46: =N46 -> 0.184
A47: 43FA269EA2312574A546013C2B090B707FAB2 | B47: SP후렉시블관 | C47: SP후렉시블관, 2500MM, KFI인증 | D47: 개 | E47: 소방-6-3-2 | F47: 56 | G47: 0 | H47: 0 | I47: 0 | J47: 0 | K47: 56 | L47: 보통인부 | M47: =0.029*(H47+100)/100*(I47+100)/100*(J47+100)/100 -> 0.029 | N47: =F47*M47 -> 1.624 | O47: 노임 1 | P47: 0.029*1 | Q47: 0103 | R47: 447F2693B791C424E2E645D4AF816276BBD9F | S47: 0.029 | T47: 010343FA269EA2312574A546013C2B090B707FAB2 | V47: =N47 -> 1.624
L48: 배관공 | M48: =0.046*(H47+100)/100*(I47+100)/100*(J47+100)/100 -> 0.046 | N48: =F47*M48 -> 2.576 | O48: 노임 5 | P48: 0.046*1 | Q48: 0103 | R48: 447F2693B791C424E2E645D4AF816276BBEAD | S48: 0.046 | T48: 010343FA269EA2312574A546013C2B090B707FAB2 | W48: =N48 -> 2.576
A49: 447F2693B791C424E2E645D4AF816276BBD9F | B49: 보통인부 | C49: 일반공사 직종 | D49: 인 | F49: =SUM(V31:V48) -> 8.198 | K49: =IF(TRUNC(F49*[1]공량설정!B8/100, [1]공량설정!C9) = 0, 1, TRUNC(F49*[1]공량설정!B8/100, [1]공량설정!C9)) -> 8 | O49: 노임 1 | Q49: 0103 | T49: 0103447F2693B791C424E2E645D4AF816276BBD9F
A50: 447F2693B791C424E2E645D4AF816276BBEAD | B50: 배관공 | C50: 일반공사 직종 | D50: 인 | F50: =SUM(W31:W48) -> 21.109 | K50: =IF(TRUNC(F50*[1]공량설정!B8/100, [1]공량설정!C10) = 0, 1, TRUNC(F50*[1]공량설정!B8/100, [1]공량설정!C10)) -> 21 | O50: 노임 5 | Q50: 0103 | T50: 0103447F2693B791C424E2E645D4AF816276BBEAD
B51: 04 임시소방시설 설치공사

Sheet 일위대가목록-MF
B1: 일 위 대 가 목 록
B2: [ 전남광주통합특별시의회 광주청사 환경개선공사(소방기계) ]
A3: 코 드 | B3: 품 명 | C3: 규 격 | D3: 단위 | E3: 재 료 비 | F3: 노 무 비 | G3: 경 비 | H3: 합 계 | I3: 번 호 | J3: 비 고 | K3: 노임계수 | L3: 할증 | M3: 품셈개요 | N3: 장비일위
A4: 4469249BA7598CD4BAC6C24E5D1D5 | B4: 스프링클러헤드 - 철거 | C4: 폐쇄형, 플러쉬, 72℃ | D4: M | E4: ='일위대가-MF'!F8 -> 0 | F4: ='일위대가-MF'!H8 -> 0 | G4: ='일위대가-MF'!J8 -> 0 | H4: =E4+F4+G4 -> 0 | I4: 호표 1
A5: 44202E96256A0BA4CA86BFF04AECB | B5: SP후렉시블관-철거 | D5: EA | E5: ='일위대가-MF'!F14 -> 0 | F5: ='일위대가-MF'!H14 -> 0 | G5: ='일위대가-MF'!J14 -> 0 | H5: =E5+F5+G5 -> 0 | I5: 호표 2
A6: 44692B9028ADF7E4040656C731C57 | B6: 관보온(고무발포) | C6: 25t*D50 | D6: M | E6: ='일위대가-MF'!F22 -> 0 | F6: ='일위대가-MF'!H22 -> 0 | G6: ='일위대가-MF'!J22 -> 0 | H6: =E6+F6+G6 -> 0 | I6: 호표 3
A7: 44692B9028ADCAA4A5864A42D6818 | B7: 관보온(고무발포) | C7: 25t*D40 | D7: M | E7: ='일위대가-MF'!F30 -> 0 | F7: ='일위대가-MF'!H30 -> 0 | G7: ='일위대가-MF'!J30 -> 0 | H7: =E7+F7+G7 -> 0 | I7: 호표 4
A8: 44692B9028ADD404FCA6AC1D166FA | B8: 관보온(고무발포) | C8: 25t*D32 | D8: M | E8: ='일위대가-MF'!F38 -> 0 | F8: ='일위대가-MF'!H38 -> 0 | G8: ='일위대가-MF'!J38 -> 0 | H8: =E8+F8+G8 -> 0 | I8: 호표 5
A9: 44692B9028ADAFC4C956C8233057A | B9: 관보온(고무발포) | C9: 25t*D25 | D9: M | E9: ='일위대가-MF'!F46 -> 0 | F9: ='일위대가-MF'!H46 -> 0 | G9: ='일위대가-MF'!J46 -> 0 | H9: =E9+F9+G9 -> 0 | I9: 호표 6
A10: 4469279EC92ECEE486264EAA5682E | B10: 일반행거(달대볼트) | C10: D50 | D10: 개소 | E10: ='일위대가-MF'!F52 -> 0 | F10: ='일위대가-MF'!H52 -> 0 | G10: ='일위대가-MF'!J52 -> 0 | H10: =E10+F10+G10 -> 0 | I10: 호표 7
A11: 4469279EC92ECEE486264E99F1DC1 | B11: 일반행거(달대볼트) | C11: D40 | D11: 개소 | E11: ='일위대가-MF'!F58 -> 0 | F11: ='일위대가-MF'!H58 -> 0 | G11: ='일위대가-MF'!J58 -> 0 | H11: =E11+F11+G11 -> 0 | I11: 호표 8
A12: 4469279EC92ECEE486264E8F893D7 | B12: 일반행거(달대볼트) | C12: D32 | D12: 개소 | E12: ='일위대가-MF'!F64 -> 0 | F12: ='일위대가-MF'!H64 -> 0 | G12: ='일위대가-MF'!J64 -> 0 | H12: =E12+F12+G12 -> 0 | I12: 호표 9
A13: 4469279EC92ECEE486264EF27A395 | B13: 일반행거(달대볼트) | C13: D25 | D13: 개소 | E13: ='일위대가-MF'!F70 -> 0 | F13: ='일위대가-MF'!H70 -> 0 | G13: ='일위대가-MF'!J70 -> 0 | H13: =E13+F13+G13 -> 0 | I13: 호표 10
A14: 4469249BA7598CD4BAC6C24E5D1D1 | B14: 배관용탄소강관 - 철거 | C14: 배관용탄소강관, SPP(백관), ∮50mm, 반제품 | D14: M | E14: ='일위대가-MF'!F76 -> 0 | F14: ='일위대가-MF'!H76 -> 0 | G14: ='일위대가-MF'!J76 -> 0 | H14: =E14+F14+G14 -> 0 | I14: 호표 11
A15: 4469249BA7598CD4BAC6C24E5D1D2 | B15: 배관용탄소강관 - 철거 | C15: 배관용탄소강관, SPP(백관), ∮40mm, 반제품 | D15: M | E15: ='일위대가-MF'!F82 -> 0 | F15: ='일위대가-MF'!H82 -> 0 | G15: ='일위대가-MF'!J82 -> 0 | H15: =E15+F15+G15 -> 0 | I15: 호표 12
A16: 4469249BA7598CD4BAC6C24E5D1D3 | B16: 배관용탄소강관 - 철거 | C16: 배관용탄소강관, SPP(백관), ∮32mm, 반제품 | D16: M | E16: ='일위대가-MF'!F88 -> 0 | F16: ='일위대가-MF'!H88 -> 0 | G16: ='일위대가-MF'!J88 -> 0 | H16: =E16+F16+G16 -> 0 | I16: 호표 13
A17: 4469249BA7598CD4BAC6C24E5D1D4 | B17: 배관용탄소강관 - 철거 | C17: 배관용탄소강관, SPP(백관), ∮25mm, 반제품 | D17: M | E17: ='일위대가-MF'!F94 -> 0 | F17: ='일위대가-MF'!H94 -> 0 | G17: ='일위대가-MF'!J94 -> 0 | H17: =E17+F17+G17 -> 0 | I17: 호표 14
A18: 44692B901ED53714CD46B4DF968EB | B18: 관보온(고무발포) | C18: 25t*D100 | D18: M | E18: ='일위대가-MF'!F102 -> 0 | F18: ='일위대가-MF'!H102 -> 0 | G18: ='일위대가-MF'!J102 -> 0 | H18: =E18+F18+G18 -> 0 | I18: 호표 15
A19: 44692B9028ADE67486D64BFDC3A6C | B19: 관보온(고무발포) | C19: 25t*D65 | D19: M | E19: ='일위대가-MF'!F110 -> 0 | F19: ='일위대가-MF'!H110 -> 0 | G19: ='일위대가-MF'!J110 -> 0 | H19: =E19+F19+G19 -> 0 | I19: 호표 16
A20: 44692E9C7A9A4084F666D05216609 | B20: 강관용접접합 | C20: D100 | D20: 개소 | E20: ='일위대가-MF'!F115 -> 0 | F20: ='일위대가-MF'!H115 -> 0 | G20: ='일위대가-MF'!J115 -> 0 | H20: =E20+F20+G20 -> 0 | I20: 호표 17
A21: 44692E9C7A9A4084F666D05216836 | B21: 강관용접접합 | C21: D65 | D21: 개소 | E21: ='일위대가-MF'!F120 -> 0 | F21: ='일위대가-MF'!H120 -> 0 | G21: ='일위대가-MF'!J120 -> 0 | H21: =E21+F21+G21 -> 0 | I21: 호표 18
A22: 4469279EC92ECEE486264E5247694 | B22: 일반행거(달대볼트) | C22: D100 | D22: 개소 | E22: ='일위대가-MF'!F126 -> 0 | F22: ='일위대가-MF'!H126 -> 0 | G22: ='일위대가-MF'!J126 -> 0 | H22: =E22+F22+G22 -> 0 | I22: 호표 19
A23: 4469279EC92ECEE486264EB4CD3C5 | B23: 일반행거(달대볼트) | C23: D65 | D23: 개소 | E23: ='일위대가-MF'!F132 -> 0 | F23: ='일위대가-MF'!H132 -> 0 | G23: ='일위대가-MF'!J132 -> 0 | H23: =E23+F23+G23 -> 0 | I23: 호표 20
A24: 4469249B2239C1A488E647A179A0A | B24: 옥내소화전(노출형)STS | C24: 650x1200x180(STS) | D24: 개소 | E24: ='일위대가-MF'!F143 -> 0 | F24: ='일위대가-MF'!H143 -> 0 | G24: ='일위대가-MF'!J143 -> 0 | H24: =E24+F24+G24 -> 0 | I24: 호표 21
A25: 44A324937647C7F465069B0E3BC91 | B25: 녹막이페인트 붓칠 | C25: 철재면, 2회 1종 | D25: M2 | E25: ='일위대가-MF'!F148 -> 0 | F25: ='일위대가-MF'!H148 -> 0 | G25: ='일위대가-MF'!J148 -> 0 | H25: =E25+F25+G25 -> 0 | I25: 호표 22
A26: 44202E96256A14149D7603CC3E9B0 | B26: 압력배관용탄소강관-철거 | C26: 압력배관용탄소강관, 백관(SCH40), ∮100mm | D26: M | E26: ='일위대가-MF'!F155 -> 0 | F26: ='일위대가-MF'!H155 -> 0 | G26: ='일위대가-MF'!J155 -> 0 | H26: =E26+F26+G26 -> 0 | I26: 호표 23
A27: 44202E96256A14149D7603CC3E9B4 | B27: 압력배관용탄소강관-철거 | C27: 압력배관용탄소강관, 백관(SCH40), ∮65mm | D27: M | E27: ='일위대가-MF'!F162 -> 0 | F27: ='일위대가-MF'!H162 -> 0 | G27: ='일위대가-MF'!J162 -> 0 | H27: =E27+F27+G27 -> 0 | I27: 호표 24
A28: 44202E96256A14149D7603CC3E9B5 | B28: 압력배관용탄소강관-철거 | C28: 압력배관용탄소강관, 백관(SCH40), ∮50mm | D28: M | E28: ='일위대가-MF'!F169 -> 0 | F28: ='일위대가-MF'!H169 -> 0 | G28: ='일위대가-MF'!J169 -> 0 | H28: =E28+F28+G28 -> 0 | I28: 호표 25
A29: 44202E96256A14149D7603CC3E9B2 | B29: 압력배관용탄소강관-철거 | C29: 압력배관용탄소강관, 백관(SCH40), ∮32mm | D29: M | E29: ='일위대가-MF'!F176 -> 0 | F29: ='일위대가-MF'!H176 -> 0 | G29: ='일위대가-MF'!J176 -> 0 | H29: =E29+F29+G29 -> 0 | I29: 호표 26
A30: 44202E96256A14149D7603CC3E9B3 | B30: 압력배관용탄소강관-철거 | C30: 압력배관용탄소강관, 백관(SCH40), ∮25mm | D30: M | E30: ='일위대가-MF'!F183 -> 0 | F30: ='일위대가-MF'!H183 -> 0 | G30: ='일위대가-MF'!J183 -> 0 | H30: =E30+F30+G30 -> 0 | I30: 호표 27
A31: 44202E96256A0BA4CA86BFF04AC18 | B31: 동관-철거 | D31: M | E31: ='일위대가-MF'!F188 -> 0 | F31: ='일위대가-MF'!H188 -> 0 | G31: ='일위대가-MF'!J188 -> 0 | H31: =E31+F31+G31 -> 0 | I31: 호표 28
A32: 44202E96256A0BA4CA86BFF04AECA | B32: 방출노즐-철거 | D32: EA | E32: ='일위대가-MF'!F193 -> 0 | F32: ='일위대가-MF'!H193 -> 0 | G32: ='일위대가-MF'!J193 -> 0 | H32: =E32+F32+G32 -> 0 | I32: 호표 29
A33: 44692D9413D589C495E6048F98B70 | B33: 맹후렌지 | C33: D100 | D33: 개소 | E33: ='일위대가-MF'!F201 -> 0 | F33: ='일위대가-MF'!H201 -> 0 | G33: ='일위대가-MF'!J201 -> 0 | H33: =E33+F33+G33 -> 0 | I33: 호표 30
A34: 44A324937647C7F4646613FE1A60D | B34: 녹막이 페인트칠 | C34: 철재면 2회 노무비 | D34: M2 | E34: ='일위대가-MF'!F209 -> 0 | F34: ='일위대가-MF'!H209 -> 0 | G34: ='일위대가-MF'!J209 -> 0 | H34: =E34+F34+G34 -> 0 | I34: 호표 31
A35: 44A324937647C7F46466018D52C8E | B35: 녹막이 페인트칠 재료비(20년 품셈기준) | C35: 철재면, 2회, 1종 | D35: M2 | E35: ='일위대가-MF'!F214 -> 0 | F35: ='일위대가-MF'!H214 -> 0 | G35: ='일위대가-MF'!J214 -> 0 | H35: =E35+F35+G35 -> 0 | I35: 호표 32
A36: 44692D9525042BF4EDC69B3F2D2A9 | B36: 강관전기아크용접 | C36: D100 | D36: 개소 | E36: ='일위대가-MF'!F221 -> 0 | F36: ='일위대가-MF'!H221 -> 0 | G36: ='일위대가-MF'!J221 -> 0 | H36: =E36+F36+G36 -> 0 | I36: 호표 33

Sheet 일위대가-MF
A1: [ 전남광주통합특별시의회 광주청사 환경개선공사(소방기계) ]
A2: 품 명 | B2: 규 격 | C2: 단위 | D2: 수량 | E2: 재 료 비 | G2: 노 무 비 | I2: 경 비 | K2: 합 계 | M2: 비 고 | N2: 일위대가 | O2: 품목코드 | P2: 일위 | Q2: 단산 | R2: 자재 | S2: 손료적용 | T2: 손료저장 | U2: 적용율 | V2: JUK1 | W2: JUK2 | X2: JUK3 | Y2: JUK4 | Z2: JUK5 | AA2: JUK6 | AB2: JUK7 | AC2: JUK8 | AD2: JUK9 | AE2: JUK10 | AF2: JUK11 | AG2: JUK12 | AH2: JUK13 | AI2: JUK14 | AJ2: JUK15 | AK2: JUK16 | AL2: JUK17 | AM2: JUK18 | AN2: JUK19 | AO2: JUK20 | AP2: 할증적용 | AQ2: 할증저장 | AR2: 할증율 | AS2: HAL1 | AT2: HAL2 | AU2: HAL3 | AV2: 자재구분 | AW2: 일위대가+자재 | AX2: 장비일위 | AY2: 설정 | AZ2: 할증체크
E3: 단 가 | F3: 금 액 | G3: 단 가 | H3: 금 액 | I3: 단 가 | J3: 금 액 | K3: 단 가 | L3: 금 액
A4: 스프링클러헤드 - 철거 폐쇄형, 플러쉬, 72℃ M ( 호표 1 ) | N4: 4469249BA7598CD4BAC6C24E5D1D5
A5: 보통인부 | B5: 일반공사 직종 | C5: 인 | E5: ='단가대비표-MF'!O69 -> 0 | F5: =TRUNC(E5*D5,1) -> 0 | G5: ='단가대비표-MF'!P69 -> 0 | H5: =TRUNC(G5*D5,1) -> 0 | I5: ='단가대비표-MF'!V69 -> 0 | J5: =TRUNC(I5*D5,1) -> 0 | K5: =TRUNC(E5+G5+I5,1) -> 0 | L5: =TRUNC(F5+H5+J5,1) -> 0 | N5: 4469249BA7598CD4BAC6C24E5D1D5 | O5: 447F2693B791C424E2E645D4AF816276BBD9F | P5: F | Q5: F | R5: T | V5: 1 | AW5: 4469249BA7598CD4BAC6C24E5D1D5447F2693B791C424E2E645D4AF816276BBD9F
A6: 배관공 | B6: 일반공사 직종 | C6: 인 | E6: ='단가대비표-MF'!O73 -> 0 | F6: =TRUNC(E6*D6,1) -> 0 | G6: ='단가대비표-MF'!P73 -> 0 | H6: =TRUNC(G6*D6,1) -> 0 | I6: ='단가대비표-MF'!V73 -> 0 | J6: =TRUNC(I6*D6,1) -> 0 | K6: =TRUNC(E6+G6+I6,1) -> 0 | L6: =TRUNC(F6+H6+J6,1) -> 0 | N6: 4469249BA7598CD4BAC6C24E5D1D5 | O6: 447F2693B791C424E2E645D4AF816276BBEAD | P6: F | Q6: F | R6: T | V6: 1 | AW6: 4469249BA7598CD4BAC6C24E5D1D5447F2693B791C424E2E645D4AF816276BBEAD
A7: 공구손료 | B7: 인력품의 3% | C7: 식 | E7: =TRUNC(SUMIF(V5:V7, RIGHTB(O7, 1), H5:H7)*U7, 2) -> 0 | F7: =TRUNC(E7*D7,1) -> 0 | G7: 0 | H7: =TRUNC(G7*D7,1) -> 0 | I7: 0 | J7: =TRUNC(I7*D7,1) -> 0 | K7: =TRUNC(E7+G7+I7,1) -> 0 | L7: =TRUNC(F7+H7+J7,1) -> 0 | N7: 4469249BA7598CD4BAC6C24E5D1D5 | O7: 45B92D956649C4640696D9AD49B001 | P7: F | Q7: F | R7: F | S7: 1 | T7: 0 | U7: 0.03 | AW7: 4469249BA7598CD4BAC6C24E5D1D545B92D956649C4640696D9AD49B001
A8: [ 합 계 ] | F8: =TRUNC(SUMIF(N5:N7, N4, F5:F7),0) -> 0 | H8: =TRUNC(SUMIF(N5:N7, N4, H5:H7),0) -> 0 | J8: =TRUNC(SUMIF(N5:N7, N4, J5:J7),0) -> 0 | L8: =F8+H8+J8 -> 0 | N8: TOTAL | O8: TOTAL
A10: SP후렉시블관-철거 EA ( 호표 2 ) | N10: 44202E96256A0BA4CA86BFF04AECB
A11: 보통인부 | B11: 일반공사 직종 | C11: 인 | E11: ='단가대비표-MF'!O69 -> 0 | F11: =TRUNC(E11*D11,1) -> 0 | G11: ='단가대비표-MF'!P69 -> 0 | H11: =TRUNC(G11*D11,1) -> 0 | I11: ='단가대비표-MF'!V69 -> 0 | J11: =TRUNC(I11*D11,1) -> 0 | K11: =TRUNC(E11+G11+I11,1) -> 0 | L11: =TRUNC(F11+H11+J11,1) -> 0 | N11: 44202E96256A0BA4CA86BFF04AECB | O11: 447F2693B791C424E2E645D4AF816276BBD9F | P11: F | Q11: F | R11: T | V11: 1 | AW11: 44202E96256A0BA4CA86BFF04AECB447F2693B791C424E2E645D4AF816276BBD9F
A12: 배관공 | B12: 일반공사 직종 | C12: 인 | E12: ='단가대비표-MF'!O73 -> 0 | F12: =TRUNC(E12*D12,1) -> 0 | G12: ='단가대비표-MF'!P73 -> 0 | H12: =TRUNC(G12*D12,1) -> 0 | I12: ='단가대비표-MF'!V73 -> 0 | J12: =TRUNC(I12*D12,1) -> 0 | K12: =TRUNC(E12+G12+I12,1) -> 0 | L12: =TRUNC(F12+H12+J12,1) -> 0 | N12: 44202E96256A0BA4CA86BFF04AECB | O12: 447F2693B791C424E2E645D4AF816276BBEAD | P12: F | Q12: F | R12: T | V12: 1 | AW12: 44202E96256A0BA4CA86BFF04AECB447F2693B791C424E2E645D4AF816276BBEAD
A13: 공구손료 | B13: 인력품의 3% | C13: 식 | E13: =TRUNC(SUMIF(V11:V13, RIGHTB(O13, 1), H11:H13)*U13, 2) -> 0 | F13: =TRUNC(E13*D13,1) -> 0 | G13: 0 | H13: =TRUNC(G13*D13,1) -> 0 | I13: 0 | J13: =TRUNC(I13*D13,1) -> 0 | K13: =TRUNC(E13+G13+I13,1) -> 0 | L13: =TRUNC(F13+H13+J13,1) -> 0 | N13: 44202E96256A0BA4CA86BFF04AECB | O13: 45B92D956649C4640696D9AD49B001 | P13: F | Q13: F | R13: F | S13: 1 | T13: 0 | U13: 0.03 | AW13: 44202E96256A0BA4CA86BFF04AECB45B92D956649C4640696D9AD49B001
A14: [ 합 계 ] | F14: =TRUNC(SUMIF(N11:N13, N10, F11:F13),0) -> 0 | H14: =TRUNC(SUMIF(N11:N13, N10, H11:H13),0) -> 0 | J14: =TRUNC(SUMIF(N11:N13, N10, J11:J13),0) -> 0 | L14: =F14+H14+J14 -> 0 | N14: TOTAL | O14: TOTAL
A16: 관보온(고무발포) 25t*D50 M ( 호표 3 ) | N16: 44692B9028ADF7E4040656C731C57
A17: 관보온재 | B17: 고무발포, 25t*D50 | C17: M | E17: ='단가대비표-MF'!O26 -> 0 | F17: =TRUNC(E17*D17,1) -> 0 | G17: ='단가대비표-MF'!P26 -> 0 | H17: =TRUNC(G17*D17,1) -> 0 | I17: ='단가대비표-MF'!V26 -> 0 | J17: =TRUNC(I17*D17,1) -> 0 | K17: =TRUNC(E17+G17+I17,1) -> 0 | L17: =TRUNC(F17+H17+J17,1) -> 0 | N17: 44692B9028ADF7E4040656C731C57 | O17: 43FA209422E7E9642796D1862FD478E38200F | P17: F | Q17: F | R17: T | AW17: 44692B9028ADF7E4040656C731C5743FA209422E7E9642796D1862FD478E38200F
A18: 고무발포단열재 | B18: 고무발포단열재, 본드, 고무발포용 | C18: kg | E18: ='단가대비표-MF'!O22 -> 0 | F18: =TRUNC(E18*D18,1) -> 0 | G18: ='단가대비표-MF'!P22 -> 0 | H18: =TRUNC(G18*D18,1) -> 0 | I18: ='단가대비표-MF'!V22 -> 0 | J18: =TRUNC(I18*D18,1) -> 0 | K18: =TRUNC(E18+G18+I18,1) -> 0 | L18: =TRUNC(F18+H18+J18,1) -> 0 | N18: 44692B9028ADF7E4040656C731C57 | O18: 43FA209422E7E9642796D190B146D71EDE766 | P18: F | Q18: F | R18: T | AW18: 44692B9028ADF7E4040656C731C5743FA209422E7E9642796D190B146D71EDE766
A19: 보온공 | B19: 일반공사 직종 | C19: 인 | E19: ='단가대비표-MF'!O74 -> 0 | F19: =TRUNC(E19*D19,1) -> 0 | G19: ='단가대비표-MF'!P74 -> 0 | H19: =TRUNC(G19*D19,1) -> 0 | I19: ='단가대비표-MF'!V74 -> 0 | J19: =TRUNC(I19*D19,1) -> 0 | K19: =TRUNC(E19+G19+I19,1) -> 0 | L19: =TRUNC(F19+H19+J19,1) -> 0 | N19: 44692B9028ADF7E4040656C731C57 | O19: 447F2693B791C424E2E645D4AF816276BB926 | P19: F | Q19: F | R19: T | V19: 1 | AW19: 44692B9028ADF7E4040656C731C57447F2693B791C424E2E645D4AF816276BB926
A20: 보통인부 | B20: 일반공사 직종 | C20: 인 | E20: ='단가대비표-MF'!O69 -> 0 | F20: =TRUNC(E20*D20,1) -> 0 | G20: ='단가대비표-MF'!P69 -> 0 | H20: =TRUNC(G20*D20,1) -> 0 | I20: ='단가대비표-MF'!V69 -> 0 | J20: =TRUNC(I20*D20,1) -> 0 | K20: =TRUNC(E20+G20+I20,1) -> 0 | L20: =TRUNC(F20+H20+J20,1) -> 0 | N20: 44692B9028ADF7E4040656C731C57 | O20: 447F2693B791C424E2E645D4AF816276BBD9F | P20: F | Q20: F | R20: T | V20: 1 | AW20: 44692B9028ADF7E4040656C731C57447F2693B791C424E2E645D4AF816276BBD9F
A21: 공구손료 | B21: 인력품의 3% | C21: 식 | E21: =TRUNC(SUMIF(V17:V21, RIGHTB(O21, 1), H17:H21)*U21, 2) -> 0 | F21: =TRUNC(E21*D21,1) -> 0 | G21: 0 | H21: =TRUNC(G21*D21,1) -> 0 | I21: 0 | J21: =TRUNC(I21*D21,1) -> 0 | K21: =TRUNC(E21+G21+I21,1) -> 0 | L21: =TRUNC(F21+H21+J21,1) -> 0 | N21: 44692B9028ADF7E4040656C731C57 | O21: 45B92D956649C4640696D9AD49B001 | P21: F | Q21: F | R21: F | S21: 1 | T21: 0 | U21: 0.03 | AW21: 44692B9028ADF7E4040656C731C5745B92D956649C4640696D9AD49B001
A22: [ 합 계 ] | F22: =TRUNC(SUMIF(N17:N21, N16, F17:F21),0) -> 0 | H22: =TRUNC(SUMIF(N17:N21, N16, H17:H21),0) -> 0 | J22: =TRUNC(SUMIF(N17:N21, N16, J17:J21),0) -> 0 | L22: =F22+H22+J22 -> 0 | N22: TOTAL | O22: TOTAL
A24: 관보온(고무발포) 25t*D40 M ( 호표 4 ) | N24: 44692B9028ADCAA4A5864A42D6818
A25: 관보온재 | B25: 고무발포, 25t*D40 | C25: M | E25: ='단가대비표-MF'!O25 -> 0 | F25: =TRUNC(E25*D25,1) -> 0 | G25: ='단가대비표-MF'!P25 -> 0 | H25: =TRUNC(G25*D25,1) -> 0 | I25: ='단가대비표-MF'!V25 -> 0 | J25: =TRUNC(I25*D25,1) -> 0 | K25: =TRUNC(E25+G25+I25,1) -> 0 | L25: =TRUNC(F25+H25+J25,1) -> 0 | N25: 44692B9028ADCAA4A5864A42D6818 | O25: 43FA209422E7E9642796D1862FD478E38200E | P25: F | Q25: F | R25: T | AW25: 44692B9028ADCAA4A5864A42D681843FA209422E7E9642796D1862FD478E38200E
A26: 고무발포단열재 | B26: 고무발포단열재, 본드, 고무발포용 | C26: kg | E26: ='단가대비표-MF'!O22 -> 0 | F26: =TRUNC(E26*D26,1) -> 0 | G26: ='단가대비표-MF'!P22 -> 0 | H26: =TRUNC(G26*D26,1) -> 0 | I26: ='단가대비표-MF'!V22 -> 0 | J26: =TRUNC(I26*D26,1) -> 0 | K26: =TRUNC(E26+G26+I26,1) -> 0 | L26: =TRUNC(F26+H26+J26,1) -> 0 | N26: 44692B9028ADCAA4A5864A42D6818 | O26: 43FA209422E7E9642796D190B146D71EDE766 | P26: F | Q26: F | R26: T | AW26: 44692B9028ADCAA4A5864A42D681843FA209422E7E9642796D190B146D71EDE766
A27: 보온공 | B27: 일반공사 직종 | C27: 인 | E27: ='단가대비표-MF'!O74 -> 0 | F27: =TRUNC(E27*D27,1) -> 0 | G27: ='단가대비표-MF'!P74 -> 0 | H27: =TRUNC(G27*D27,1) -> 0 | I27: ='단가대비표-MF'!V74 -> 0 | J27: =TRUNC(I27*D27,1) -> 0 | K27: =TRUNC(E27+G27+I27,1) -> 0 | L27: =TRUNC(F27+H27+J27,1) -> 0 | N27: 44692B9028ADCAA4A5864A42D6818 | O27: 447F2693B791C424E2E645D4AF816276BB926 | P27: F | Q27: F | R27: T | V27: 1 | AW27: 44692B9028ADCAA4A5864A42D6818447F2693B791C424E2E645D4AF816276BB926
A28: 보통인부 | B28: 일반공사 직종 | C28: 인 | E28: ='단가대비표-MF'!O69 -> 0 | F28: =TRUNC(E28*D28,1) -> 0 | G28: ='단가대비표-MF'!P69 -> 0 | H28: =TRUNC(G28*D28,1) -> 0 | I28: ='단가대비표-MF'!V69 -> 0 | J28: =TRUNC(I28*D28,1) -> 0 | K28: =TRUNC(E28+G28+I28,1) -> 0 | L28: =TRUNC(F28+H28+J28,1) -> 0 | N28: 44692B9028ADCAA4A5864A42D6818 | O28: 447F2693B791C424E2E645D4AF816276BBD9F | P28: F | Q28: F | R28: T | V28: 1 | AW28: 44692B9028ADCAA4A5864A42D6818447F2693B791C424E2E645D4AF816276BBD9F
A29: 공구손료 | B29: 인력품의 3% | C29: 식 | E29: =TRUNC(SUMIF(V25:V29, RIGHTB(O29, 1), H25:H29)*U29, 2) -> 0 | F29: =TRUNC(E29*D29,1) -> 0 | G29: 0 | H29: =TRUNC(G29*D29,1) -> 0 | I29: 0 | J29: =TRUNC(I29*D29,1) -> 0 | K29: =TRUNC(E29+G29+I29,1) -> 0 | L29: =TRUNC(F29+H29+J29,1) -> 0 | N29: 44692B9028ADCAA4A5864A42D6818 | O29: 45B92D956649C4640696D9AD49B001 | P29: F | Q29: F | R29: F | S29: 1 | T29: 0 | U29: 0.03 | AW29: 44692B9028ADCAA4A5864A42D681845B92D956649C4640696D9AD49B001
A30: [ 합 계 ] | F30: =TRUNC(SUMIF(N25:N29, N24, F25:F29),0) -> 0 | H30: =TRUNC(SUMIF(N25:N29, N24, H25:H29),0) -> 0 | J30: =TRUNC(SUMIF(N25:N29, N24, J25:J29),0) -> 0 | L30: =F30+H30+J30 -> 0 | N30: TOTAL | O30: TOTAL
A32: 관보온(고무발포) 25t*D32 M ( 호표 5 ) | N32: 44692B9028ADD404FCA6AC1D166FA
A33: 관보온재 | B33: 고무발포, 25t*D32 | C33: M | E33: ='단가대비표-MF'!O24 -> 0 | F33: =TRUNC(E33*D33,1) -> 0 | G33: ='단가대비표-MF'!P24 -> 0 | H33: =TRUNC(G33*D33,1) -> 0 | I33: ='단가대비표-MF'!V24 -> 0 | J33: =TRUNC(I33*D33,1) -> 0 | K33: =TRUNC(E33+G33+I33,1) -> 0 | L33: =TRUNC(F33+H33+J33,1) -> 0 | N33: 44692B9028ADD404FCA6AC1D166FA | O33: 43FA209422E7E9642796D1862FD478E38200D | P33: F | Q33: F | R33: T | AW33: 44692B9028ADD404FCA6AC1D166FA43FA209422E7E9642796D1862FD478E38200D
A34: 고무발포단열재 | B34: 고무발포단열재, 본드, 고무발포용 | C34: kg | E34: ='단가대비표-MF'!O22 -> 0 | F34: =TRUNC(E34*D34,1) -> 0 | G34: ='단가대비표-MF'!P22 -> 0 | H34: =TRUNC(G34*D34,1) -> 0 | I34: ='단가대비표-MF'!V22 -> 0 | J34: =TRUNC(I34*D34,1) -> 0 | K34: =TRUNC(E34+G34+I34,1) -> 0 | L34: =TRUNC(F34+H34+J34,1) -> 0 | N34: 44692B9028ADD404FCA6AC1D166FA | O34: 43FA209422E7E9642796D190B146D71EDE766 | P34: F | Q34: F | R34: T | AW34: 44692B9028ADD404FCA6AC1D166FA43FA209422E7E9642796D190B146D71EDE766
A35: 보온공 | B35: 일반공사 직종 | C35: 인 | E35: ='단가대비표-MF'!O74 -> 0 | F35: =TRUNC(E35*D35,1) -> 0 | G35: ='단가대비표-MF'!P74 -> 0 | H35: =TRUNC(G35*D35,1) -> 0 | I35: ='단가대비표-MF'!V74 -> 0 | J35: =TRUNC(I35*D35,1) -> 0 | K35: =TRUNC(E35+G35+I35,1) -> 0 | L35: =TRUNC(F35+H35+J35,1) -> 0 | N35: 44692B9028ADD404FCA6AC1D166FA | O35: 447F2693B791C424E2E645D4AF816276BB926 | P35: F | Q35: F | R35: T | V35: 1 | AW35: 44692B9028ADD404FCA6AC1D166FA447F2693B791C424E2E645D4AF816276BB926
A36: 보통인부 | B36: 일반공사 직종 | C36: 인 | E36: ='단가대비표-MF'!O69 -> 0 | F36: =TRUNC(E36*D36,1) -> 0 | G36: ='단가대비표-MF'!P69 -> 0 | H36: =TRUNC(G36*D36,1) -> 0 | I36: ='단가대비표-MF'!V69 -> 0 | J36: =TRUNC(I36*D36,1) -> 0 | K36: =TRUNC(E36+G36+I36,1) -> 0 | L36: =TRUNC(F36+H36+J36,1) -> 0 | N36: 44692B9028ADD404FCA6AC1D166FA | O36: 447F2693B791C424E2E645D4AF816276BBD9F | P36: F | Q36: F | R36: T | V36: 1 | AW36: 44692B9028ADD404FCA6AC1D166FA447F2693B791C424E2E645D4AF816276BBD9F
A37: 공구손료 | B37: 인력품의 3% | C37: 식 | E37: =TRUNC(SUMIF(V33:V37, RIGHTB(O37, 1), H33:H37)*U37, 2) -> 0 | F37: =TRUNC(E37*D37,1) -> 0 | G37: 0 | H37: =TRUNC(G37*D37,1) -> 0 | I37: 0 | J37: =TRUNC(I37*D37,1) -> 0 | K37: =TRUNC(E37+G37+I37,1) -> 0 | L37: =TRUNC(F37+H37+J37,1) -> 0 | N37: 44692B9028ADD404FCA6AC1D166FA | O37: 45B92D956649C4640696D9AD49B001 | P37: F | Q37: F | R37: F | S37: 1 | T37: 0 | U37: 0.03 | AW37: 44692B9028ADD404FCA6AC1D166FA45B92D956649C4640696D9AD49B001
A38: [ 합 계 ] | F38: =TRUNC(SUMIF(N33:N37, N32, F33:F37),0) -> 0 | H38: =TRUNC(SUMIF(N33:N37, N32, H33:H37),0) -> 0 | J38: =TRUNC(SUMIF(N33:N37, N32, J33:J37),0) -> 0 | L38: =F38+H38+J38 -> 0 | N38: TOTAL | O38: TOTAL
A40: 관보온(고무발포) 25t*D25 M ( 호표 6 ) | N40: 44692B9028ADAFC4C956C8233057A
A41: 관보온재 | B41: 고무발포, 25t*D25 | C41: M | E41: ='단가대비표-MF'!O23 -> 0 | F41: =TRUNC(E41*D41,1) -> 0 | G41: ='단가대비표-MF'!P23 -> 0 | H41: =TRUNC(G41*D41,1) -> 0 | I41: ='단가대비표-MF'!V23 -> 0 | J41: =TRUNC(I41*D41,1) -> 0 | K41: =TRUNC(E41+G41+I41,1) -> 0 | L41: =TRUNC(F41+H41+J41,1) -> 0 | N41: 44692B9028ADAFC4C956C8233057A | O41: 43FA209422E7E9642796D1862FD478E38200C | P41: F | Q41: F | R41: T | AW41: 44692B9028ADAFC4C956C8233057A43FA209422E7E9642796D1862FD478E38200C
A42: 고무발포단열재 | B42: 고무발포단열재, 본드, 고무발포용 | C42: kg | E42: ='단가대비표-MF'!O22 -> 0 | F42: =TRUNC(E42*D42,1) -> 0 | G42: ='단가대비표-MF'!P22 -> 0 | H42: =TRUNC(G42*D42,1) -> 0 | I42: ='단가대비표-MF'!V22 -> 0 | J42: =TRUNC(I42*D42,1) -> 0 | K42: =TRUNC(E42+G42+I42,1) -> 0 | L42: =TRUNC(F42+H42+J42,1) -> 0 | N42: 44692B9028ADAFC4C956C8233057A | O42: 43FA209422E7E9642796D190B146D71EDE766 | P42: F | Q42: F | R42: T | AW42: 44692B9028ADAFC4C956C8233057A43FA209422E7E9642796D190B146D71EDE766
A43: 보온공 | B43: 일반공사 직종 | C43: 인 | E43: ='단가대비표-MF'!O74 -> 0 | F43: =TRUNC(E43*D43,1) -> 0 | G43: ='단가대비표-MF'!P74 -> 0 | H43: =TRUNC(G43*D43,1) -> 0 | I43: ='단가대비표-MF'!V74 -> 0 | J43: =TRUNC(I43*D43,1) -> 0 | K43: =TRUNC(E43+G43+I43,1) -> 0 | L43: =TRUNC(F43+H43+J43,1) -> 0 | N43: 44692B9028ADAFC4C956C8233057A | O43: 447F2693B791C424E2E645D4AF816276BB926 | P43: F | Q43: F | R43: T | V43: 1 | AW43: 44692B9028ADAFC4C956C8233057A447F2693B791C424E2E645D4AF816276BB926
A44: 보통인부 | B44: 일반공사 직종 | C44: 인 | E44: ='단가대비표-MF'!O69 -> 0 | F44: =TRUNC(E44*D44,1) -> 0 | G44: ='단가대비표-MF'!P69 -> 0 | H44: =TRUNC(G44*D44,1) -> 0 | I44: ='단가대비표-MF'!V69 -> 0 | J44: =TRUNC(I44*D44,1) -> 0 | K44: =TRUNC(E44+G44+I44,1) -> 0 | L44: =TRUNC(F44+H44+J44,1) -> 0 | N44: 44692B9028ADAFC4C956C8233057A | O44: 447F2693B791C424E2E645D4AF816276BBD9F | P44: F | Q44: F | R44: T | V44: 1 | AW44: 44692B9028ADAFC4C956C8233057A447F2693B791C424E2E645D4AF816276BBD9F
A45: 공구손료 | B45: 인력품의 3% | C45: 식 | E45: =TRUNC(SUMIF(V41:V45, RIGHTB(O45, 1), H41:H45)*U45, 2) -> 0 | F45: =TRUNC(E45*D45,1) -> 0 | G45: 0 | H45: =TRUNC(G45*D45,1) -> 0 | I45: 0 | J45: =TRUNC(I45*D45,1) -> 0 | K45: =TRUNC(E45+G45+I45,1) -> 0 | L45: =TRUNC(F45+H45+J45,1) -> 0 | N45: 44692B9028ADAFC4C956C8233057A | O45: 45B92D956649C4640696D9AD49B001 | P45: F | Q45: F | R45: F | S45: 1 | T45: 0 | U45: 0.03 | AW45: 44692B9028ADAFC4C956C8233057A45B92D956649C4640696D9AD49B001
A46: [ 합 계 ] | F46: =TRUNC(SUMIF(N41:N45, N40, F41:F45),0) -> 0 | H46: =TRUNC(SUMIF(N41:N45, N40, H41:H45),0) -> 0 | J46: =TRUNC(SUMIF(N41:N45, N40, J41:J45),0) -> 0 | L46: =F46+H46+J46 -> 0 | N46: TOTAL | O46: TOTAL
A48: 일반행거(달대볼트) D50 개소 ( 호표 7 ) | N48: 4469279EC92ECEE486264EAA5682E
A49: 지지행어 | B49: 지지행어, 파이프행어(일반), ∮50mm | C49: 개 | E49: ='단가대비표-MF'!O16 -> 0 | F49: =TRUNC(E49*D49,1) -> 0 | G49: ='단가대비표-MF'!P16 -> 0 | H49: =TRUNC(G49*D49,1) -> 0 | I49: ='단가대비표-MF'!V16 -> 0 | J49: =TRUNC(I49*D49,1) -> 0 | K49: =TRUNC(E49+G49+I49,1) -> 0 | L49: =TRUNC(F49+H49+J49,1) -> 0 | N49: 4469279EC92ECEE486264EAA5682E | O49: 4387209EF41835244C868765C66BECF7BC9EE | P49: F | Q49: F | R49: T | AW49: 4469279EC92ECEE486264EAA5682E4387209EF41835244C868765C66BECF7BC9EE
A50: 행어볼트 | B50: 행어볼트, 아연도금, M10*1000 | C50: 개 | E50: ='단가대비표-MF'!O6 -> 0 | F50: =TRUNC(E50*D50,1) -> 0 | G50: ='단가대비표-MF'!P6 -> 0 | H50: =TRUNC(G50*D50,1) -> 0 | I50: ='단가대비표-MF'!V6 -> 0 | J50: =TRUNC(I50*D50,1) -> 0 | K50: =TRUNC(E50+G50+I50,1) -> 0 | L50: =TRUNC(F50+H50+J50,1) -> 0 | N50: 4469279EC92ECEE486264EAA5682E | O50: 4387209EF41809B438169DE373E87AB0981B9 | P50: F | Q50: F | R50: T | AW50: 4469279EC92ECEE486264EAA5682E4387209EF41809B438169DE373E87AB0981B9
A51: 스트롱앵커 | B51: 스트롱앵커, M10, 9.5mm | C51: 개 | E51: ='단가대비표-MF'!O11 -> 0 | F51: =TRUNC(E51*D51,1) -> 0 | G51: ='단가대비표-MF'!P11 -> 0 | H51: =TRUNC(G51*D51,1) -> 0 | I51: ='단가대비표-MF'!V11 -> 0 | J51: =TRUNC(I51*D51,1) -> 0 | K51: =TRUNC(E51+G51+I51,1) -> 0 | L51: =TRUNC(F51+H51+J51,1) -> 0 | N51: 4469279EC92ECEE486264EAA5682E | O51: 4387209EF41835049F36BD6790E8E89192FD1 | P51: F | Q51: F | R51: T | AW51: 4469279EC92ECEE486264EAA5682E4387209EF41835049F36BD6790E8E89192FD1
A52: [ 합 계 ] | F52: =TRUNC(SUMIF(N49:N51, N48, F49:F51),0) -> 0 | H52: =TRUNC(SUMIF(N49:N51, N48, H49:H51),0) -> 0 | J52: =TRUNC(SUMIF(N49:N51, N48, J49:J51),0) -> 0 | L52: =F52+H52+J52 -> 0 | N52: TOTAL | O52: TOTAL
A54: 일반행거(달대볼트) D40 개소 ( 호표 8 ) | N54: 4469279EC92ECEE486264E99F1DC1
A55: 지지행어 | B55: 지지행어, 파이프행어(일반), ∮40mm | C55: 개 | E55: ='단가대비표-MF'!O15 -> 0 | F55: =TRUNC(E55*D55,1) -> 0 | G55: ='단가대비표-MF'!P15 -> 0 | H55: =TRUNC(G55*D55,1) -> 0 | I55: ='단가대비표-MF'!V15 -> 0 | J55: =TRUNC(I55*D55,1) -> 0 | K55: =TRUNC(E55+G55+I55,1) -> 0 | L55: =TRUNC(F55+H55+J55,1) -> 0 | N55: 4469279EC92ECEE486264E99F1DC1 | O55: 4387209EF41835244C868765C66BECF7BC9EF | P55: F | Q55: F | R55: T | AW55: 4469279EC92ECEE486264E99F1DC14387209EF41835244C868765C66BECF7BC9EF
A56: 행어볼트 | B56: 행어볼트, 아연도금, M10*1000 | C56: 개 | E56: ='단가대비표-MF'!O6 -> 0 | F56: =TRUNC(E56*D56,1) -> 0 | G56: ='단가대비표-MF'!P6 -> 0 | H56: =TRUNC(G56*D56,1) -> 0 | I56: ='단가대비표-MF'!V6 -> 0 | J56: =TRUNC(I56*D56,1) -> 0 | K56: =TRUNC(E56+G56+I56,1) -> 0 | L56: =TRUNC(F56+H56+J56,1) -> 0 | N56: 4469279EC92ECEE486264E99F1DC1 | O56: 4387209EF41809B438169DE373E87AB0981B9 | P56: F | Q56: F | R56: T | AW56: 4469279EC92ECEE486264E99F1DC14387209EF41809B438169DE373E87AB0981B9
A57: 스트롱앵커 | B57: 스트롱앵커, M10, 9.5mm | C57: 개 | E57: ='단가대비표-MF'!O11 -> 0 | F57: =TRUNC(E57*D57,1) -> 0 | G57: ='단가대비표-MF'!P11 -> 0 | H57: =TRUNC(G57*D57,1) -> 0 | I57: ='단가대비표-MF'!V11 -> 0 | J57: =TRUNC(I57*D57,1) -> 0 | K57: =TRUNC(E57+G57+I57,1) -> 0 | L57: =TRUNC(F57+H57+J57,1) -> 0 | N57: 4469279EC92ECEE486264E99F1DC1 | O57: 4387209EF41835049F36BD6790E8E89192FD1 | P57: F | Q57: F | R57: T | AW57: 4469279EC92ECEE486264E99F1DC14387209EF41835049F36BD6790E8E89192FD1
A58: [ 합 계 ] | F58: =TRUNC(SUMIF(N55:N57, N54, F55:F57),0) -> 0 | H58: =TRUNC(SUMIF(N55:N57, N54, H55:H57),0) -> 0 | J58: =TRUNC(SUMIF(N55:N57, N54, J55:J57),0) -> 0 | L58: =F58+H58+J58 -> 0 | N58: TOTAL | O58: TOTAL
A60: 일반행거(달대볼트) D32 개소 ( 호표 9 ) | N60: 4469279EC92ECEE486264E8F893D7
A61: 지지행어 | B61: 지지행어, 파이프행어(일반), ∮32mm | C61: 개 | E61: ='단가대비표-MF'!O14 -> 0 | F61: =TRUNC(E61*D61,1) -> 0 | G61: ='단가대비표-MF'!P14 -> 0 | H61: =TRUNC(G61*D61,1) -> 0 | I61: ='단가대비표-MF'!V14 -> 0 | J61: =TRUNC(I61*D61,1) -> 0 | K61: =TRUNC(E61+G61+I61,1) -> 0 | L61: =TRUNC(F61+H61+J61,1) -> 0 | N61: 4469279EC92ECEE486264E8F893D7 | O61: 4387209EF41835244C868765C66BECF7BC9E0 | P61: F | Q61: F | R61: T | AW61: 4469279EC92ECEE486264E8F893D74387209EF41835244C868765C66BECF7BC9E0
A62: 행어볼트 | B62: 행어볼트, 아연도금, M10*1000 | C62: 개 | E62: ='단가대비표-MF'!O6 -> 0 | F62: =TRUNC(E62*D62,1) -> 0 | G62: ='단가대비표-MF'!P6 -> 0 | H62: =TRUNC(G62*D62,1) -> 0 | I62: ='단가대비표-MF'!V6 -> 0 | J62: =TRUNC(I62*D62,1) -> 0 | K62: =TRUNC(E62+G62+I62,1) -> 0 | L62: =TRUNC(F62+H62+J62,1) -> 0 | N62: 4469279EC92ECEE486264E8F893D7 | O62: 4387209EF41809B438169DE373E87AB0981B9 | P62: F | Q62: F | R62: T | AW62: 4469279EC92ECEE486264E8F893D74387209EF41809B438169DE373E87AB0981B9
A63: 스트롱앵커 | B63: 스트롱앵커, M10, 9.5mm | C63: 개 | E63: ='단가대비표-MF'!O11 -> 0 | F63: =TRUNC(E63*D63,1) -> 0 | G63: ='단가대비표-MF'!P11 -> 0 | H63: =TRUNC(G63*D63,1) -> 0 | I63: ='단가대비표-MF'!V11 -> 0 | J63: =TRUNC(I63*D63,1) -> 0 | K63: =TRUNC(E63+G63+I63,1) -> 0 | L63: =TRUNC(F63+H63+J63,1) -> 0 | N63: 4469279EC92ECEE486264E8F893D7 | O63: 4387209EF41835049F36BD6790E8E89192FD1 | P63: F | Q63: F | R63: T | AW63: 4469279EC92ECEE486264E8F893D74387209EF41835049F36BD6790E8E89192FD1
A64: [ 합 계 ] | F64: =TRUNC(SUMIF(N61:N63, N60, F61:F63),0) -> 0 | H64: =TRUNC(SUMIF(N61:N63, N60, H61:H63),0) -> 0 | J64: =TRUNC(SUMIF(N61:N63, N60, J61:J63),0) -> 0 | L64: =F64+H64+J64 -> 0 | N64: TOTAL | O64: TOTAL
A66: 일반행거(달대볼트) D25 개소 ( 호표 10 ) | N66: 4469279EC92ECEE486264EF27A395
A67: 지지행어 | B67: 지지행어, 파이프행어(일반), ∮25mm | C67: 개 | E67: ='단가대비표-MF'!O13 -> 0 | F67: =TRUNC(E67*D67,1) -> 0 | G67: ='단가대비표-MF'!P13 -> 0 | H67: =TRUNC(G67*D67,1) -> 0 | I67: ='단가대비표-MF'!V13 -> 0 | J67: =TRUNC(I67*D67,1) -> 0 | K67: =TRUNC(E67+G67+I67,1) -> 0 | L67: =TRUNC(F67+H67+J67,1) -> 0 | N67: 4469279EC92ECEE486264EF27A395 | O67: 4387209EF41835244C868765C66BECF7BC9E1 | P67: F | Q67: F | R67: T | AW67: 4469279EC92ECEE486264EF27A3954387209EF41835244C868765C66BECF7BC9E1
A68: 행어볼트 | B68: 행어볼트, 아연도금, M10*1000 | C68: 개 | E68: ='단가대비표-MF'!O6 -> 0 | F68: =TRUNC(E68*D68,1) -> 0 | G68: ='단가대비표-MF'!P6 -> 0 | H68: =TRUNC(G68*D68,1) -> 0 | I68: ='단가대비표-MF'!V6 -> 0 | J68: =TRUNC(I68*D68,1) -> 0 | K68: =TRUNC(E68+G68+I68,1) -> 0 | L68: =TRUNC(F68+H68+J68,1) -> 0 | N68: 4469279EC92ECEE486264EF27A395 | O68: 4387209EF41809B438169DE373E87AB0981B9 | P68: F | Q68: F | R68: T | AW68: 4469279EC92ECEE486264EF27A3954387209EF41809B438169DE373E87AB0981B9
A69: 스트롱앵커 | B69: 스트롱앵커, M10, 9.5mm | C69: 개 | E69: ='단가대비표-MF'!O11 -> 0 | F69: =TRUNC(E69*D69,1) -> 0 | G69: ='단가대비표-MF'!P11 -> 0 | H69: =TRUNC(G69*D69,1) -> 0 | I69: ='단가대비표-MF'!V11 -> 0 | J69: =TRUNC(I69*D69,1) -> 0 | K69: =TRUNC(E69+G69+I69,1) -> 0 | L69: =TRUNC(F69+H69+J69,1) -> 0 | N69: 4469279EC92ECEE486264EF27A395 | O69: 4387209EF41835049F36BD6790E8E89192FD1 | P69: F | Q69: F | R69: T | AW69: 4469279EC92ECEE486264EF27A3954387209EF41835049F36BD6790E8E89192FD1
A70: [ 합 계 ] | F70: =TRUNC(SUMIF(N67:N69, N66, F67:F69),0) -> 0 | H70: =TRUNC(SUMIF(N67:N69, N66, H67:H69),0) -> 0 | J70: =TRUNC(SUMIF(N67:N69, N66, J67:J69),0) -> 0 | L70: =F70+H70+J70 -> 0 | N70: TOTAL | O70: TOTAL
A72: 배관용탄소강관 - 철거 배관용탄소강관, SPP(백관), ∮50mm, 반제품 M ( 호표 11 ) | N72: 4469249BA7598CD4BAC6C24E5D1D1
A73: 보통인부 | B73: 일반공사 직종 | C73: 인 | E73: ='단가대비표-MF'!O69 -> 0 | F73: =TRUNC(E73*D73,1) -> 0 | G73: ='단가대비표-MF'!P69 -> 0 | H73: =TRUNC(G73*D73,1) -> 0 | I73: ='단가대비표-MF'!V69 -> 0 | J73: =TRUNC(I73*D73,1) -> 0 | K73: =TRUNC(E73+G73+I73,1) -> 0 | L73: =TRUNC(F73+H73+J73,1) -> 0 | N73: 4469249BA7598CD4BAC6C24E5D1D1 | O73: 447F2693B791C424E2E645D4AF816276BBD9F | P73: F | Q73: F | R73: T | V73: 1 | AW73: 4469249BA7598CD4BAC6C24E5D1D1447F2693B791C424E2E645D4AF816276BBD9F
A74: 배관공 | B74: 일반공사 직종 | C74: 인 | E74: ='단가대비표-MF'!O73 -> 0 | F74: =TRUNC(E74*D74,1) -> 0 | G74: ='단가대비표-MF'!P73 -> 0 | H74: =TRUNC(G74*D74,1) -> 0 | I74: ='단가대비표-MF'!V73 -> 0 | J74: =TRUNC(I74*D74,1) -> 0 | K74: =TRUNC(E74+G74+I74,1) -> 0 | L74: =TRUNC(F74+H74+J74,1) -> 0 | N74: 4469249BA7598CD4BAC6C24E5D1D1 | O74: 447F2693B791C424E2E645D4AF816276BBEAD | P74: F | Q74: F | R74: T | V74: 1 | AW74: 4469249BA7598CD4BAC6C24E5D1D1447F2693B791C424E2E645D4AF816276BBEAD
A75: 공구손료 | B75: 인력품의 3% | C75: 식 | E75: =TRUNC(SUMIF(V73:V75, RIGHTB(O75, 1), H73:H75)*U75, 2) -> 0 | F75: =TRUNC(E75*D75,1) -> 0 | G75: 0 | H75: =TRUNC(G75*D75,1) -> 0 | I75: 0 | J75: =TRUNC(I75*D75,1) -> 0 | K75: =TRUNC(E75+G75+I75,1) -> 0 | L75: =TRUNC(F75+H75+J75,1) -> 0 | N75: 4469249BA7598CD4BAC6C24E5D1D1 | O75: 45B92D956649C4640696D9AD49B001 | P75: F | Q75: F | R75: F | S75: 1 | T75: 0 | U75: 0.03 | AW75: 4469249BA7598CD4BAC6C24E5D1D145B92D956649C4640696D9AD49B001
A76: [ 합 계 ] | F76: =TRUNC(SUMIF(N73:N75, N72, F73:F75),0) -> 0 | H76: =TRUNC(SUMIF(N73:N75, N72, H73:H75),0) -> 0 | J76: =TRUNC(SUMIF(N73:N75, N72, J73:J75),0) -> 0 | L76: =F76+H76+J76 -> 0 | N76: TOTAL | O76: TOTAL
A78: 배관용탄소강관 - 철거 배관용탄소강관, SPP(백관), ∮40mm, 반제품 M ( 호표 12 ) | N78: 4469249BA7598CD4BAC6C24E5D1D2
A79: 보통인부 | B79: 일반공사 직종 | C79: 인 | E79: ='단가대비표-MF'!O69 -> 0 | F79: =TRUNC(E79*D79,1) -> 0 | G79: ='단가대비표-MF'!P69 -> 0 | H79: =TRUNC(G79*D79,1) -> 0 | I79: ='단가대비표-MF'!V69 -> 0 | J79: =TRUNC(I79*D79,1) -> 0 | K79: =TRUNC(E79+G79+I79,1) -> 0 | L79: =TRUNC(F79+H79+J79,1) -> 0 | N79: 4469249BA7598CD4BAC6C24E5D1D2 | O79: 447F2693B791C424E2E645D4AF816276BBD9F | P79: F | Q79: F | R79: T | V79: 1 | AW79: 4469249BA7598CD4BAC6C24E5D1D2447F2693B791C424E2E645D4AF816276BBD9F
A80: 배관공 | B80: 일반공사 직종 | C80: 인 | E80: ='단가대비표-MF'!O73 -> 0 | F80: =TRUNC(E80*D80,1) -> 0 | G80: ='단가대비표-MF'!P73 -> 0 | H80: =TRUNC(G80*D80,1) -> 0 | I80: ='단가대비표-MF'!V73 -> 0 | J80: =TRUNC(I80*D80,1) -> 0 | K80: =TRUNC(E80+G80+I80,1) -> 0 | L80: =TRUNC(F80+H80+J80,1) -> 0 | N80: 4469249BA7598CD4BAC6C24E5D1D2 | O80: 447F2693B791C424E2E645D4AF816276BBEAD | P80: F | Q80: F | R80: T | V80: 1 | AW80: 4469249BA7598CD4BAC6C24E5D1D2447F2693B791C424E2E645D4AF816276BBEAD
A81: 공구손료 | B81: 인력품의 3% | C81: 식 | E81: =TRUNC(SUMIF(V79:V81, RIGHTB(O81, 1), H79:H81)*U81, 2) -> 0 | F81: =TRUNC(E81*D81,1) -> 0 | G81: 0 | H81: =TRUNC(G81*D81,1) -> 0 | I81: 0 | J81: =TRUNC(I81*D81,1) -> 0 | K81: =TRUNC(E81+G81+I81,1) -> 0 | L81: =TRUNC(F81+H81+J81,1) -> 0 | N81: 4469249BA7598CD4BAC6C24E5D1D2 | O81: 45B92D956649C4640696D9AD49B001 | P81: F | Q81: F | R81: F | S81: 1 | T81: 0 | U81: 0.03 | AW81: 4469249BA7598CD4BAC6C24E5D1D245B92D956649C4640696D9AD49B001
A82: [ 합 계 ] | F82: =TRUNC(SUMIF(N79:N81, N78, F79:F81),0) -> 0 | H82: =TRUNC(SUMIF(N79:N81, N78, H79:H81),0) -> 0 | J82: =TRUNC(SUMIF(N79:N81, N78, J79:J81),0) -> 0 | L82: =F82+H82+J82 -> 0 | N82: TOTAL | O82: TOTAL
A84: 배관용탄소강관 - 철거 배관용탄소강관, SPP(백관), ∮32mm, 반제품 M ( 호표 13 ) | N84: 4469249BA7598CD4BAC6C24E5D1D3
A85: 보통인부 | B85: 일반공사 직종 | C85: 인 | E85: ='단가대비표-MF'!O69 -> 0 | F85: =TRUNC(E85*D85,1) -> 0 | G85: ='단가대비표-MF'!P69 -> 0 | H85: =TRUNC(G85*D85,1) -> 0 | I85: ='단가대비표-MF'!V69 -> 0 | J85: =TRUNC(I85*D85,1) -> 0 | K85: =TRUNC(E85+G85+I85,1) -> 0 | L85: =TRUNC(F85+H85+J85,1) -> 0 | N85: 4469249BA7598CD4BAC6C24E5D1D3 | O85: 447F2693B791C424E2E645D4AF816276BBD9F | P85: F | Q85: F | R85: T | V85: 1 | AW85: 4469249BA7598CD4BAC6C24E5D1D3447F2693B791C424E2E645D4AF816276BBD9F
A86: 배관공 | B86: 일반공사 직종 | C86: 인 | E86: ='단가대비표-MF'!O73 -> 0 | F86: =TRUNC(E86*D86,1) -> 0 | G86: ='단가대비표-MF'!P73 -> 0 | H86: =TRUNC(G86*D86,1) -> 0 | I86: ='단가대비표-MF'!V73 -> 0 | J86: =TRUNC(I86*D86,1) -> 0 | K86: =TRUNC(E86+G86+I86,1) -> 0 | L86: =TRUNC(F86+H86+J86,1) -> 0 | N86: 4469249BA7598CD4BAC6C24E5D1D3 | O86: 447F2693B791C424E2E645D4AF816276BBEAD | P86: F | Q86: F | R86: T | V86: 1 | AW86: 4469249BA7598CD4BAC6C24E5D1D3447F2693B791C424E2E645D4AF816276BBEAD
A87: 공구손료 | B87: 인력품의 3% | C87: 식 | E87: =TRUNC(SUMIF(V85:V87, RIGHTB(O87, 1), H85:H87)*U87, 2) -> 0 | F87: =TRUNC(E87*D87,1) -> 0 | G87: 0 | H87: =TRUNC(G87*D87,1) -> 0 | I87: 0 | J87: =TRUNC(I87*D87,1) -> 0 | K87: =TRUNC(E87+G87+I87,1) -> 0 | L87: =TRUNC(F87+H87+J87,1) -> 0 | N87: 4469249BA7598CD4BAC6C24E5D1D3 | O87: 45B92D956649C4640696D9AD49B001 | P87: F | Q87: F | R87: F | S87: 1 | T87: 0 | U87: 0.03 | AW87: 4469249BA7598CD4BAC6C24E5D1D345B92D956649C4640696D9AD49B001
A88: [ 합 계 ] | F88: =TRUNC(SUMIF(N85:N87, N84, F85:F87),0) -> 0 | H88: =TRUNC(SUMIF(N85:N87, N84, H85:H87),0) -> 0 | J88: =TRUNC(SUMIF(N85:N87, N84, J85:J87),0) -> 0 | L88: =F88+H88+J88 -> 0 | N88: TOTAL | O88: TOTAL
A90: 배관용탄소강관 - 철거 배관용탄소강관, SPP(백관), ∮25mm, 반제품 M ( 호표 14 ) | N90: 4469249BA7598CD4BAC6C24E5D1D4
A91: 보통인부 | B91: 일반공사 직종 | C91: 인 | E91: ='단가대비표-MF'!O69 -> 0 | F91: =TRUNC(E91*D91,1) -> 0 | G91: ='단가대비표-MF'!P69 -> 0 | H91: =TRUNC(G91*D91,1) -> 0 | I91: ='단가대비표-MF'!V69 -> 0 | J91: =TRUNC(I91*D91,1) -> 0 | K91: =TRUNC(E91+G91+I91,1) -> 0 | L91: =TRUNC(F91+H91+J91,1) -> 0 | N91: 4469249BA7598CD4BAC6C24E5D1D4 | O91: 447F2693B791C424E2E645D4AF816276BBD9F | P91: F | Q91: F | R91: T | V91: 1 | AW91: 4469249BA7598CD4BAC6C24E5D1D4447F2693B791C424E2E645D4AF816276BBD9F
A92: 배관공 | B92: 일반공사 직종 | C92: 인 | E92: ='단가대비표-MF'!O73 -> 0 | F92: =TRUNC(E92*D92,1) -> 0 | G92: ='단가대비표-MF'!P73 -> 0 | H92: =TRUNC(G92*D92,1) -> 0 | I92: ='단가대비표-MF'!V73 -> 0 | J92: =TRUNC(I92*D92,1) -> 0 | K92: =TRUNC(E92+G92+I92,1) -> 0 | L92: =TRUNC(F92+H92+J92,1) -> 0 | N92: 4469249BA7598CD4BAC6C24E5D1D4 | O92: 447F2693B791C424E2E645D4AF816276BBEAD | P92: F | Q92: F | R92: T | V92: 1 | AW92: 4469249BA7598CD4BAC6C24E5D1D4447F2693B791C424E2E645D4AF816276BBEAD
A93: 공구손료 | B93: 인력품의 3% | C93: 식 | E93: =TRUNC(SUMIF(V91:V93, RIGHTB(O93, 1), H91:H93)*U93, 2) -> 0 | F93: =TRUNC(E93*D93,1) -> 0 | G93: 0 | H93: =TRUNC(G93*D93,1) -> 0 | I93: 0 | J93: =TRUNC(I93*D93,1) -> 0 | K93: =TRUNC(E93+G93+I93,1) -> 0 | L93: =TRUNC(F93+H93+J93,1) -> 0 | N93: 4469249BA7598CD4BAC6C24E5D1D4 | O93: 45B92D956649C4640696D9AD49B001 | P93: F | Q93: F | R93: F | S93: 1 | T93: 0 | U93: 0.03 | AW93: 4469249BA7598CD4BAC6C24E5D1D445B92D956649C4640696D9AD49B001
A94: [ 합 계 ] | F94: =TRUNC(SUMIF(N91:N93, N90, F91:F93),0) -> 0 | H94: =TRUNC(SUMIF(N91:N93, N90, H91:H93),0) -> 0 | J94: =TRUNC(SUMIF(N91:N93, N90, J91:J93),0) -> 0 | L94: =F94+H94+J94 -> 0 | N94: TOTAL | O94: TOTAL
A96: 관보온(고무발포) 25t*D100 M ( 호표 15 ) | N96: 44692B901ED53714CD46B4DF968EB
A97: 관보온재 | B97: 고무발포, 25t*D100 | C97: M | E97: ='단가대비표-MF'!O28 -> 0 | F97: =TRUNC(E97*D97,1) -> 0 | G97: ='단가대비표-MF'!P28 -> 0 | H97: =TRUNC(G97*D97,1) -> 0 | I97: ='단가대비표-MF'!V28 -> 0 | J97: =TRUNC(I97*D97,1) -> 0 | K97: =TRUNC(E97+G97+I97,1) -> 0 | L97: =TRUNC(F97+H97+J97,1) -> 0 | N97: 44692B901ED53714CD46B4DF968EB | O97: 43FA209422E7E9642796D1862FD478E38200A | P97: F | Q97: F | R97: T | AW97: 44692B901ED53714CD46B4DF968EB43FA209422E7E9642796D1862FD478E38200A
A98: 고무발포단열재 | B98: 고무발포단열재, 본드, 고무발포용 | C98: kg | E98: ='단가대비표-MF'!O22 -> 0 | F98: =TRUNC(E98*D98,1) -> 0 | G98: ='단가대비표-MF'!P22 -> 0 | H98: =TRUNC(G98*D98,1) -> 0 | I98: ='단가대비표-MF'!V22 -> 0 | J98: =TRUNC(I98*D98,1) -> 0 | K98: =TRUNC(E98+G98+I98,1) -> 0 | L98: =TRUNC(F98+H98+J98,1) -> 0 | N98: 44692B901ED53714CD46B4DF968EB | O98: 43FA209422E7E9642796D190B146D71EDE766 | P98: F | Q98: F | R98: T | AW98: 44692B901ED53714CD46B4DF968EB43FA209422E7E9642796D190B146D71EDE766
A99: 보온공 | B99: 일반공사 직종 | C99: 인 | E99: ='단가대비표-MF'!O74 -> 0 | F99: =TRUNC(E99*D99,1) -> 0 | G99: ='단가대비표-MF'!P74 -> 0 | H99: =TRUNC(G99*D99,1) -> 0 | I99: ='단가대비표-MF'!V74 -> 0 | J99: =TRUNC(I99*D99,1) -> 0 | K99: =TRUNC(E99+G99+I99,1) -> 0 | L99: =TRUNC(F99+H99+J99,1) -> 0 | N99: 44692B901ED53714CD46B4DF968EB | O99: 447F2693B791C424E2E645D4AF816276BB926 | P99: F | Q99: F | R99: T | V99: 1 | AW99: 44692B901ED53714CD46B4DF968EB447F2693B791C424E2E645D4AF816276BB926
A100: 보통인부 | B100: 일반공사 직종 | C100: 인 | E100: ='단가대비표-MF'!O69 -> 0 | F100: =TRUNC(E100*D100,1) -> 0 | G100: ='단가대비표-MF'!P69 -> 0 | H100: =TRUNC(G100*D100,1) -> 0 | I100: ='단가대비표-MF'!V69 -> 0 | J100: =TRUNC(I100*D100,1) -> 0 | K100: =TRUNC(E100+G100+I100,1) -> 0 | L100: =TRUNC(F100+H100+J100,1) -> 0 | N100: 44692B901ED53714CD46B4DF968EB | O100: 447F2693B791C424E2E645D4AF816276BBD9F | P100: F | Q100: F | R100: T | V100: 1 | AW100: 44692B901ED53714CD46B4DF968EB447F2693B791C424E2E645D4AF816276BBD9F
A101: 공구손료 | B101: 인력품의 3% | C101: 식 | E101: =TRUNC(SUMIF(V97:V101, RIGHTB(O101, 1), H97:H101)*U101, 2) -> 0 | F101: =TRUNC(E101*D101,1) -> 0 | G101: 0 | H101: =TRUNC(G101*D101,1) -> 0 | I101: 0 | J101: =TRUNC(I101*D101,1) -> 0 | K101: =TRUNC(E101+G101+I101,1) -> 0 | L101: =TRUNC(F101+H101+J101,1) -> 0 | N101: 44692B901ED53714CD46B4DF968EB | O101: 45B92D956649C4640696D9AD49B001 | P101: F | Q101: F | R101: F | S101: 1 | T101: 0 | U101: 0.03 | AW101: 44692B901ED53714CD46B4DF968EB45B92D956649C4640696D9AD49B001
A102: [ 합 계 ] | F102: =TRUNC(SUMIF(N97:N101, N96, F97:F101),0) -> 0 | H102: =TRUNC(SUMIF(N97:N101, N96, H97:H101),0) -> 0 | J102: =TRUNC(SUMIF(N97:N101, N96, J97:J101),0) -> 0 | L102: =F102+H102+J102 -> 0 | N102: TOTAL | O102: TOTAL
A104: 관보온(고무발포) 25t*D65 M ( 호표 16 ) | N104: 44692B9028ADE67486D64BFDC3A6C
A105: 관보온재 | B105: 고무발포, 25t*D65 | C105: M | E105: ='단가대비표-MF'!O27 -> 0 | F105: =TRUNC(E105*D105,1) -> 0 | G105: ='단가대비표-MF'!P27 -> 0 | H105: =TRUNC(G105*D105,1) -> 0 | I105: ='단가대비표-MF'!V27 -> 0 | J105: =TRUNC(I105*D105,1) -> 0 | K105: =TRUNC(E105+G105+I105,1) -> 0 | L105: =TRUNC(F105+H105+J105,1) -> 0 | N105: 44692B9028ADE67486D64BFDC3A6C | O105: 43FA209422E7E9642796D1862FD478E382008 | P105: F | Q105: F | R105: T | AW105: 44692B9028ADE67486D64BFDC3A6C43FA209422E7E9642796D1862FD478E382008
A106: 고무발포단열재 | B106: 고무발포단열재, 본드, 고무발포용 | C106: kg | E106: ='단가대비표-MF'!O22 -> 0 | F106: =TRUNC(E106*D106,1) -> 0 | G106: ='단가대비표-MF'!P22 -> 0 | H106: =TRUNC(G106*D106,1) -> 0 | I106: ='단가대비표-MF'!V22 -> 0 | J106: =TRUNC(I106*D106,1) -> 0 | K106: =TRUNC(E106+G106+I106,1) -> 0 | L106: =TRUNC(F106+H106+J106,1) -> 0 | N106: 44692B9028ADE67486D64BFDC3A6C | O106: 43FA209422E7E9642796D190B146D71EDE766 | P106: F | Q106: F | R106: T | AW106: 44692B9028ADE67486D64BFDC3A6C43FA209422E7E9642796D190B146D71EDE766
A107: 보온공 | B107: 일반공사 직종 | C107: 인 | E107: ='단가대비표-MF'!O74 -> 0 | F107: =TRUNC(E107*D107,1) -> 0 | G107: ='단가대비표-MF'!P74 -> 0 | H107: =TRUNC(G107*D107,1) -> 0 | I107: ='단가대비표-MF'!V74 -> 0 | J107: =TRUNC(I107*D107,1) -> 0 | K107: =TRUNC(E107+G107+I107,1) -> 0 | L107: =TRUNC(F107+H107+J107,1) -> 0 | N107: 44692B9028ADE67486D64BFDC3A6C | O107: 447F2693B791C424E2E645D4AF816276BB926 | P107: F | Q107: F | R107: T | V107: 1 | AW107: 44692B9028ADE67486D64BFDC3A6C447F2693B791C424E2E645D4AF816276BB926
A108: 보통인부 | B108: 일반공사 직종 | C108: 인 | E108: ='단가대비표-MF'!O69 -> 0 | F108: =TRUNC(E108*D108,1) -> 0 | G108: ='단가대비표-MF'!P69 -> 0 | H108: =TRUNC(G108*D108,1) -> 0 | I108: ='단가대비표-MF'!V69 -> 0 | J108: =TRUNC(I108*D108,1) -> 0 | K108: =TRUNC(E108+G108+I108,1) -> 0 | L108: =TRUNC(F108+H108+J108,1) -> 0 | N108: 44692B9028ADE67486D64BFDC3A6C | O108: 447F2693B791C424E2E645D4AF816276BBD9F | P108: F | Q108: F | R108: T | V108: 1 | AW108: 44692B9028ADE67486D64BFDC3A6C447F2693B791C424E2E645D4AF816276BBD9F
A109: 공구손료 | B109: 인력품의 3% | C109: 식 | E109: =TRUNC(SUMIF(V105:V109, RIGHTB(O109, 1), H105:H109)*U109, 2) -> 0 | F109: =TRUNC(E109*D109,1) -> 0 | G109: 0 | H109: =TRUNC(G109*D109,1) -> 0 | I109: 0 | J109: =TRUNC(I109*D109,1) -> 0 | K109: =TRUNC(E109+G109+I109,1) -> 0 | L109: =TRUNC(F109+H109+J109,1) -> 0 | N109: 44692B9028ADE67486D64BFDC3A6C | O109: 45B92D956649C4640696D9AD49B001 | P109: F | Q109: F | R109: F | S109: 1 | T109: 0 | U109: 0.03 | AW109: 44692B9028ADE67486D64BFDC3A6C45B92D956649C4640696D9AD49B001
A110: [ 합 계 ] | F110: =TRUNC(SUMIF(N105:N109, N104, F105:F109),0) -> 0 | H110: =TRUNC(SUMIF(N105:N109, N104, H105:H109),0) -> 0 | J110: =TRUNC(SUMIF(N105:N109, N104, J105:J109),0) -> 0 | L110: =F110+H110+J110 -> 0 | N110: TOTAL | O110: TOTAL
A112: 강관용접접합 D100 개소 ( 호표 17 ) | N112: 44692E9C7A9A4084F666D05216609
A113: 용접공 | B113: 일반공사 직종 | C113: 인 | E113: ='단가대비표-MF'!O71 -> 0 | F113: =TRUNC(E113*D113,1) -> 0 | G113: ='단가대비표-MF'!P71 -> 0 | H113: =TRUNC(G113*D113,1) -> 0 | I113: ='단가대비표-MF'!V71 -> 0 | J113: =TRUNC(I113*D113,1) -> 0 | K113: =TRUNC(E113+G113+I113,1) -> 0 | L113: =TRUNC(F113+H113+J113,1) -> 0 | N113: 44692E9C7A9A4084F666D05216609 | O113: 447F2693B791C424E2E645D4AF816276BBCF4 | P113: F | Q113: F | R113: T | V113: 1 | AW113: 44692E9C7A9A4084F666D05216609447F2693B791C424E2E645D4AF816276BBCF4
A114: 공구손료 | B114: 인력품의 3% | C114: 식 | E114: =TRUNC(SUMIF(V113:V114, RIGHTB(O114, 1), H113:H114)*U114, 2) -> 0 | F114: =TRUNC(E114*D114,1) -> 0 | G114: 0 | H114: =TRUNC(G114*D114,1) -> 0 | I114: 0 | J114: =TRUNC(I114*D114,1) -> 0 | K114: =TRUNC(E114+G114+I114,1) -> 0 | L114: =TRUNC(F114+H114+J114,1) -> 0 | N114: 44692E9C7A9A4084F666D05216609 | O114: 45B92D956649C4640696D9AD49B001 | P114: F | Q114: F | R114: F | S114: 1 | T114: 0 | U114: 0.03 | AW114: 44692E9C7A9A4084F666D0521660945B92D956649C4640696D9AD49B001
A115: [ 합 계 ] | F115: =TRUNC(SUMIF(N113:N114, N112, F113:F114),0) -> 0 | H115: =TRUNC(SUMIF(N113:N114, N112, H113:H114),0) -> 0 | J115: =TRUNC(SUMIF(N113:N114, N112, J113:J114),0) -> 0 | L115: =F115+H115+J115 -> 0 | N115: TOTAL | O115: TOTAL
A117: 강관용접접합 D65 개소 ( 호표 18 ) | N117: 44692E9C7A9A4084F666D05216836
...

Sheet 단가대비표-MF
A1: 단 가 대 비 표
A2: [ 전남광주통합특별시의회 광주청사 환경개선공사(소방기계) ]
A3: 코 드 | B3: 품 명 | C3: 규격 | D3: 단위 | E3: 재 료 비 | P3: 노 무 비 | Q3: 경 비 | W3: 번 호 | X3: 비 고 | Y3: 품목구분 | Z3: 노임구분 | AA3: 소수점처리 | AB3: 자재구분
E4: 조달청가격 | F4: PAGE | G4: 거래가격 | H4: PAGE | I4: 유통물가 | J4: PAGE | K4: 조사가격1 | L4: PAGE | M4: 조사가격2 | N4: PAGE | O4: 적용단가 | Q4: 조달청가격 | R4: 거래가격 | S4: 유통물가 | T4: 조사가격1 | U4: 조사가격2 | V4: 적용단가
A5: 43912B931928533475C6A2636B30A539A516A | B5: 연강용피복아크용접봉 | C5: 연강용피복아크용접봉, CS-200, ∮4.0mm | D5: kg | P5: 0 | Q5: 0 | R5: 0 | S5: 0 | T5: 0 | U5: 0 | V5: 0 | W5: 자재 1
A6: 4387209EF41809B438169DE373E87AB0981B9 | B6: 행어볼트 | C6: 행어볼트, 아연도금, M10*1000 | D6: 개 | P6: 0 | Q6: 0 | R6: 0 | S6: 0 | T6: 0 | U6: 0 | V6: 0 | W6: 자재 2
A7: 4387209EF41809B438169DE373E87AB0981BF | B7: 행어볼트 | C7: 행어볼트, 아연도금, M14*1000 | D7: EA | P7: 0 | Q7: 0 | R7: 0 | S7: 0 | T7: 0 | U7: 0 | V7: 0 | W7: 자재 3
A8: 4387209EF4180954A956B19ED002BBFB7F22F | B8: 평와셔 | C8: 평와셔, 호칭경 16mm | D8: 개 | P8: 0 | Q8: 0 | R8: 0 | S8: 0 | T8: 0 | U8: 0 | V8: 0 | W8: 자재 4
A9: 4387209EF4180954A956B18C6778597DF26B4 | B9: 볼트+너트 | C9: M16*65L | D9: SET | P9: 0 | Q9: 0 | R9: 0 | S9: 0 | T9: 0 | U9: 0 | V9: 0 | W9: 자재 5
A10: 4387209EF4180954A956B18C6778597DC5027 | B10: 소요전력 | D10: kwh | P10: 0 | Q10: 0 | R10: 0 | S10: 0 | T10: 0 | U10: 0 | V10: 0 | W10: 자재 6
A11: 4387209EF41835049F36BD6790E8E89192FD1 | B11: 스트롱앵커 | C11: 스트롱앵커, M10, 9.5mm | D11: 개 | P11: 0 | Q11: 0 | R11: 0 | S11: 0 | T11: 0 | U11: 0 | V11: 0 | W11: 자재 7
A12: 4387209EF41835049F36BD6790E8E89192FD0 | B12: 스트롱앵커 | C12: 스트롱앵커, M13, 12.7mm | D12: 개 | P12: 0 | Q12: 0 | R12: 0 | S12: 0 | T12: 0 | U12: 0 | V12: 0 | W12: 자재 8
A13: 4387209EF41835244C868765C66BECF7BC9E1 | B13: 지지행어 | C13: 지지행어, 파이프행어(일반), ∮25mm | D13: 개 | P13: 0 | Q13: 0 | R13: 0 | S13: 0 | T13: 0 | U13: 0 | V13: 0 | W13: 자재 9
A14: 4387209EF41835244C868765C66BECF7BC9E0 | B14: 지지행어 | C14: 지지행어, 파이프행어(일반), ∮32mm | D14: 개 | P14: 0 | Q14: 0 | R14: 0 | S14: 0 | T14: 0 | U14: 0 | V14: 0 | W14: 자재 10
A15: 4387209EF41835244C868765C66BECF7BC9EF | B15: 지지행어 | C15: 지지행어, 파이프행어(일반), ∮40mm | D15: 개 | P15: 0 | Q15: 0 | R15: 0 | S15: 0 | T15: 0 | U15: 0 | V15: 0 | W15: 자재 11
A16: 4387209EF41835244C868765C66BECF7BC9EE | B16: 지지행어 | C16: 지지행어, 파이프행어(일반), ∮50mm | D16: 개 | P16: 0 | Q16: 0 | R16: 0 | S16: 0 | T16: 0 | U16: 0 | V16: 0 | W16: 자재 12
A17: 4387209EF41835244C868765C66BECF7BC612 | B17: 지지행어 | C17: 지지행어, 파이프행어(일반), ∮65mm | D17: 개 | P17: 0 | Q17: 0 | R17: 0 | S17: 0 | T17: 0 | U17: 0 | V17: 0 | W17: 자재 13
A18: 4387209EF41835244C868765C66BECF7BC610 | B18: 지지행어 | C18: 지지행어, 파이프행어(일반), ∮100mm | D18: 개 | P18: 0 | Q18: 0 | R18: 0 | S18: 0 | T18: 0 | U18: 0 | V18: 0 | W18: 자재 14
A19: 4387209EF4F6168487E6819EFB8FDCBDD6AF3 | B19: 패킹 | C19: 패킹, 플랜지용, ∮100mm | D19: 개 | P19: 0 | Q19: 0 | R19: 0 | S19: 0 | T19: 0 | U19: 0 | V19: 0 | W19: 자재 15
A20: 4387209ECF2C5784BB660C46349D7FB33969A | B20: 방청페인트 | C20: 방청페인트, KSM6030-1종1류, 광명단페인트 | D20: L | P20: 0 | Q20: 0 | R20: 0 | S20: 0 | T20: 0 | U20: 0 | V20: 0 | W20: 자재 16
A21: 4387209ECF2C5754FE56C0437F0835A07D891 | B21: 시너 | C21: 시너, KSM6060, 1종 | D21: L | P21: 0 | Q21: 0 | R21: 0 | S21: 0 | T21: 0 | U21: 0 | V21: 0 | W21: 자재 17
A22: 43FA209422E7E9642796D190B146D71EDE766 | B22: 고무발포단열재 | C22: 고무발포단열재, 본드, 고무발포용 | D22: kg | P22: 0 | Q22: 0 | R22: 0 | S22: 0 | T22: 0 | U22: 0 | V22: 0 | W22: 자재 18
... A66: 43FA269EA2312574A5462DDB9D536B78DB585 | B66: 호스걸이 | C66: 회전식 | D66: EA | P66: 0 | Q66: 0 | R66: 0 | S66: 0 | T66: 0 | U66: 0 | V66: 0 | W66: 자재 62
A67: 43FA269EA2312574A546CC38392D1712D5BA4 | B67: 소화기받침대 | C67: 소화기받침대, 3.3kg | D67: 개 | Q67: 0 | R67: 0 | S67: 0 | T67: 0 | U67: 0 | V67: 0 | W67: 자재 63
A68: 43FA269EA2312574A546CC3828BE6EEE831E4 | B68: 방화포 | C68: 1.8m x 1.8m | D68: 조 | Q68: 0 | R68: 0 | S68: 0 | T68: 0 | U68: 0 | V68: 0 | W68: 자재 64
A69: 447F2693B791C424E2E645D4AF816276BBD9F | B69: 보통인부 | C69: 일반공사 직종 | D69: 인 | Q69: 0 | R69: 0 | S69: 0 | T69: 0 | U69: 0 | V69: 0 | W69: 노임 1 | Y69: B
A70: 447F2693B791C424E2E645D4AF816276BBD9E | B70: 특별인부 | C70: 일반공사 직종 | D70: 인 | Q70: 0 | R70: 0 | S70: 0 | T70: 0 | U70: 0 | V70: 0 | W70: 노임 2 | Y70: B
A71: 447F2693B791C424E2E645D4AF816276BBCF4 | B71: 용접공 | C71: 일반공사 직종 | D71: 인 | E71: 0 | G71: 0 | I71: 0 | K71: 0 | M71: 0 | O71: 0 | Q71: 0 | R71: 0 | S71: 0 | T71: 0 | U71: 0 | V71: 0 | W71: 노임 3 | Y71: B
A72: 447F2693B791C424E2E645D4AF816276BBF42 | B72: 도장공 | C72: 일반공사 직종 | D72: 인 | E72: 0 | G72: 0 | I72: 0 | K72: 0 | M72: 0 | O72: 0 | Q72: 0 | R72: 0 | S72: 0 | T72: 0 | U72: 0 | V72: 0 | W72: 노임 4 | Y72: B
A73: 447F2693B791C424E2E645D4AF816276BBEAD | B73: 배관공 | C73: 일반공사 직종 | D73: 인 | E73: 0 | G73: 0 | I73: 0 | K73: 0 | M73: 0 | O73: 0 | Q73: 0 | R73: 0 | S73: 0 | T73: 0 | U73: 0 | V73: 0 | W73: 노임 5 | Y73: B
A74: 447F2693B791C424E2E645D4AF816276BB926 | B74: 보온공 | C74: 일반공사 직종 | D74: 인 | E74: 0 | G74: 0 | I74: 0 | K74: 0 | M74: 0 | O74: 0 | Q74: 0 | R74: 0 | S74: 0 | T74: 0 | U74: 0 | V74: 0 | W74: 노임 6 | Y74: B
A75: 447F2693B791C424E2E645D4AF816276BB81D | B75: 플랜트배관공 | C75: 일반공사 직종 | D75: 인 | E75: 0 | G75: 0 | I75: 0 | K75: 0 | M75: 0 | O75: 0 | Q75: 0 | R75: 0 | S75: 0 | T75: 0 | U75: 0 | V75: 0 | W75: 노임 7 | Y75: B
A76: 447F2693B791C424E2E645D4AF816276BB813 | B76: 플랜트용접공 | C76: 일반공사 직종 | D76: 인 | E76: 0 | G76: 0 | I76: 0 | K76: 0 | M76: 0 | O76: 0 | Q76: 0 | R76: 0 | S76: 0 | T76: 0 | U76: 0 | V76: 0 | W76: 노임 8 | Y76: B

Sheet 내역간지3
A7: 1-2) 내 역 서 ( 소 방 전 기 )

Sheet 공종별집계표-EF
A1: 공 종 별 집 계 표
A2: [ 전남광주통합특별시의회 광주청사 환경개선공사(소방전기) ]
A3: 품 명 | B3: 규 격 | C3: 단위 | D3: 수량 | E3: 재 료 비 | G3: 노 무 비 | I3: 경 비 | K3: 합 계 | M3: 비 고 | N3: 공종코드 | O3: 변수 | P3: 상위공종 | Q3: 공종구분 | R3: 공종레벨 | S3: 공종소계 | T3: 원가계산서 연결금액
E4: 단 가 | F4: 금 액 | G4: 단 가 | H4: 금 액 | I4: 단 가 | J4: 금 액 | K4: 단 가 | L4: 금 액
A5: 01 전남광주통합특별시의회 광주청사 환경개선공사(소방전기) | D5: 1 | E5: =F6+F7+F8 -> 0 | F5: =E5*D5 -> 0 | G5: =H6+H7+H8 -> 0 | H5: =G5*D5 -> 0 | I5: =J6+J7+J8 -> 0 | J5: =I5*D5 -> 0 | K5: =E5+G5+I5 -> 0 | L5: =F5+H5+J5 -> 0 | N5: 01 | R5: 1
A6: 0101 지하 1층 설치공사 | D6: 1 | E6: ='공종별내역서-EF'!F27 -> 0 | F6: =E6*D6 -> 0 | G6: ='공종별내역서-EF'!H27 -> 0 | H6: =G6*D6 -> 0 | I6: ='공종별내역서-EF'!J27 -> 0 | J6: =I6*D6 -> 0 | K6: =E6+G6+I6 -> 0 | L6: =F6+H6+J6 -> 0 | N6: 0101 | P6: 01 | R6: 2
A7: 0102 지상 5층 전면부 설치공사 | D7: 1 | E7: ='공종별내역서-EF'!F51 -> 0 | F7: =E7*D7 -> 0 | G7: ='공종별내역서-EF'!H51 -> 0 | H7: =G7*D7 -> 0 | I7: ='공종별내역서-EF'!J51 -> 0 | J7: =I7*D7 -> 0 | K7: =E7+G7+I7 -> 0 | L7: =F7+H7+J7 -> 0 | N7: 0102 | P7: 01 | R7: 2
A8: 0103 지상 5층 후면부 설치공사 | D8: 1 | E8: ='공종별내역서-EF'!F99 -> 0 | F8: =E8*D8 -> 0 | G8: ='공종별내역서-EF'!H99 -> 0 | H8: =G8*D8 -> 0 | I8: ='공종별내역서-EF'!J99 -> 0 | J8: =I8*D8 -> 0 | K8: =E8+G8+I8 -> 0 | L8: =F8+H8+J8 -> 0 | N8: 0103 | P8: 01 | R8: 2
A27: [ 합 계 ] | F27: =F5 -> 0 | H27: =H5 -> 0 | J27: =J5 -> 0 | L27: =L5 -> 0

Sheet 공종별내역서-EF
A1: [ 전남광주통합특별시의회 광주청사 환경개선공사(소방전기) ]
A2: 품 명 | B2: 규 격 | C2: 단위 | D2: 수량 | E2: 재 료 비 | G2: 노 무 비 | I2: 경 비 | K2: 합 계 | M2: 비 고 | N2: 품목코드 | O2: 변수 | P2: 설정 | Q2: 공종코드 | R2: 일위 | S2: 단산 | T2: 자재 | U2: 손료적용 | V2: 손료저장 | W2: 적용율 | X2: JUK1 | Y2: JUK2 | Z2: JUK3 | AA2: JUK4 | AB2: JUK5 | AC2: JUK6 | AD2: JUK7 | AE2: JUK8 | AF2: JUK9 | AG2: JUK10 | AH2: JUK11 | AI2: JUK12 | AJ2: JUK13 | AK2: JUK14 | AL2: JUK15 | AM2: JUK16 | AN2: JUK17 | AO2: JUK18 | AP2: JUK19 | AQ2: JUK20 | AR2: 자재구분 | AS2: 공종구분 | AT2: 공종레벨 | AU2: 공종+자재 | AV2: 고유번호
E3: 단 가 | F3: 금 액 | G3: 단 가 | H3: 금 액 | I3: 단 가 | J3: 금 액 | K3: 단 가 | L3: 금 액
A4: 0101 지하 1층 설치공사 | Q4: 0101
A5: 1종금속제가요전선관 | B5: 1종금속제가요전선관, 16mm, 비방수 | C5: M | D5: 101 | E5: =TRUNC('단가대비표-EF'!O19,0) -> 0 | F5: =TRUNC(E5*D5, 0) -> 0 | G5: =TRUNC('단가대비표-EF'!P19,0) -> 0 | H5: =TRUNC(G5*D5, 0) -> 0 | I5: =TRUNC('단가대비표-EF'!V19,0) -> 0 | J5: =TRUNC(I5*D5, 0) -> 0 | K5: =TRUNC(E5+G5+I5, 0) -> 0 | L5: =TRUNC(F5+H5+J5, 0) -> 0 | N5: 42304D66113F63005D389F0C774D33D7821F9 | Q5: 0101 | R5: F | S5: F | T5: T | X5: 1 | Y5: 2 | AU5: 010142304D66113F63005D389F0C774D33D7821F9 | AV5: 3
A6: 전선관부속품비 | B6: 전선관의 15% | C6: 식 | D6: 1 | E6: =ROUNDDOWN(SUMIF(X5:X23, RIGHTB(N6, 1), F5:F23)*W6, 0) -> 0 | F6: =TRUNC(E6*D6, 0) -> 0 | G6: 0 | H6: =TRUNC(G6*D6, 0) -> 0 | I6: 0 | J6: =TRUNC(I6*D6, 0) -> 0 | K6: =TRUNC(E6+G6+I6, 0) -> 0 | L6: =TRUNC(F6+H6+J6, 0) -> 0 | N6: 4400488D113AA6E85BF1C5C3F64001 | Q6: 0101 | R6: F | S6: F | T6: F | U6: 0 | V6: 0 | W6: 0.15 | AU6: 01014400488D113AA6E85BF1C5C3F66003 | AV6: 101
A7: 저독성난연케이블 | B7: HFIX, 1.78㎜ | C7: M | D7: 81 | E7: =TRUNC('단가대비표-EF'!O7,0) -> 0 | F7: =TRUNC(E7*D7, 0) -> 0 | G7: =TRUNC('단가대비표-EF'!P7,0) -> 0 | H7: =TRUNC(G7*D7, 0) -> 0 | I7: =TRUNC('단가대비표-EF'!V7,0) -> 0 | J7: =TRUNC(I7*D7, 0) -> 0 | K7: =TRUNC(E7+G7+I7, 0) -> 0 | L7: =TRUNC(F7+H7+J7, 0) -> 0 | N7: 42274B8A113F5B2CC9D18B52EEC2E5B5EE3A1 | Q7: 0101 | R7: F | S7: F | T7: T | Y7: 2 | AU7: 010142274B8A113F5B2CC9D18B52EEC2E5B5EE3A1 | AV7: 4
A8: 저독성난연케이블 | B8: HFIX, 1.38㎜ | C8: M | D8: 294 | E8: =TRUNC('단가대비표-EF'!O6,0) -> 0 | F8: =TRUNC(E8*D8, 0) -> 0 | G8: =TRUNC('단가대비표-EF'!P6,0) -> 0 | H8: =TRUNC(G8*D8, 0) -> 0 | I8: =TRUNC('단가대비표-EF'!V6,0) -> 0 | J8: =TRUNC(I8*D8, 0) -> 0 | K8: =TRUNC(E8+G8+I8, 0) -> 0 | L8: =TRUNC(F8+H8+J8, 0) -> 0 | N8: 42274B8A113F5B2CC9D18B52EEC2E5B5EE3A0 | Q8: 0101 | R8: F | S8: F | T8: T | Y8: 2 | AU8: 010142274B8A113F5B2CC9D18B52EEC2E5B5EE3A0 | AV8: 5
A9: 잡재료비 | B9: 배관배선의 2% | C9: 식 | D9: 1 | E9: =ROUNDDOWN(SUMIF(Y5:Y23, RIGHTB(N9, 1), F5:F23)*W9, 0) -> 0 | F9: =TRUNC(E9*D9, 0) -> 0 | G9: 0 | H9: =TRUNC(G9*D9, 0) -> 0 | I9: 0 | J9: =TRUNC(I9*D9, 0) -> 0 | K9: =TRUNC(E9+G9+I9, 0) -> 0 | L9: =TRUNC(F9+H9+J9, 0) -> 0 | N9: 4400488D113AA6E85BF1C5C3F67002 | Q9: 0101 | R9: F | S9: F | T9: F | U9: 0 | V9: 0 | W9: 0.02 | AU9: 01014400488D113AA6E85BF1C5C3F64001 | AV9: 99
A10: 아웃렛박스 | B10: 아웃렛박스, 8각, 54mm | C10: 개 | D10: 16 | E10: =TRUNC('단가대비표-EF'!O14,0) -> 0 | F10: =TRUNC(E10*D10, 0) -> 0 | G10: =TRUNC('단가대비표-EF'!P14,0) -> 0 | H10: =TRUNC(G10*D10, 0) -> 0 | I10: =TRUNC('단가대비표-EF'!V14,0) -> 0 | J10: =TRUNC(I10*D10, 0) -> 0 | K10: =TRUNC(E10+G10+I10, 0) -> 0 | L10: =TRUNC(F10+H10+J10, 0) -> 0 | N10: 42304D66113F7D97AF3361364CF6A84B06EDF | Q10: 0101 | R10: F | S10: F | T10: T | AU10: 010142304D66113F7D97AF3361364CF6A84B06EDF | AV10: 6
A11: 아웃렛박스 | B11: 아웃렛박스, 커버, 8각, 평형 | C11: 개 | D11: 16 | E11: =TRUNC('단가대비표-EF'!O15,0) -> 0 | F11: =TRUNC(E11*D11, 0) -> 0 | G11: =TRUNC('단가대비표-EF'!P15,0) -> 0 | H11: =TRUNC(G11*D11, 0) -> 0 | I11: =TRUNC('단가대비표-EF'!V15,0) -> 0 | J11: =TRUNC(I11*D11, 0) -> 0 | K11: =TRUNC(E11+G11+I11, 0) -> 0 | L11: =TRUNC(F11+H11+J11, 0) -> 0 | N11: 42304D66113F7D97AF3361090511FF38F4588 | Q11: 0101 | R11: F | S11: F | T11: T | AU11: 010142304D66113F7D97AF3361090511FF38F4588 | AV11: 7
A12: 열감지기 | B12: 열감지기, 차동식스포트형 | C12: 개 | D12: 7 | E12: =TRUNC('단가대비표-EF'!O22,0) -> 0 | F12: =TRUNC(E12*D12, 0) -> 0 | G12: =TRUNC('단가대비표-EF'!P22,0) -> 0 | H12: =TRUNC(G12*D12, 0) -> 0 | I12: =TRUNC('단가대비표-EF'!V22,0) -> 0 | J12: =TRUNC(I12*D12, 0) -> 0 | K12: =TRUNC(E12+G12+I12, 0) -> 0 | L12: =TRUNC(F12+H12+J12, 0) -> 0 | N12: 42424DC3113D46357FC10963221AA290766C4 | Q12: 0101 | R12: F | S12: F | T12: T | AU12: 010142424DC3113D46357FC10963221AA290766C4 | AV12: 8
A13: 열감지기 | B13: 열감지기, 정온식스포트형 | C13: 개 | D13: 1 | E13: =TRUNC('단가대비표-EF'!O23,0) -> 0 | F13: =TRUNC(E13*D13, 0) -> 0 | G13: =TRUNC('단가대비표-EF'!P23,0) -> 0 | H13: =TRUNC(G13*D13, 0) -> 0 | I13: =TRUNC('단가대비표-EF'!V23,0) -> 0 | J13: =TRUNC(I13*D13, 0) -> 0 | K13: =TRUNC(E13+G13+I13, 0) -> 0 | L13: =TRUNC(F13+H13+J13, 0) -> 0 | N13: 42424DC3113D46357FC10963221AA290766C3 | Q13: 0101 | R13: F | S13: F | T13: T | AU13: 010142424DC3113D46357FC10963221AA290766C3 | AV13: 9
A14: 연기감지기 | B14: 연기감지기, 광전식 2종-비축적 | C14: 개 | D14: 2 | E14: =TRUNC('단가대비표-EF'!O24,0) -> 0 | F14: =TRUNC(E14*D14, 0) -> 0 | G14: =TRUNC('단가대비표-EF'!P24,0) -> 0 | H14: =TRUNC(G14*D14, 0) -> 0 | I14: =TRUNC('단가대비표-EF'!V24,0) -> 0 | J14: =TRUNC(I14*D14, 0) -> 0 | K14: =TRUNC(E14+G14+I14, 0) -> 0 | L14: =TRUNC(F14+H14+J14, 0) -> 0 | N14: 42424DC3113D46357FC10963221AA29076523 | Q14: 0101 | R14: F | S14: F | T14: T | AU14: 010142424DC3113D46357FC10963221AA29076523 | AV14: 10
A15: 전자사이렌-스프링클러용 | B15: DC24V | C15: 개 | D15: 1 | E15: =TRUNC('단가대비표-EF'!O20,0) -> 0 | F15: =TRUNC(E15*D15, 0) -> 0 | G15: =TRUNC('단가대비표-EF'!P20,0) -> 0 | H15: =TRUNC(G15*D15, 0) -> 0 | I15: =TRUNC('단가대비표-EF'!V20,0) -> 0 | J15: =TRUNC(I15*D15, 0) -> 0 | K15: =TRUNC(E15+G15+I15, 0) -> 0 | L15: =TRUNC(F15+H15+J15, 0) -> 0 | N15: 42424DC3113DA8BC93A1C34F042957A75767C | Q15: 0101 | R15: F | S15: F | T15: T | AU15: 010142424DC3113DA8BC93A1C34F042957A75767C | AV15: 52
A16: 피난구유도등 | B16: 중형(단면), 60분용, 피난구유도등, 고휘도, LED | C16: 개 | D16: 3 | E16: =TRUNC('단가대비표-EF'!O11,0) -> 0 | F16: =TRUNC(E16*D16, 0) -> 0 | G16: =TRUNC('단가대비표-EF'!P11,0) -> 0 | H16: =TRUNC(G16*D16, 0) -> 0 | I16: =TRUNC('단가대비표-EF'!V11,0) -> 0 | J16: =TRUNC(I16*D16, 0) -> 0 | K16: =TRUNC(E16+G16+I16, 0) -> 0 | L16: =TRUNC(F16+H16+J16, 0) -> 0 | N16: 42304D66113F405DCC9ED300065CFE51B25E2 | Q16: 0101 | R16: F | S16: F | T16: T | AU16: 010142304D66113F405DCC9ED300065CFE51B25E2 | AV16: 53
A17: 피난구유도등 | B17: 중형(양면), 60분용, 피난구유도등, 고휘도, LED | C17: 개 | D17: 1 | E17: =TRUNC('단가대비표-EF'!O12,0) -> 0 | F17: =TRUNC(E17*D17, 0) -> 0 | G17: =TRUNC('단가대비표-EF'!P12,0) -> 0 | H17: =TRUNC(G17*D17, 0) -> 0 | I17: =TRUNC('단가대비표-EF'!V12,0) -> 0 | J17: =TRUNC(I17*D17, 0) -> 0 | K17: =TRUNC(E17+G17+I17, 0) -> 0 | L17: =TRUNC(F17+H17+J17, 0) -> 0 | N17: 42304D66113F405DCC9ED300065CFE51B25ED | Q17: 0101 | R17: F | S17: F | T17: T | AU17: 010142304D66113F405DCC9ED300065CFE51B25ED | AV17: 54
A18: 비상조명등 | B18: 소방검정품, 배광번호 33 이상제품 | C18: 개 | D18: 1 | E18: =TRUNC('단가대비표-EF'!O8,0) -> 0 | F18: =TRUNC(E18*D18, 0) -> 0 | G18: =TRUNC('단가대비표-EF'!P8,0) -> 0 | H18: =TRUNC(G18*D18, 0) -> 0 | I18: =TRUNC('단가대비표-EF'!V8,0) -> 0 | J18: =TRUNC(I18*D18, 0) -> 0 | K18: =TRUNC(E18+G18+I18, 0) -> 0 | L18: =TRUNC(F18+H18+J18, 0) -> 0 | N18: 42304D66113F405DEF7E9507D51CA947D240F | Q18: 0101 | R18: F | S18: F | T18: T | AU18: 010142304D66113F405DEF7E9507D51CA947D240F | AV18: 55
A19: 감지기-철거 | C19: EA | D19: 6 | E19: =TRUNC('일위대가목록-EF'!E4,0) -> 0 | F19: =TRUNC(E19*D19, 0) -> 0 | G19: =TRUNC('일위대가목록-EF'!F4,0) -> 0 | H19: =TRUNC(G19*D19, 0) -> 0 | I19: =TRUNC('일위대가목록-EF'!G4,0) -> 0 | J19: =TRUNC(I19*D19, 0) -> 0 | K19: =TRUNC(E19+G19+I19, 0) -> 0 | L19: =TRUNC(F19+H19+J19, 0) -> 0 | M19: 호표 1 | N19: 45D340BD1138CF00E921F4924CA93 | Q19: 0101 | R19: T | S19: F | T19: F | AU19: 010145D340BD1138CF00E921F4924CA93 | AV19: 56
A20: 전자싸이렌-철거 | B20: 스프링클러용 | C20: EA | D20: 1 | E20: =TRUNC('일위대가목록-EF'!E5,0) -> 0 | F20: =TRUNC(E20*D20, 0) -> 0 | G20: =TRUNC('일위대가목록-EF'!F5,0) -> 0 | H20: =TRUNC(G20*D20, 0) -> 0 | I20: =TRUNC('일위대가목록-EF'!G5,0) -> 0 | J20: =TRUNC(I20*D20, 0) -> 0 | K20: =TRUNC(E20+G20+I20, 0) -> 0 | L20: =TRUNC(F20+H20+J20, 0) -> 0 | M20: 호표 2 | N20: 459A4AA111362A75DA856B51A5D2F | Q20: 0101 | R20: T | S20: F | T20: F | AU20: 0101459A4AA111362A75DA856B51A5D2F | AV20: 57
A21: 피난구유도등-철거 | B21: 벽부형 | C21: 개 | D21: 7 | E21: =TRUNC('일위대가목록-EF'!E6,0) -> 0 | F21: =TRUNC(E21*D21, 0) -> 0 | G21: =TRUNC('일위대가목록-EF'!F6,0) -> 0 | H21: =TRUNC(G21*D21, 0) -> 0 | I21: =TRUNC('일위대가목록-EF'!G6,0) -> 0 | J21: =TRUNC(I21*D21, 0) -> 0 | K21: =TRUNC(E21+G21+I21, 0) -> 0 | L21: =TRUNC(F21+H21+J21, 0) -> 0 | M21: 호표 3 | N21: 455040DC1132CE9B0393145CC39CA | Q21: 0101 | R21: T | S21: F | T21: F | AU21: 0101455040DC1132CE9B0393145CC39CA | AV21: 58
A22: 내선전공 | B22: 일반공사 직종 | C22: 인 | D22: ='공량산출근거서-EF'!K16 -> 1 | E22: =TRUNC('단가대비표-EF'!O31,0) -> 0 | F22: =TRUNC(E22*D22, 0) -> 0 | G22: =TRUNC('단가대비표-EF'!P31,0) -> 0 | H22: =TRUNC(G22*D22, 0) -> 0 | I22: =TRUNC('단가대비표-EF'!V31,0) -> 0 | J22: =TRUNC(I22*D22, 0) -> 0 | K22: =TRUNC(E22+G22+I22, 0) -> 0 | L22: =TRUNC(F22+H22+J22, 0) -> 0 | N22: 45CA44F11138A931490AC448A0F93A2E47963 | Q22: 0101 | R22: F | S22: F | T22: T | Z22: 3 | AU22: 010145CA44F11138A931490AC448A0F93A2E47963 | AV22: 83
A23: 공구손료 | B23: 인력품의 3% | C23: 식 | D23: 1 | E23: =ROUNDDOWN(SUMIF(Z5:Z23, RIGHTB(N23, 1), H5:H23)*W23, 0) -> 0 | F23: =TRUNC(E23*D23, 0) -> 0 | G23: 0 | H23: =TRUNC(G23*D23, 0) -> 0 | I23: 0 | J23: =TRUNC(I23*D23, 0) -> 0 | K23: =TRUNC(E23+G23+I23, 0) -> 0 | L23: =TRUNC(F23+H23+J23, 0) -> 0 | N23: 4400488D113AA6E85BF1C5C3F66003 | Q23: 0101 | R23: F | S23: F | T23: F | U23: 1 | V23: 0 | W23: 0.03 | AU23: 01014400488D113AA6E85BF1C5C3F67002 | AV23: 100
Q24: 0101
Q25: 0101
Q26: 0101
A27: [ 합 계 ] | F27: =SUMIF(Q5:Q26,"0101",F5:F26) -> 0 | H27: =SUMIF(Q5:Q26,"0101",H5:H26) -> 0 | J27: =SUMIF(Q5:Q26,"0101",J5:J26) -> 0 | L27: =SUMIF(Q5:Q26,"0101",L5:L26) -> 0 | N27: TOTAL
A28: 0102 지상 5층 전면부 설치공사 | Q28: 0102
A29: 1종금속제가요전선관 | B29: 1종금속제가요전선관, 16mm, 비방수 | C29: M | D29: 207 | E29: =TRUNC('단가대비표-EF'!O19,0) -> 0 | F29: =TRUNC(E29*D29, 0) -> 0 | G29: =TRUNC('단가대비표-EF'!P19,0) -> 0 | H29: =TRUNC(G29*D29, 0) -> 0 | I29: =TRUNC('단가대비표-EF'!V19,0) -> 0 | J29: =TRUNC(I29*D29, 0) -> 0 | K29: =TRUNC(E29+G29+I29, 0) -> 0 | L29: =TRUNC(F29+H29+J29, 0) -> 0 | N29: 42304D66113F63005D389F0C774D33D7821F9 | Q29: 0102 | R29: F | S29: F | T29: T | X29: 1 | Y29: 2 | AU29: 010242304D66113F63005D389F0C774D33D7821F9 | AV29: 19
A30: 전선관부속품비 | B30: 전선관의 15% | C30: 식 | D30: 1 | E30: =ROUNDDOWN(SUMIF(X29:X48, RIGHTB(N30, 1), F29:F48)*W30, 0) -> 0 | F30: =TRUNC(E30*D30, 0) -> 0 | G30: 0 | H30: =TRUNC(G30*D30, 0) -> 0 | I30: 0 | J30: =TRUNC(I30*D30, 0) -> 0 | K30: =TRUNC(E30+G30+I30, 0) -> 0 | L30: =TRUNC(F30+H30+J30, 0) -> 0 | N30: 4400488D113AA6E85BF1C5C3F64001 | Q30: 0102 | R30: F | S30: F | T30: F | U30: 0 | V30: 0 | W30: 0.15 | AU30: 01024400488D113AA6E85BF1C5C3F66003 | AV30: 104
A31: 저독성난연케이블 | B31: HFIX, 1.78㎜ | C31: M | D31: 224 | E31: =TRUNC('단가대비표-EF'!O7,0) -> 0 | F31: =TRUNC(E31*D31, 0) -> 0 | G31: =TRUNC('단가대비표-EF'!P7,0) -> 0 | H31: =TRUNC(G31*D31, 0) -> 0 | I31: =TRUNC('단가대비표-EF'!V7,0) -> 0 | J31: =TRUNC(I31*D31, 0) -> 0 | K31: =TRUNC(E31+G31+I31, 0) -> 0 | L31: =TRUNC(F31+H31+J31, 0) -> 0 | N31: 42274B8A113F5B2CC9D18B52EEC2E5B5EE3A1 | Q31: 0102 | R31: F | S31: F | T31: T | Y31: 2 | AU31: 010242274B8A113F5B2CC9D18B52EEC2E5B5EE3A1 | AV31: 20
A32: 저독성난연케이블 | B32: HFIX, 1.38㎜ | C32: M | D32: 466 | E32: =TRUNC('단가대비표-EF'!O6,0) -> 0 | F32: =TRUNC(E32*D32, 0) -> 0 | G32: =TRUNC('단가대비표-EF'!P6,0) -> 0 | H32: =TRUNC(G32*D32, 0) -> 0 | I32: =TRUNC('단가대비표-EF'!V6,0) -> 0 | J32: =TRUNC(I32*D32, 0) -> 0 | K32: =TRUNC(E32+G32+I32, 0) -> 0 | L32: =TRUNC(F32+H32+J32, 0) -> 0 | N32: 42274B8A113F5B2CC9D18B52EEC2E5B5EE3A0 | Q32: 0102 | R32: F | S32: F | T32: T | Y32: 2 | AU32: 010242274B8A113F5B2CC9D18B52EEC2E5B5EE3A0 | AV32: 21
A33: 잡재료비 | B33: 배관배선의 2% | C33: 식 | D33: 1 | E33: =ROUNDDOWN(SUMIF(Y29:Y48, RIGHTB(N33, 1), F29:F48)*W33, 0) -> 0 | F33: =TRUNC(E33*D33, 0) -> 0 | G33: 0 | H33: =TRUNC(G33*D33, 0) -> 0 | I33: 0 | J33: =TRUNC(I33*D33, 0) -> 0 | K33: =TRUNC(E33+G33+I33, 0) -> 0 | L33: =TRUNC(F33+H33+J33, 0) -> 0 | N33: 4400488D113AA6E85BF1C5C3F67002 | Q33: 0102 | R33: F | S33: F | T33: F | U33: 0 | V33: 0 | W33: 0.02 | AU33: 01024400488D113AA6E85BF1C5C3F64001 | AV33: 102
A34: 아웃렛박스 | B34: 아웃렛박스, 8각, 54mm | C34: 개 | D34: 21 | E34: =TRUNC('단가대비표-EF'!O14,0) -> 0 | F34: =TRUNC(E34*D34, 0) -> 0 | G34: =TRUNC('단가대비표-EF'!P14,0) -> 0 | H34: =TRUNC(G34*D34, 0) -> 0 | I34: =TRUNC('단가대비표-EF'!V14,0) -> 0 | J34: =TRUNC(I34*D34, 0) -> 0 | K34: =TRUNC(E34+G34+I34, 0) -> 0 | L34: =TRUNC(F34+H34+J34, 0) -> 0 | N34: 42304D66113F7D97AF3361364CF6A84B06EDF | Q34: 0102 | R34: F | S34: F | T34: T | AU34: 010242304D66113F7D97AF3361364CF6A84B06EDF | AV34: 22
A35: 아웃렛박스 | B35: 아웃렛박스, 커버, 8각, 평형 | C35: 개 | D35: 21 | E35: =TRUNC('단가대비표-EF'!O15,0) -> 0 | F35: =TRUNC(E35*D35, 0) -> 0 | G35: =TRUNC('단가대비표-EF'!P15,0) -> 0 | H35: =TRUNC(G35*D35, 0) -> 0 | I35: =TRUNC('단가대비표-EF'!V15,0) -> 0 | J35: =TRUNC(I35*D35, 0) -> 0 | K35: =TRUNC(E35+G35+I35, 0) -> 0 | L35: =TRUNC(F35+H35+J35, 0) -> 0 | N35: 42304D66113F7D97AF3361090511FF38F4588 | Q35: 0102 | R35: F | S35: F | T35: T | AU35: 010242304D66113F7D97AF3361090511FF38F4588 | AV35: 23
A36: 열감지기 | B36: 열감지기, 차동식스포트형 | C36: 개 | D36: 13 | E36: =TRUNC('단가대비표-EF'!O22,0) -> 0 | F36: =TRUNC(E36*D36, 0) -> 0 | G36: =TRUNC('단가대비표-EF'!P22,0) -> 0 | H36: =TRUNC(G36*D36, 0) -> 0 | I36: =TRUNC('단가대비표-EF'!V22,0) -> 0 | J36: =TRUNC(I36*D36, 0) -> 0 | K36: =TRUNC(E36+G36+I36, 0) -> 0 | L36: =TRUNC(F36+H36+J36, 0) -> 0 | N36: 42424DC3113D46357FC10963221AA290766C4 | Q36: 0102 | R36: F | S36: F | T36: T | AU36: 010242424DC3113D46357FC10963221AA290766C4 | AV36: 24
A37: 열감지기 | B37: 열감지기, 정온식스포트형 | C37: 개 | D37: 1 | E37: =TRUNC('단가대비표-EF'!O23,0) -> 0 | F37: =TRUNC(E37*D37, 0) -> 0 | G37: =TRUNC('단가대비표-EF'!P23,0) -> 0 | H37: =TRUNC(G37*D37, 0) -> 0 | I37: =TRUNC('단가대비표-EF'!V23,0) -> 0 | J37: =TRUNC(I37*D37, 0) -> 0 | K37: =TRUNC(E37+G37+I37, 0) -> 0 | L37: =TRUNC(F37+H37+J37, 0) -> 0 | N37: 42424DC3113D46357FC10963221AA290766C3 | Q37: 0102 | R37: F | S37: F | T37: T | AU37: 010242424DC3113D46357FC10963221AA290766C3 | AV37: 25
A38: 연기감지기 | B38: 연기감지기, 광전식 2종-비축적 | C38: 개 | D38: 2 | E38: =TRUNC('단가대비표-EF'!O24,0) -> 0 | F38: =TRUNC(E38*D38, 0) -> 0 | G38: =TRUNC('단가대비표-EF'!P24,0) -> 0 | H38: =TRUNC(G38*D38, 0) -> 0 | I38: =TRUNC('단가대비표-EF'!V24,0) -> 0 | J38: =TRUNC(I38*D38, 0) -> 0 | K38: =TRUNC(E38+G38+I38, 0) -> 0 | L38: =TRUNC(F38+H38+J38, 0) -> 0 | N38: 42424DC3113D46357FC10963221AA29076523 | Q38: 0102 | R38: F | S38: F | T38: T | AU38: 010242424DC3113D46357FC10963221AA29076523 | AV38: 26
A39: 전자사이렌-스프링클러용 | B39: DC24V | C39: 개 | D39: 1 | E39: =TRUNC('단가대비표-EF'!O20,0) -> 0 | F39: =TRUNC(E39*D39, 0) -> 0 | G39: =TRUNC('단가대비표-EF'!P20,0) -> 0 | H39: =TRUNC(G39*D39, 0) -> 0 | I39: =TRUNC('단가대비표-EF'!V20,0) -> 0 | J39: =TRUNC(I39*D39, 0) -> 0 | K39: =TRUNC(E39+G39+I39, 0) -> 0 | L39: =TRUNC(F39+H39+J39, 0) -> 0 | N39: 42424DC3113DA8BC93A1C34F042957A75767C | Q39: 0102 | R39: F | S39: F | T39: T | AU39: 010242424DC3113DA8BC93A1C34F042957A75767C | AV39: 59
A40: 음성점멸유도등 | B40: 중형(단면), 60분용, 고휘도, LED | C40: 개 | D40: 1 | E40: =TRUNC('단가대비표-EF'!O10,0) -> 0 | F40: =TRUNC(E40*D40, 0) -> 0 | G40: =TRUNC('단가대비표-EF'!P10,0) -> 0 | H40: =TRUNC(G40*D40, 0) -> 0 | I40: =TRUNC('단가대비표-EF'!V10,0) -> 0 | J40: =TRUNC(I40*D40, 0) -> 0 | K40: =TRUNC(E40+G40+I40, 0) -> 0 | L40: =TRUNC(F40+H40+J40, 0) -> 0 | N40: 42304D66113F405DCC9ED30010F00D4DD7FC1 | Q40: 0102 | R40: F | S40: F | T40: T | AU40: 010242304D66113F405DCC9ED30010F00D4DD7FC1 | AV40: 60
A41: 피난구유도등 | B41: 중형(단면), 60분용, 피난구유도등, 고휘도, LED | C41: 개 | D41: 1 | E41: =TRUNC('단가대비표-EF'!O11,0) -> 0 | F41: =TRUNC(E41*D41, 0) -> 0 | G41: =TRUNC('단가대비표-EF'!P11,0) -> 0 | H41: =TRUNC(G41*D41, 0) -> 0 | I41: =TRUNC('단가대비표-EF'!V11,0) -> 0 | J41: =TRUNC(I41*D41, 0) -> 0 | K41: =TRUNC(E41+G41+I41, 0) -> 0 | L41: =TRUNC(F41+H41+J41, 0) -> 0 | N41: 42304D66113F405DCC9ED300065CFE51B25E2 | Q41: 0102 | R41: F | S41: F | T41: T | AU41: 010242304D66113F405DCC9ED300065CFE51B25E2 | AV41: 61
A42: 피난구유도등 | B42: 중형(양면), 60분용, 피난구유도등, 고휘도, LED | C42: 개 | D42: 1 | E42: =TRUNC('단가대비표-EF'!O12,0) -> 0 | F42: =TRUNC(E42*D42, 0) -> 0 | G42: =TRUNC('단가대비표-EF'!P12,0) -> 0 | H42: =TRUNC(G42*D42, 0) -> 0 | I42: =TRUNC('단가대비표-EF'!V12,0) -> 0 | J42: =TRUNC(I42*D42, 0) -> 0 | K42: =TRUNC(E42+G42+I42, 0) -> 0 | L42: =TRUNC(F42+H42+J42, 0) -> 0 | N42: 42304D66113F405DCC9ED300065CFE51B25ED | Q42: 0102 | R42: F | S42: F | T42: T | AU42: 010242304D66113F405DCC9ED300065CFE51B25ED | AV42: 62
A43: 시각경보기 | B43: SIA-15R/W, 동기형 | C43: EA | D43: 1 | E43: =TRUNC('단가대비표-EF'!O28,0) -> 0 | F43: =TRUNC(E43*D43, 0) -> 0 | G43: =TRUNC('단가대비표-EF'!P28,0) -> 0 | H43: =TRUNC(G43*D43, 0) -> 0 | I43: =TRUNC('단가대비표-EF'!V28,0) -> 0 | J43: =TRUNC(I43*D43, 0) -> 0 | K43: =TRUNC(E43+G43+I43, 0) -> 0 | L43: =TRUNC(F43+H43+J43, 0) -> 0 | N43: 426D4B7911346B791271BB26AE9BF1E29CEF5 | Q43: 0102 | R43: F | S43: F | T43: T | AU43: 0102426D4B7911346B791271BB26AE9BF1E29CEF5 | AV43: 63
A44: 감지기-철거 | C44: EA | D44: 11 | E44: =TRUNC('일위대가목록-EF'!E4,0) -> 0 | F44: =TRUNC(E44*D44, 0) -> 0 | G44: =TRUNC('일위대가목록-EF'!F4,0) -> 0 | H44: =TRUNC(G44*D44, 0) -> 0 | I44: =TRUNC('일위대가목록-EF'!G4,0) -> 0 | J44: =TRUNC(I44*D44, 0) -> 0 | K44: =TRUNC(E44+G44+I44, 0) -> 0 | L44: =TRUNC(F44+H44+J44, 0) -> 0 | M44: 호표 1 | N44: 45D340BD1138CF00E921F4924CA93 | Q44: 0102 | R44: T | S44: F | T44: F | AU44: 010245D340BD1138CF00E921F4924CA93 | AV44: 64
A45: 전자싸이렌-철거 | B45: 스프링클러용 | C45: EA | D45: 1 | E45: =TRUNC('일위대가목록-EF'!E5,0) -> 0 | F45: =TRUNC(E45*D45, 0) -> 0 | G45: =TRUNC('일위대가목록-EF'!F5,0) -> 0 | H45: =TRUNC(G45*D45, 0) -> 0 | I45: =TRUNC('일위대가목록-EF'!G5,0) -> 0 | J45: =TRUNC(I45*D45, 0) -> 0 | K45: =TRUNC(E45+G45+I45, 0) -> 0 | L45: =TRUNC(F45+H45+J45, 0) -> 0 | M45: 호표 2 | N45: 459A4AA111362A75DA856B51A5D2F | Q45: 0102 | R45: T | S45: F | T45: F | AU45: 0102459A4AA111362A75DA856B51A5D2F | AV45: 65
A46: 피난구유도등-철거 | B46: 벽부형 | C46: 개 | D46: 5 | E46: =TRUNC('일위대가목록-EF'!E6,0) -> 0 | F46: =TRUNC(E46*D46, 0) -> 0 | G46: =TRUNC('일위대가목록-EF'!F6,0) -> 0 | H46: =TRUNC(G46*D46, 0) -> 0 | I46: =TRUNC('일위대가목록-EF'!G6,0) -> 0 | J46: =TRUNC(I46*D46, 0) -> 0 | K46: =TRUNC(E46+G46+I46, 0) -> 0 | L46: =TRUNC(F46+H46+J46, 0) -> 0 | M46: 호표 3 | N46: 455040DC1132CE9B0393145CC39CA | Q46: 0102 | R46: T | S46: F | T46: F | AU46: 0102455040DC1132CE9B0393145CC39CA | AV46: 66
A47: 내선전공 | B47: 일반공사 직종 | C47: 인 | D47: ='공량산출근거서-EF'!K30 -> 1 | E47: =TRUNC('단가대비표-EF'!O31,0) -> 0 | F47: =TRUNC(E47*D47, 0) -> 0 | G47: =TRUNC('단가대비표-EF'!P31,0) -> 0 | H47: =TRUNC(G47*D47, 0) -> 0 | I47: =TRUNC('단가대비표-EF'!V31,0) -> 0 | J47: =TRUNC(I47*D47, 0) -> 0 | K47: =TRUNC(E47+G47+I47, 0) -> 0 | L47: =TRUNC(F47+H47+J47, 0) -> 0 | N47: 45CA44F11138A931490AC448A0F93A2E47963 | Q47: 0102 | R47: F | S47: F | T47: T | Z47: 3 | AU47: 010245CA44F11138A931490AC448A0F93A2E47963 | AV47: 84
A48: 공구손료 | B48: 인력품의 3% | C48: 식 | D48: 1 | E48: =ROUNDDOWN(SUMIF(Z29:Z48, RIGHTB(N48, 1), H29:H48)*W48, 0) -> 0 | F48: =TRUNC(E48*D48, 0) -> 0 | G48: 0 | H48: =TRUNC(G48*D48, 0) -> 0 | I48: 0 | J48: =TRUNC(I48*D48, 0) -> 0 | K48: =TRUNC(E48+G48+I48, 0) -> 0 | L48: =TRUNC(F48+H48+J48, 0) -> 0 | N48: 4400488D113AA6E85BF1C5C3F66003 | Q48: 0102 | R48: F | S48: F | T48: F | U48: 1 | V48: 0 | W48: 0.03 | AU48: 01024400488D113AA6E85BF1C5C3F67002 | AV48: 103
Q49: 0102
Q50: 0102
A51: [ 합 계 ] | F51: =SUMIF(Q29:Q50,"0102",F29:F50) -> 0 | H51: =SUMIF(Q29:Q50,"0102",H29:H50) -> 0 | J51: =SUMIF(Q29:Q50,"0102",J29:J50) -> 0 | L51: =SUMIF(Q29:Q50,"0102",L29:L50) -> 0 | N51: TOTAL
A52: 0103 지상 5층 후면부 설치공사 | Q52: 0103
A53: 강제전선관 | B53: 강제전선관, 후강전선관, 아연도, 28mm | C53: M | D53: 27 | E53: =TRUNC('단가대비표-EF'!O18,0) -> 0 | F53: =TRUNC(E53*D53, 0) -> 0 | G53: =TRUNC('단가대비표-EF'!P18,0) -> 0 | H53: =TRUNC(G53*D53, 0) -> 0 | I53: =TRUNC('단가대비표-EF'!V18,0) -> 0 | J53: =TRUNC(I53*D53, 0) -> 0 | K53: =TRUNC(E53+G53+I53, 0) -> 0 | L53: =TRUNC(F53+H53+J53, 0) -> 0 | N53: 42304D66113F63005D389F39BD4398BC18F3E | Q53: 0103 | R53: F | S53: F | T53: T | X53: 1 | Y53: 2 | AU53: 010342304D66113F63005D389F39BD4398BC18F3E | AV53: 38
A54: 강제전선관 | B54: 강제전선관, 후강전선관, 아연도, 22mm | C54: M | D54: 27 | E54: =TRUNC('단가대비표-EF'!O17,0) -> 0 | F54: =TRUNC(E54*D54, 0) -> 0 | G54: =TRUNC('단가대비표-EF'!P17,0) -> 0 | H54: =TRUNC(G54*D54, 0) -> 0 | I54: =TRUNC('단가대비표-EF'!V17,0) -> 0 | J54: =TRUNC(I54*D54, 0) -> 0 | K54: =TRUNC(E54+G54+I54, 0) -> 0 | L54: =TRUNC(F54+H54+J54, 0) -> 0 | N54: 42304D66113F63005D389F39BD4398BC18F39 | Q54: 0103 | R54: F | S54: F | T54: T | X54: 1 | Y54: 2 | AU54: 010342304D66113F63005D389F39BD4398BC18F39 | AV54: 39
A55: 1종금속제가요전선관 | B55: 1종금속제가요전선관, 16mm, 비방수 | C55: M | D55: 188 | E55: =TRUNC('단가대비표-EF'!O19,0) -> 0 | F55: =TRUNC(E55*D55, 0) -> 0 | G55: =TRUNC('단가대비표-EF'!P19,0) -> 0 | H55: =TRUNC(G55*D55, 0) -> 0 | I55: =TRUNC('단가대비표-EF'!V19,0) -> 0 | J55: =TRUNC(I55*D55, 0) -> 0 | K55: =TRUNC(E55+G55+I55, 0) -> 0 | L55: =TRUNC(F55+H55+J55, 0) -> 0 | N55: 42304D66113F63005D389F0C774D33D7821F9 | Q55: 0103 | R55: F | S55: F | T55: T | X55: 1 | Y55: 2 | AU55: 010342304D66113F63005D389F0C774D33D7821F9 | AV55: 40
A56: 전선관부속품비 | B56: 전선관의 15% | C56: 식 | D56: 1 | E56: =ROUNDDOWN(SUMIF(X53:X87, RIGHTB(N56, 1), F53:F87)*W56, 0) -> 0 | F56: =TRUNC(E56*D56, 0) -> 0 | G56: 0 | H56: =TRUNC(G56*D56, 0) -> 0 | I56: 0 | J56: =TRUNC(I56*D56, 0) -> 0 | K56: =TRUNC(E56+G56+I56, 0) -> 0 | L56: =TRUNC(F56+H56+J56, 0) -> 0 | N56: 4400488D113AA6E85BF1C5C3F64001 | Q56: 0103 | R56: F | S56: F | T56: F | U56: 0 | V56: 0 | W56: 0.15 | AU56: 01034400488D113AA6E85BF1C5C3F66003 | AV56: 107
A57: 제어케이블 | B57: 제어케이블, 0.6/1kv, TFR-CVV-SB, 2C*1.5㎟ | C57: M | D57: 26 | E57: =TRUNC('단가대비표-EF'!O5,0) -> 0 | F57: =TRUNC(E57*D57, 0) -> 0 | G57: =TRUNC('단가대비표-EF'!P5,0) -> 0 | H57: =TRUNC(G57*D57, 0) -> 0 | I57: =TRUNC('단가대비표-EF'!V5,0) -> 0 | J57: =TRUNC(I57*D57, 0) -> 0 | K57: =TRUNC(E57+G57+I57, 0) -> 0 | L57: =TRUNC(F57+H57+J57, 0) -> 0 | N57: 42274B8A113F5B2CC9FDC84D5C5A537F21FD0 | Q57: 0103 | R57: F | S57: F | T57: T | Y57: 2 | AU57: 010342274B8A113F5B2CC9FDC84D5C5A537F21FD0 | AV57: 96
A58: 저독성난연케이블 | B58: HFIX, 1.78㎜ | C58: M | D58: 452 | E58: =TRUNC('단가대비표-EF'!O7,0) -> 0 | F58: =TRUNC(E58*D58, 0) -> 0 | G58: =TRUNC('단가대비표-EF'!P7,0) -> 0 | H58: =TRUNC(G58*D58, 0) -> 0 | I58: =TRUNC('단가대비표-EF'!V7,0) -> 0 | J58: =TRUNC(I58*D58, 0) -> 0 | K58: =TRUNC(E58+G58+I58, 0) -> 0 | L58: =TRUNC(F58+H58+J58, 0) -> 0 | N58: 42274B8A113F5B2CC9D18B52EEC2E5B5EE3A1 | Q58: 0103 | R58: F | S58: F | T58: T | Y58: 2 | AU58: 010342274B8A113F5B2CC9D18B52EEC2E5B5EE3A1 | AV58: 42
A59: 저독성난연케이블 | B59: HFIX, 1.38㎜ | C59: M | D59: 346 | E59: =TRUNC('단가대비표-EF'!O6,0) -> 0 | F59: =TRUNC(E59*D59, 0) -> 0 | G59: =TRUNC('단가대비표-EF'!P6,0) -> 0 | H59: =TRUNC(G59*D59, 0) -> 0 | I59: =TRUNC('단가대비표-EF'!V6,0) -> 0 | J59: =TRUNC(I59*D59, 0) -> 0 | K59: =TRUNC(E59+G59+I59, 0) -> 0 | L59: =TRUNC(F59+H59+J59, 0) -> 0 | N59: 42274B8A113F5B2CC9D18B52EEC2E5B5EE3A0 | Q59: 0103 | R59: F | S59: F | T59: T | Y59: 2 | AU59: 010342274B8A113F5B2CC9D18B52EEC2E5B5EE3A0 | AV59: 43
A60: 잡재료비 | B60: 배관배선의 2% | C60: 식 | D60: 1 | E60: =ROUNDDOWN(SUMIF(Y53:Y87, RIGHTB(N60, 1), F53:F87)*W60, 0) -> 0 | F60: =TRUNC(E60*D60, 0) -> 0 | G60: 0 | H60: =TRUNC(G60*D60, 0) -> 0 | I60: 0 | J60: =TRUNC(I60*D60, 0) -> 0 | K60: =TRUNC(E60+G60+I60, 0) -> 0 | L60: =TRUNC(F60+H60+J60, 0) -> 0 | N60: 4400488D113AA6E85BF1C5C3F67002 | Q60: 0103 | R60: F | S60: F | T60: F | U60: 0 | V60: 0 | W60: 0.02 | AU60: 01034400488D113AA6E85BF1C5C3F64001 | AV60: 105
A61: 아웃렛박스 | B61: 아웃렛박스, 8각, 54mm | C61: 개 | D61: 20 | E61: =TRUNC('단가대비표-EF'!O14,0) -> 0 | F61: =TRUNC(E61*D61, 0) -> 0 | G61: =TRUNC('단가대비표-EF'!P14,0) -> 0 | H61: =TRUNC(G61*D61, 0) -> 0 | I61: =TRUNC('단가대비표-EF'!V14,0) -> 0 | J61: =TRUNC(I61*D61, 0) -> 0 | K61: =TRUNC(E61+G61+I61, 0) -> 0 | L61: =TRUNC(F61+H61+J61, 0) -> 0 | N61: 42304D66113F7D97AF3361364CF6A84B06EDF | Q61: 0103 | R61: F | S61: F | T61: T | AU61: 010342304D66113F7D97AF3361364CF6A84B06EDF | AV61: 44
A62: 아웃렛박스 | B62: 아웃렛박스, 커버, 8각, 평형 | C62: 개 | D62: 20 | E62: =TRUNC('단가대비표-EF'!O15,0) -> 0 | F62: =TRUNC(E62*D62, 0) -> 0 | G62: =TRUNC('단가대비표-EF'!P15,0) -> 0 | H62: =TRUNC(G62*D62, 0) -> 0 | I62: =TRUNC('단가대비표-EF'!V15,0) -> 0 | J62: =TRUNC(I62*D62, 0) -> 0 | K62: =TRUNC(E62+G62+I62, 0) -> 0 | L62: =TRUNC(F62+H62+J62, 0) -> 0 | N62: 42304D66113F7D97AF3361090511FF38F4588 | Q62: 0103 | R62: F | S62: F | T62: T | AU62: 010342304D66113F7D97AF3361090511FF38F4588 | AV62: 45
A63: 발신기세트 | B63: 옥내소화전내장형 | C63: 개 | D63: 1 | E63: =TRUNC('일위대가목록-EF'!E7,0) -> 0 | F63: =TRUNC(E63*D63, 0) -> 0 | G63: =TRUNC('일위대가목록-EF'!F7,0) -> 0 | H63: =TRUNC(G63*D63, 0) -> 0 | I63: =TRUNC('일위대가목록-EF'!G7,0) -> 0 | J63: =TRUNC(I63*D63, 0) -> 0 | K63: =TRUNC(E63+G63+I63, 0) -> 0 | L63: =TRUNC(F63+H63+J63, 0) -> 0 | M63: 호표 4 | N63: 455040DC1132CE9B0393373C85D9F | Q63: 0103 | R63: T | S63: F | T63: F | AU63: 0103455040DC1132CE9B0393373C85D9F | AV63: 46
A64: 화재수신기 | B64: 화재수신기, 중계기, 2/2 감시/제어 | C64: 대 | D64: 1 | E64: =TRUNC('단가대비표-EF'!O21,0) -> 0 | F64: =TRUNC(E64*D64, 0) -> 0 | G64: =TRUNC('단가대비표-EF'!P21,0) -> 0 | H64: =TRUNC(G64*D64, 0) -> 0 | I64: =TRUNC('단가대비표-EF'!V21,0) -> 0 | J64: =TRUNC(I64*D64, 0) -> 0 | K64: =TRUNC(E64+G64+I64, 0) -> 0 | L64: =TRUNC(F64+H64+J64, 0) -> 0 | N64: 42424DC3113DA8BC933E21E0EDCA3922064A9 | Q64: 0103 | R64: F | S64: F | T64: T | AU64: 010342424DC3113DA8BC933E21E0EDCA3922064A9 | AV64: 47
A65: R형수신반 프로그램수정 | B65: 프로그램수정 | C65: 식 | D65: 1 | E65: =TRUNC('단가대비표-EF'!O29,0) -> 0 | F65: =TRUNC(E65*D65, 0) -> 0 | G65: =TRUNC('단가대비표-EF'!P29,0) -> 0 | H65: =TRUNC(G65*D65, 0) -> 0 | I65: =TRUNC('단가대비표-EF'!V29,0) -> 0 | J65: =TRUNC(I65*D65, 0) -> 0 | K65: =TRUNC(E65+G65+I65, 0) -> 0 | L65: =TRUNC(F65+H65+J65, 0) -> 0 | N65: 45574522113621DAF222801342E4A | Q65: 0103 | R65: F | S65: F | T65: T | AU65: 010345574522113621DAF222801342E4A | AV65: 48
A66: 열감지기 | B66: 열감지기, 차동식스포트형 | C66: 개 | D66: 8 | E66: =TRUNC('단가대비표-EF'!O22,0) -> 0 | F66: =TRUNC(E66*D66, 0) -> 0 | G66: =TRUNC('단가대비표-EF'!P22,0) -> 0 | H66: =TRUNC(G66*D66, 0) -> 0 | I66: =TRUNC('단가대비표-EF'!V22,0) -> 0 | J66: =TRUNC(I66*D66, 0) -> 0 | K66: =TRUNC(E66+G66+I66, 0) -> 0 | L66: =TRUNC(F66+H66+J66, 0) -> 0 | N66: 42424DC3113D46357FC10963221AA290766C4 | Q66: 0103 | R66: F | S66: F | T66: T | AU66: 010342424DC3113D46357FC10963221AA290766C4 | AV66: 49
A67: 열감지기 | B67: 열감지기, 정온식스포트형 | C67: 개 | D67: 1 | E67: =TRUNC('단가대비표-EF'!O23,0) -> 0 | F67: =TRUNC(E67*D67, 0) -> 0 | G67: =TRUNC('단가대비표-EF'!P23,0) -> 0 | H67: =TRUNC(G67*D67, 0) -> 0 | I67: =TRUNC('단가대비표-EF'!V23,0) -> 0 | J67: =TRUNC(I67*D67, 0) -> 0 | K67: =TRUNC(E67+G67+I67, 0) -> 0 | L67: =TRUNC(F67+H67+J67, 0) -> 0 | N67: 42424DC3113D46357FC10963221AA290766C3 | Q67: 0103 | R67: F | S67: F | T67: T | AU67: 010342424DC3113D46357FC10963221AA290766C3 | AV67: 50
A68: 전자사이렌-스프링클러용 | B68: DC24V | C68: 개 | D68: 1 | E68: =TRUNC('단가대비표-EF'!O20,0) -> 0 | F68: =TRUNC(E68*D68, 0) -> 0 | G68: =TRUNC('단가대비표-EF'!P20,0) -> 0 | H68: =TRUNC(G68*D68, 0) -> 0 | I68: =TRUNC('단가대비표-EF'!V20,0) -> 0 | J68: =TRUNC(I68*D68, 0) -> 0 | K68: =TRUNC(E68+G68+I68, 0) -> 0 | L68: =TRUNC(F68+H68+J68, 0) -> 0 | N68: 42424DC3113DA8BC93A1C34F042957A75767C | Q68: 0103 | R68: F | S68: F | T68: T | AU68: 010342424DC3113DA8BC93A1C34F042957A75767C | AV68: 67
A69: 연기감지기 | B69: 연기감지기, 광전식 2종-비축적 | C69: 개 | D69: 2 | E69: =TRUNC('단가대비표-EF'!O24,0) -> 0 | F69: =TRUNC(E69*D69, 0) -> 0 | G69: =TRUNC('단가대비표-EF'!P24,0) -> 0 | H69: =TRUNC(G69*D69, 0) -> 0 | I69: =TRUNC('단가대비표-EF'!V24,0) -> 0 | J69: =TRUNC(I69*D69, 0) -> 0 | K69: =TRUNC(E69+G69+I69, 0) -> 0 | L69: =TRUNC(F69+H69+J69, 0) -> 0 | N69: 42424DC3113D46357FC10963221AA29076523 | Q69: 0103 | R69: F | S69: F | T69: T | AU69: 010342424DC3113D46357FC10963221AA29076523 | AV69: 51
A70: 음성점멸유도등 | B70: 중형(단면), 60분용, 고휘도, LED | C70: 개 | D70: 1 | E70: =TRUNC('단가대비표-EF'!O10,0) -> 0 | F70: =TRUNC(E70*D70, 0) -> 0 | G70: =TRUNC('단가대비표-EF'!P10,0) -> 0 | H70: =TRUNC(G70*D70, 0) -> 0 | I70: =TRUNC('단가대비표-EF'!V10,0) -> 0 | J70: =TRUNC(I70*D70, 0) -> 0 | K70: =TRUNC(E70+G70+I70, 0) -> 0 | L70: =TRUNC(F70+H70+J70, 0) -> 0 | N70: 42304D66113F405DCC9ED30010F00D4DD7FC1 | Q70: 0103 | R70: F | S70: F | T70: T | AU70: 010342304D66113F405DCC9ED30010F00D4DD7FC1 | AV70: 68
A71: 피난구유도등 | B71: 중형(단면), 60분용, 피난구유도등, 고휘도, LED | C71: 개 | D71: 3 | E71: =TRUNC('단가대비표-EF'!O11,0) -> 0 | F71: =TRUNC(E71*D71, 0) -> 0 | G71: =TRUNC('단가대비표-EF'!P11,0) -> 0 | H71: =TRUNC(G71*D71, 0) -> 0 | I71: =TRUNC('단가대비표-EF'!V11,0) -> 0 | J71: =TRUNC(I71*D71, 0) -> 0 | K71: =TRUNC(E71+G71+I71, 0) -> 0 | L71: =TRUNC(F71+H71+J71, 0) -> 0 | N71: 42304D66113F405DCC9ED300065CFE51B25E2 | Q71: 0103 | R71: F | S71: F | T71: T | AU71: 010342304D66113F405DCC9ED300065CFE51B25E2 | AV71: 69
A72: 피난구유도등 | B72: 중형(양면), 60분용, 피난구유도등, 고휘도, LED | C72: 개 | D72: 1 | E72: =TRUNC('단가대비표-EF'!O12,0) -> 0 | F72: =TRUNC(E72*D72, 0) -> 0 | G72: =TRUNC('단가대비표-EF'!P12,0) -> 0 | H72: =TRUNC(G72*D72, 0) -> 0 | I72: =TRUNC('단가대비표-EF'!V12,0) -> 0 | J72: =TRUNC(I72*D72, 0) -> 0 | K72: =TRUNC(E72+G72+I72, 0) -> 0 | L72: =TRUNC(F72+H72+J72, 0) -> 0 | N72: 42304D66113F405DCC9ED300065CFE51B25ED | Q72: 0103 | R72: F | S72: F | T72: T | AU72: 010342304D66113F405DCC9ED300065CFE51B25ED | AV72: 70
A73: 통로유도등 | B73: 복도통로유도등, 고휘도 | C73: 개 | D73: 1 | E73: =TRUNC('단가대비표-EF'!O9,0) -> 0 | F73: =TRUNC(E73*D73, 0) -> 0 | G73: =TRUNC('단가대비표-EF'!P9,0) -> 0 | H73: =TRUNC(G73*D73, 0) -> 0 | I73: =TRUNC('단가대비표-EF'!V9,0) -> 0 | J73: =TRUNC(I73*D73, 0) -> 0 | K73: =TRUNC(E73+G73+I73, 0) -> 0 | L73: =TRUNC(F73+H73+J73, 0) -> 0 | N73: 42304D66113F405DCC9ED30010F00D4DD7FC3 | Q73: 0103 | R73: F | S73: F | T73: T | AU73: 010342304D66113F405DCC9ED30010F00D4DD7FC3 | AV73: 71
A74: 비상조명등 | B74: 소방검정품, 배광번호 33 이상제품 | C74: 개 | D74: 1 | E74: =TRUNC('단가대비표-EF'!O8,0) -> 0 | F74: =TRUNC(E74*D74, 0) -> 0 | G74: =TRUNC('단가대비표-EF'!P8,0) -> 0 | H74: =TRUNC(G74*D74, 0) -> 0 | I74: =TRUNC('단가대비표-EF'!V8,0) -> 0 | J74: =TRUNC(I74*D74, 0) -> 0 | K74: =TRUNC(E74+G74+I74, 0) -> 0 | L74: =TRUNC(F74+H74+J74, 0) -> 0 | N74: 42304D66113F405DEF7E9507D51CA947D240F | Q74: 0103 | R74: F | S74: F | T74: T | AU74: 010342304D66113F405DEF7E9507D51CA947D240F | AV74: 72
A75: 축광식유도표지판 | B75: 완강기용 | C75: EA | D75: 2 | E75: =TRUNC('단가대비표-EF'!O30,0) -> 0 | F75: =TRUNC(E75*D75, 0) -> 0 | G75: =TRUNC('단가대비표-EF'!P30,0) -> 0 | H75: =TRUNC(G75*D75, 0) -> 0 | I75: =TRUNC('단가대비표-EF'!V30,0) -> 0 | J75: =TRUNC(I75*D75, 0) -> 0 | K75: =TRUNC(E75+G75+I75, 0) -> 0 | L75: =TRUNC(F75+H75+J75, 0) -> 0 | N75: 45574522113621DAF222801342E46 | Q75: 0103 | R75: F | S75: F | T75: T | AU75: 010345574522113621DAF222801342E46 | AV75: 73
A76: 시각경보기 | B76: SIA-15R/W, 동기형 | C76: EA | D76: 1 | E76: =TRUNC('단가대비표-EF'!O28,0) -> 0 | F76: =TRUNC(E76*D76, 0) -> 0 | G76: =TRUNC('단가대비표-EF'!P28,0) -> 0 | H76: =TRUNC(G76*D76, 0) -> 0 | I76: =TRUNC('단가대비표-EF'!V28,0) -> 0 | J76: =TRUNC(I76*D76, 0) -> 0 | K76: =TRUNC(E76+G76+I76, 0) -> 0 | L76: =TRUNC(F76+H76+J76, 0) -> 0 | N76: 426D4B7911346B791271BB26AE9BF1E29CEF5 | Q76: 0103 | R76: F | S76: F | T76: T | AU76: 0103426D4B7911346B791271BB26AE9BF1E29CEF5 | AV76: 74
A77: 시각경보기전원반 | B77: 시각경보기전원반, 15A | C77: 개 | D77: 1 | E77: =TRUNC('단가대비표-EF'!O13,0) -> 0 | F77: =TRUNC(E77*D77, 0) -> 0 | G77: =TRUNC('단가대비표-EF'!P13,0) -> 0 | H77: =TRUNC(G77*D77, 0) -> 0 | I77: =TRUNC('단가대비표-EF'!V13,0) -> 0 | J77: =TRUNC(I77*D77, 0) -> 0 | K77: =TRUNC(E77+G77+I77, 0) -> 0 | L77: =TRUNC(F77+H77+J77, 0) -> 0 | N77: 42304D66113F7D978C6CB048AD834355652C0 | Q77: 0103 | R77: F | S77: F | T77: T | AU77: 010342304D66113F7D978C6CB048AD834355652C0 | AV77: 75
A78: 감지기-철거 | C78: EA | D78: 12 | E78: =TRUNC('일위대가목록-EF'!E4,0) -> 0 | F78: =TRUNC(E78*D78, 0) -> 0 | G78: =TRUNC('일위대가목록-EF'!F4,0) -> 0 | H78: =TRUNC(G78*D78, 0) -> 0 | I78: =TRUNC('일위대가목록-EF'!G4,0) -> 0 | J78: =TRUNC(I78*D78, 0) -> 0 | K78: =TRUNC(E78+G78+I78, 0) -> 0 | L78: =TRUNC(F78+H78+J78, 0) -> 0 | M78: 호표 1 | N78: 45D340BD1138CF00E921F4924CA93 | Q78: 0103 | R78: T | S78: F | T78: F | AU78: 010345D340BD1138CF00E921F4924CA93 | AV78: 76
A79: 전자싸이렌-철거 | B79: 가스소화설비용 | C79: EA | D79: 1 | E79: =TRUNC('일위대가목록-EF'!E8,0) -> 0 | F79: =TRUNC(E79*D79, 0) -> 0 | G79: =TRUNC('일위대가목록-EF'!F8,0) -> 0 | H79: =TRUNC(G79*D79, 0) -> 0 | I79: =TRUNC('일위대가목록-EF'!G8,0) -> 0 | J79: =TRUNC(I79*D79, 0) -> 0 | K79: =TRUNC(E79+G79+I79, 0) -> 0 | L79: =TRUNC(F79+H79+J79, 0) -> 0 | M79: 호표 5 | N79: 459A4AA111362A75DA856B51A5D21 | Q79: 0103 | R79: T | S79: F | T79: F | AU79: 0103459A4AA111362A75DA856B51A5D21 | AV79: 77
A80: 피난구유도등-철거 | B80: 벽부형 | C80: 개 | D80: 2 | E80: =TRUNC('일위대가목록-EF'!E6,0) -> 0 | F80: =TRUNC(E80*D80, 0) -> 0 | G80: =TRUNC('일위대가목록-EF'!F6,0) -> 0 | H80: =TRUNC(G80*D80, 0) -> 0 | I80: =TRUNC('일위대가목록-EF'!G6,0) -> 0 | J80: =TRUNC(I80*D80, 0) -> 0 | K80: =TRUNC(E80+G80+I80, 0) -> 0 | L80: =TRUNC(F80+H80+J80, 0) -> 0 | M80: 호표 3 | N80: 455040DC1132CE9B0393145CC39CA | Q80: 0103 | R80: T | S80: F | T80: F | AU80: 0103455040DC1132CE9B0393145CC39CA | AV80: 78
A81: 방출표시등-철거 | B81: 가스소화설비용 | C81: EA | D81: 1 | E81: =TRUNC('일위대가목록-EF'!E9,0) -> 0 | F81: =TRUNC(E81*D81, 0) -> 0 | G81: =TRUNC('일위대가목록-EF'!F9,0) -> 0 | H81: =TRUNC(G81*D81, 0) -> 0 | I81: =TRUNC('일위대가목록-EF'!G9,0) -> 0 | J81: =TRUNC(I81*D81, 0) -> 0 | K81: =TRUNC(E81+G81+I81, 0) -> 0 | L81: =TRUNC(F81+H81+J81, 0) -> 0 | M81: 호표 6 | N81: 459A4AA111362A75DA856B51A5D2E | Q81: 0103 | R81: T | S81: F | T81: F | AU81: 0103459A4AA111362A75DA856B51A5D2E | AV81: 79
A82: 수동조작함-철거 | B82: 가스소화설비용 | C82: EA | D82: 1 | E82: =TRUNC('일위대가목록-EF'!E10,0) -> 0 | F82: =TRUNC(E82*D82, 0) -> 0 | G82: =TRUNC('일위대가목록-EF'!F10,0) -> 0 | H82: =TRUNC(G82*D82, 0) -> 0 | I82: =TRUNC('일위대가목록-EF'!G10,0) -> 0 | J82: =TRUNC(I82*D82, 0) -> 0 | K82: =TRUNC(E82+G82+I82, 0) -> 0 | L82: =TRUNC(F82+H82+J82, 0) -> 0 | M82: 호표 7 | N82: 459A4AA111362A75DA856B51A5D2C | Q82: 0103 | R82: T | S82: F | T82: F | AU82: 0103459A4AA111362A75DA856B51A5D2C | AV82: 80
A83: 발신기세트 - 철거 | B83: 단독형 | C83: 개 | D83: 1 | E83: =TRUNC('일위대가목록-EF'!E11,0) -> 0 | F83: =TRUNC(E83*D83, 0) -> 0 | G83: =TRUNC('일위대가목록-EF'!F11,0) -> 0 | H83: =TRUNC(G83*D83, 0) -> 0 | I83: =TRUNC('일위대가목록-EF'!G11,0) -> 0 | J83: =TRUNC(I83*D83, 0) -> 0 | K83: =TRUNC(E83+G83+I83, 0) -> 0 | L83: =TRUNC(F83+H83+J83, 0) -> 0 | M83: 호표 8 | N83: 455040DC1132CE9B0393373C85D96 | Q83: 0103 | R83: T | S83: F | T83: F | AU83: 0103455040DC1132CE9B0393373C85D96 | AV83: 81
A84: 중계기-철거 | C84: EA | D84: 1 | E84: =TRUNC('일위대가목록-EF'!E12,0) -> 0 | F84: =TRUNC(E84*D84, 0) -> 0 | G84: =TRUNC('일위대가목록-EF'!F12,0) -> 0 | H84: =TRUNC(G84*D84, 0) -> 0 | I84: =TRUNC('일위대가목록-EF'!G12,0) -> 0 | J84: =TRUNC(I84*D84, 0) -> 0 | K84: =TRUNC(E84+G84+I84, 0) -> 0 | L84: =TRUNC(F84+H84+J84, 0) -> 0 | M84: 호표 9 | N84: 45D340BD1138CF00E921F4924CA90 | Q84: 0103 | R84: T | S84: F | T84: F | AU84: 010345D340BD1138CF00E921F4924CA90 | AV84: 82
A85: 내선전공 | B85: 일반공사 직종 | C85: 인 | D85: ='공량산출근거서-EF'!K50 -> 1 | E85: =TRUNC('단가대비표-EF'!O31,0) -> 0 | F85: =TRUNC(E85*D85, 0) -> 0 | G85: =TRUNC('단가대비표-EF'!P31,0) -> 0 | H85: =TRUNC(G85*D85, 0) -> 0 | I85: =TRUNC('단가대비표-EF'!V31,0) -> 0 | J85: =TRUNC(I85*D85, 0) -> 0 | K85: =TRUNC(E85+G85+I85, 0) -> 0 | L85: =TRUNC(F85+H85+J85, 0) -> 0 | N85: 45CA44F11138A931490AC448A0F93A2E47963 | Q85: 0103 | R85: F | S85: F | T85: T | Z85: 3 | AU85: 010345CA44F11138A931490AC448A0F93A2E47963 | AV85: 97
A86: 저압케이블전공 | B86: 일반공사 직종 | C86: 인 | D86: ='공량산출근거서-EF'!K51 -> 1 | E86: =TRUNC('단가대비표-EF'!O32,0) -> 0 | F86: =TRUNC(E86*D86, 0) -> 0 | G86: =TRUNC('단가대비표-EF'!P32,0) -> 0 | H86: =TRUNC(G86*D86, 0) -> 0 | I86: =TRUNC('단가대비표-EF'!V32,0) -> 0 | J86: =TRUNC(I86*D86, 0) -> 0 | K86: =TRUNC(E86+G86+I86, 0) -> 0 | L86: =TRUNC(F86+H86+J86, 0) -> 0 | N86: 45CA44F11138A931490AC448A0F93A2E4796E | Q86: 0103 | R86: F | S86: F | T86: T | Z86: 3 | AU86: 010345CA44F11138A931490AC448A0F93A2E4796E | AV86: 98
A87: 공구손료 | B87: 인력품의 3% | C87: 식 | D87: 1 | E87: =ROUNDDOWN(SUMIF(Z53:Z87, RIGHTB(N87, 1), H53:H87)*W87, 0) -> 0 | F87: =TRUNC(E87*D87, 0) -> 0 | G87: 0 | H87: =TRUNC(G87*D87, 0) -> 0 | I87: 0 | J87: =TRUNC(I87*D87, 0) -> 0 | K87: =TRUNC(E87+G87+I87, 0) -> 0 | L87: =TRUNC(F87+H87+J87, 0) -> 0 | N87: 4400488D113AA6E85BF1C5C3F66003 | Q87: 0103 | R87: F | S87: F | T87: F | U87: 1 | V87: 0 | W87: 0.03 | AU87: 01034400488D113AA6E85BF1C5C3F67002 | AV87: 106
Q88: 0103
Q89: 0103
Q90: 0103
Q91: 0103
Q92: 0103
Q93: 0103
Q94: 0103
Q95: 0103
Q96: 0103
Q97: 0103
Q98: 0103
A99: [ 합 계 ] | F99: =SUMIF(Q53:Q98,"0103",F53:F98) -> 0 | H99: =SUMIF(Q53:Q98,"0103",H53:H98) -> 0 | J99: =SUMIF(Q53:Q98,"0103",J53:J98) -> 0 | L99: =SUMIF(Q53:Q98,"0103",L53:L98) -> 0 | N99: TOTAL

Sheet 공량산출근거서-EF
A1: 공 량 산 출 근 거 서
A2: [ 전남광주통합특별시의회 광주청사 환경개선공사(소방전기) ]
A3: 코 드 | B3: 품 명 | C3: 규 격 | D3: 단위 | E3: 품 셈 목 록 | F3: 수 량 | G3: 할증 | H3: 노임할증-1 | I3: 노임할증-2 | J3: 노임할증-3 | K3: 내역수량 | L3: 직 종 명 | M3: 공 량 | N3: 계 | O3: 번 호 | P3: 비 고 | T3: 공종+자재 | V3: 내선전공 | W3: 저압케이블전공
B4: 01 지하 1층 설치공사
A5: 42304D66113F63005D389F0C774D33D7821F9 | B5: 1종금속제가요전선관 | C5: 1종금속제가요전선관, 16mm, 비방수 | D5: M | E5: 전기품셈 5-1 | F5: 92 | G5: 10 | K5: 101 | L5: 내선전공 | M5: =0.044*(H5+100)/100*(I5+100)/100*(J5+100)/100 -> 0.044 | O5: 노임 1 | P5: 0.044*1 | Q5: 0101 | R5: 45CA44F11138A931490AC448A0F93A2E47963 | S5: 0.044 | T5: 010142304D66113F63005D389F0C774D33D7821F9 | V5: =N5 -> 0
A6: 42274B8A113F5B2CC9D18B52EEC2E5B5EE3A1 | B6: 저독성난연케이블 | C6: HFIX, 1.78㎜ | D6: M | E6: 전기품셈 5-10 | F6: 74 | G6: 10 | K6: 81 | L6: 내선전공 | M6: =0.01*(H6+100)/100*(I6+100)/100*(J6+100)/100 -> 0.01 | O6: 노임 1 | P6: 0.01*1 | Q6: 0101 | R6: 45CA44F11138A931490AC448A0F93A2E47963 | S6: 0.01 | T6: 010142274B8A113F5B2CC9D18B52EEC2E5B5EE3A1 | V6: =N6 -> 0
A7: 42274B8A113F5B2CC9D18B52EEC2E5B5EE3A0 | B7: 저독성난연케이블 | C7: HFIX, 1.38㎜ | D7: M | E7: 전기품셈 5-10 | F7: 268 | G7: 10 | K7: 294 | L7: 내선전공 | M7: =0.01*(H7+100)/100*(I7+100)/100*(J7+100)/100 -> 0.01 | O7: 노임 1 | P7: 0.01*1 | Q7: 0101 | R7: 45CA44F11138A931490AC448A0F93A2E47963 | S7: 0.01 | T7: 010142274B8A113F5B2CC9D18B52EEC2E5B5EE3A0 | V7: =N7 -> 0
A8: 42304D66113F7D97AF3361364CF6A84B06EDF | B8: 아웃렛박스 | C8: 아웃렛박스, 8각, 54mm | D8: 개 | E8: 전기품셈 5-3 | F8: 16 | G8: 0 | K8: 16 | L8: 내선전공 | M8: =0.2*(H8+100)/100*(I8+100)/100*(J8+100)/100 -> 0.2 | O8: 노임 1 | P8: 0.2*1 | Q8: 0101 | R8: 45CA44F11138A931490AC448A0F93A2E47963 | S8: 0.2 | T8: 010142304D66113F7D97AF3361364CF6A84B06EDF | V8: =N8 -> 0
A9: 42424DC3113D46357FC10963221AA290766C4 | B9: 열감지기 | C9: 열감지기, 차동식스포트형 | D9: 개 | E9: 전기품셈 10-2-1 | F9: 7 | G9: 0 | K9: 7 | L9: 내선전공 | M9: =0.13*(H9+100)/100*(I9+100)/100*(J9+100)/100 -> 0.13 | O9: 노임 1 | P9: 0.13*1 | Q9: 0101 | R9: 45CA44F11138A931490AC448A0F93A2E47963 | S9: 0.13 | T9: 010142424DC3113D46357FC10963221AA290766C4 | V9: =N9 -> 0
A10: 42424DC3113D46357FC10963221AA290766C3 | B10: 열감지기 | C10: 열감지기, 정온식스포트형 | D10: 개 | E10: 전기품셈 10-2-1 | F10: 1 | G10: 0 | K10: 1 | L10: 내선전공 | M10: =0.13*(H10+100)/100*(I10+100)/100*(J10+100)/100 -> 0.13 | O10: 노임 1 | P10: 0.13*1 | Q10: 0101 | R10: 45CA44F11138A931490AC448A0F93A2E47963 | S10: 0.13 | T10: 010142424DC3113D46357FC10963221AA290766C3 | V10: =N10 -> 0
A11: 42424DC3113D46357FC10963221AA29076523 | B11: 연기감지기 | C11: 연기감지기, 광전식 2종-비축적 | D11: 개 | E11: 전기품셈 10-2-1 | F11: 2 | G11: 0 | K11: 2 | L11: 내선전공 | M11: =0.13*(H11+100)/100*(I11+100)/100*(J11+100)/100 -> 0.13 | O11: 노임 1 | P11: 0.13*1 | Q11: 0101 | R11: 45CA44F11138A931490AC448A0F93A2E47963 | S11: 0.13 | T11: 010142424DC3113D46357FC10963221AA29076523 | V11: =N11 -> 0
A12: 42424DC3113DA8BC93A1C34F042957A75767C | B12: 전자사이렌-스프링클러용 | C12: DC24V | D12: 개 | E12: 소방 6-3-1 | F12: 1 | G12: 0 | K12: 1 | L12: 내선전공 | M12: =0.21*(H12+100)/100*(I12+100)/100*(J12+100)/100 -> 0.21 | O12: 노임 1 | P12: 0.21*1 | Q12: 0101 | R12: 45CA44F11138A931490AC448A0F93A2E47963 | S12: 0.21 | T12: 010142424DC3113DA8BC93A1C34F042957A75767C | V12: =N12 -> 0
A13: 42304D66113F405DCC9ED300065CFE51B25E2 | B13: 피난구유도등 | C13: 중형(단면), 60분용, 피난구유도등, 고휘도, LED | D13: 개 | E13: 소방 9-2-2 | F13: 3 | G13: 0 | K13: 3 | L13: 내선전공 | M13: =0.129*(H13+100)/100*(I13+100)/100*(J13+100)/100 -> 0.129 | O13: 노임 1 | P13: 0.129*1 | Q13: 0101 | R13: 45CA44F11138A931490AC448A0F93A2E47963 | S13: 0.129 | T13: 010142304D66113F405DCC9ED300065CFE51B25E2 | V13: =N13 -> 0
A14: 42304D66113F405DCC9ED300065CFE51B25ED | B14: 피난구유도등 | C14: 중형(양면), 60분용, 피난구유도등, 고휘도, LED | D14: 개 | E14: 소방 9-2-2 | F14: 1 | G14: 0 | K14: 1 | L14: 내선전공 | M14: =0.139*(H14+100)/100*(I14+100)/100*(J14+100)/100 -> 0.139 | O14: 노임 1 | P14: 0.139*1 | Q14: 0101 | R14: 45CA44F11138A931490AC448A0F93A2E47963 | S14: 0.139 | T14: 010142304D66113F405DCC9ED300065CFE51B25ED | V14: =N14 -> 0
A15: 42304D66113F405DEF7E9507D51CA947D240F | B15: 비상조명등 | C15: 소방검정품, 배광번호 33 이상제품 | D15: 개 | E15: 소방 9-3-1 | F15: 1 | G15: 0 | K15: 1 | L15: 내선전공 | M15: =0.142*(H15+100)/100*(I15+100)/100*(J15+100)/100 -> 0.142 | O15: 노임 1 | P15: 0.142*1 | Q15: 0101 | R15: 45CA44F11138A931490AC448A0F93A2E47963 | S15: 0.142 | T15: 010142304D66113F405DEF7E9507D51CA947D240F | V15: =N15 -> 0
A16: 45CA44F11138A931490AC448A0F93A2E47963 | B16: 내선전공 | C16: 일반공사 직종 | D16: 인 | F16: =SUM(V5:V15) -> 0 | K16: =IF(TRUNC(F16*[2]공량설정!B2/100, [2]공량설정!C3) = 0, 1, TRUNC(F16*[2]공량설정!B2/100, [2]공량설정!C3)) -> 1 | O16: 노임 1 | Q16: 0101 | T16: 010145CA44F11138A931490AC448A0F93A2E47963
B17: 02 지상 5층 전면부 설치공사
A18: 42304D66113F63005D389F0C774D33D7821F9 | B18: 1종금속제가요전선관 | C18: 1종금속제가요전선관, 16mm, 비방수 | D18: M | E18: 전기품셈 5-1 | F18: 189 | G18: 10 | K18: 207 | L18: 내선전공 | M18: =0.044*(H18+100)/100*(I18+100)/100*(J18+100)/100 -> 0.044 | O18: 노임 1 | P18: 0.044*1 | Q18: 0102 | R18: 45CA44F11138A931490AC448A0F93A2E47963 | S18: 0.044 | T18: 010242304D66113F63005D389F0C774D33D7821F9 | V18: =N18 -> 0
A19: 42274B8A113F5B2CC9D18B52EEC2E5B5EE3A1 | B19: 저독성난연케이블 | C19: HFIX, 1.78㎜ | D19: M | E19: 전기품셈 5-10 | F19: 204 | G19: 10 | K19: 224 | L19: 내선전공 | M19: =0.01*(H19+100)/100*(I19+100)/100*(J19+100)/100 -> 0.01 | O19: 노임 1 | P19: 0.01*1 | Q19: 0102 | R19: 45CA44F11138A931490AC448A0F93A2E47963 | S19: 0.01 | T19: 010242274B8A113F5B2CC9D18B52EEC2E5B5EE3A1 | V19: =N19 -> 0
A20: 42274B8A113F5B2CC9D18B52EEC2E5B5EE3A0 | B20: 저독성난연케이블 | C20: HFIX, 1.38㎜ | D20: M | E20: 전기품셈 5-10 | F20: 424 | G20: 10 | K20: 466 | L20: 내선전공 | M20: =0.01*(H20+100)/100*(I20+100)/100*(J20+100)/100 -> 0.01 | O20: 노임 1 | P20: 0.01*1 | Q20: 0102 | R20: 45CA44F11138A931490AC448A0F93A2E47963 | S20: 0.01 | T20: 010242274B8A113F5B2CC9D18B52EEC2E5B5EE3A0 | V20: =N20 -> 0
A21: 42304D66113F7D97AF3361364CF6A84B06EDF | B21: 아웃렛박스 | C21: 아웃렛박스, 8각, 54mm | D21: 개 | E21: 전기품셈 5-3 | F21: 21 | G21: 0 | K21: 21 | L21: 내선전공 | M21: =0.2*(H21+100)/100*(I21+100)/100*(J21+100)/100 -> 0.2 | O21: 노임 1 | P21: 0.2*1 | Q21: 0102 | R21: 45CA44F11138A931490AC448A0F93A2E47963 | S21: 0.2 | T21: 010242304D66113F7D97AF3361364CF6A84B06EDF | V21: =N21 -> 0
A22: 42424DC3113D46357FC10963221AA290766C4 | B22: 열감지기 | C22: 열감지기, 차동식스포트형 | D22: 개 | E22: 전기품셈 10-2-1 | F22: 13 | G22: 0 | K22: 13 | L22: 내선전공 | M22: =0.13*(H22+100)/100*(I22+100)/100*(J22+100)/100 -> 0.13 | O22: 노임 1 | P22: 0.13*1 | Q22: 0102 | R22: 45CA44F11138A931490AC448A0F93A2E47963 | S22: 0.13 | T22: 010242424DC3113D46357FC10963221AA290766C4 | V22: =N22 -> 0
A23: 42424DC3113D46357FC10963221AA290766C3 | B23: 열감지기 | C23: 열감지기, 정온식스포트형 | D23: 개 | E23: 전기품셈 10-2-1 | F23: 1 | G23: 0 | K23: 1 | L23: 내선전공 | M23: =0.13*(H23+100)/100*(I23+100)/100*(J23+100)/100 -> 0.13 | O23: 노임 1 | P23: 0.13*1 | Q23: 0102 | R23: 45CA44F11138A931490AC448A0F93A2E47963 | S23: 0.13 | T23: 010242424DC3113D46357FC10963221AA290766C3 | V23: =N23 -> 0
A24: 42424DC3113D46357FC10963221AA29076523 | B24: 연기감지기 | C24: 연기감지기, 광전식 2종-비축적 | D24: 개 | E24: 전기품셈 10-2-1 | F24: 2 | G24: 0 | K24: 2 | L24: 내선전공 | M24: =0.13*(H24+100)/100*(I24+100)/100*(J24+100)/100 -> 0.13 | O24: 노임 1 | P24: 0.13*1 | Q24: 0102 | R24: 45CA44F11138A931490AC448A0F93A2E47963 | S24: 0.13 | T24: 010242424DC3113D46357FC10963221AA29076523 | V24: =N24 -> 0
A25: 42424DC3113DA8BC93A1C34F042957A75767C | B25: 전자사이렌-스프링클러용 | C25: DC24V | D25: 개 | E25: 소방 6-3-1 | F25: 1 | G25: 0 | K25: 1 | L25: 내선전공 | M25: =0.21*(H25+100)/100*(I25+100)/100*(J25+100)/100 -> 0.21 | O25: 노임 1 | P25: 0.21*1 | Q25: 0102 | R25: 45CA44F11138A931490AC448A0F93A2E47963 | S25: 0.21 | T25: 010242424DC3113DA8BC93A1C34F042957A75767C | V25: =N25 -> 0
A26: 42304D66113F405DCC9ED30010F00D4DD7FC1 | B26: 음성점멸유도등 | C26: 중형(단면), 60분용, 고휘도, LED | D26: 개 | E26: 소방 9-2-2 | F26: 1 | G26: 0 | K26: 1 | L26: 내선전공 | M26: =0.136*(H26+100)/100*(I26+100)/100*(J26+100)/100 -> 0.136 | O26: 노임 1 | P26: 0.136*1 | Q26: 0102 | R26: 45CA44F11138A931490AC448A0F93A2E47963 | S26: 0.136 | T26: 010242304D66113F405DCC9ED30010F00D4DD7FC1 | V26: =N26 -> 0
A27: 42304D66113F405DCC9ED300065CFE51B25E2 | B27: 피난구유도등 | C27: 중형(단면), 60분용, 피난구유도등, 고휘도, LED | D27: 개 | E27: 소방 9-2-2 | F27: 1 | G27: 0 | K27: 1 | L27: 내선전공 | M27: =0.129*(H27+100)/100*(I27+100)/100*(J27+100)/100 -> 0.129 | O27: 노임 1 | P27: 0.129*1 | Q27: 0102 | R27: 45CA44F11138A931490AC448A0F93A2E47963 | S27: 0.129 | T27: 010242304D66113F405DCC9ED300065CFE51B25E2 | V27: =N27 -> 0
A28: 42304D66113F405DCC9ED300065CFE51B25ED | B28: 피난구유도등 | C28: 중형(양면), 60분용, 피난구유도등, 고휘도, LED | D28: 개 | E28: 소방 9-2-2 | F28: 1 | G28: 0 | K28: 1 | L28: 내선전공 | M28: =0.139*(H28+100)/100*(I28+100)/100*(J28+100)/100 -> 0.139 | O28: 노임 1 | P28: 0.139*1 | Q28: 0102 | R28: 45CA44F11138A931490AC448A0F93A2E47963 | S28: 0.139 | T28: 010242304D66113F405DCC9ED300065CFE51B25ED | V28: =N28 -> 0
A29: 426D4B7911346B791271BB26AE9BF1E29CEF5 | B29: 시각경보기 | C29: SIA-15R/W, 동기형 | D29: EA | E29: 소방 8-1-5 | F29: 1 | G29: 0 | K29: 1 | L29: 내선전공 | M29: =0.116*(H29+100)/100*(I29+100)/100*(J29+100)/100 -> 0.116 | O29: 노임 1 | P29: 0.116*1 | Q29: 0102 | R29: 45CA44F11138A931490AC448A0F93A2E47963 | S29: 0.116 | T29: 0102426D4B7911346B791271BB26AE9BF1E29CEF5 | V29: =N29 -> 0
A30: 45CA44F11138A931490AC448A0F93A2E47963 | B30: 내선전공 | C30: 일반공사 직종 | D30: 인 | F30: =SUM(V18:V29) -> 0 | K30: =IF(TRUNC(F30*[2]공량설정!B4/100, [2]공량설정!C5) = 0, 1, TRUNC(F30*[2]공량설정!B4/100, [2]공량설정!C5)) -> 1 | O30: 노임 1 | Q30: 0102 | T30: 010245CA44F11138A931490AC448A0F93A2E47963
B31: 03 지상 5층 후면부 설치공사
A32: 42304D66113F63005D389F39BD4398BC18F3E | B32: 강제전선관 | C32: 강제전선관, 후강전선관, 아연도, 28mm | D32: M | E32: 전기품셈 5-1 | F32: 25 | G32: 10 | K32: 27 | L32: 내선전공 | M32: =0.14*(H32+100)/100*(I32+100)/100*(J32+100)/100 -> 0.14 | O32: 노임 1 | P32: 0.14*1 | Q32: 0103 | R32: 45CA44F11138A931490AC448A0F93A2E47963 | S32: 0.14 | T32: 010342304D66113F63005D389F39BD4398BC18F3E | V32: =N32 -> 0
A33: 42304D66113F63005D389F39BD4398BC18F39 | B33: 강제전선관 | C33: 강제전선관, 후강전선관, 아연도, 22mm | D33: M | E33: 전기품셈 5-1 | F33: 25 | G33: 10 | K33: 27 | L33: 내선전공 | M33: =0.11*(H33+100)/100*(I33+100)/100*(J33+100)/100 -> 0.11 | O33: 노임 1 | P33: 0.11*1 | Q33: 0103 | R33: 45CA44F11138A931490AC448A0F93A2E47963 | S33: 0.11 | T33: 010342304D66113F63005D389F39BD4398BC18F39 | V33: =N33 -> 0
A34: 42304D66113F63005D389F0C774D33D7821F9 | B34: 1종금속제가요전선관 | C34: 1종금속제가요전선관, 16mm, 비방수 | D34: M | E34: 전기품셈 5-1 | F34: 171 | G34: 10 | K34: 188 | L34: 내선전공 | M34: =0.044*(H34+100)/100*(I34+100)/100*(J34+100)/100 -> 0.044 | O34: 노임 1 | P34: 0.044*1 | Q34: 0103 | R34: 45CA44F11138A931490AC448A0F93A2E47963 | S34: 0.044 | T34: 010342304D66113F63005D389F0C774D33D7821F9 | V34: =N34 -> 0
A35: 42274B8A113F5B2CC9FDC84D5C5A537F21FD0 | B35: 제어케이블 | C35: 제어케이블, 0.6/1kv, TFR-CVV-SB, 2C*1.5㎟ | D35: M | E35: 소방 4-1-6 | F35: 25 | G35: 5 | K35: 26 | L35: 저압케이블전공 | M35: =0.014*(H35+100)/100*(I35+100)/100*(J35+100)/100 -> 0.014 | O35: 노임 2 | P35: 0.014*1 | Q35: 0103 | R35: 45CA44F11138A931490AC448A0F93A2E4796E | S35: 0.014 | T35: 010342274B8A113F5B2CC9FDC84D5C5A537F21FD0 | W35: =N35 -> 0
A36: 42274B8A113F5B2CC9D18B52EEC2E5B5EE3A1 | B36: 저독성난연케이블 | C36: HFIX, 1.78㎜ | D36: M | E36: 전기품셈 5-10 | F36: 411 | G36: 10 | K36: 452 | L36: 내선전공 | M36: =0.01*(H36+100)/100*(I36+100)/100*(J36+100)/100 -> 0.01 | O36: 노임 1 | P36: 0.01*1 | Q36: 0103 | R36: 45CA44F11138A931490AC448A0F93A2E47963 | S36: 0.01 | T36: 010342274B8A113F5B2CC9D18B52EEC2E5B5EE3A1 | V36: =N36 -> 0
A37: 42274B8A113F5B2CC9D18B52EEC2E5B5EE3A0 | B37: 저독성난연케이블 | C37: HFIX, 1.38㎜ | D37: M | E37: 전기품셈 5-10 | F37: 315 | G37: 10 | K37: 346 | L37: 내선전공 | M37: =0.01*(H37+100)/100*(I37+100)/100*(J37+100)/100 -> 0.01 | O37: 노임 1 | P37: 0.01*1 | Q37: 0103 | R37: 45CA44F11138A931490AC448A0F93A2E47963 | S37: 0.01 | T37: 010342274B8A113F5B2CC9D18B52EEC2E5B5EE3A0 | V37: =N37 -> 0
A38: 42304D66113F7D97AF3361364CF6A84B06EDF | B38: 아웃렛박스 | C38: 아웃렛박스, 8각, 54mm | D38: 개 | E38: 전기품셈 5-3 | F38: 20 | G38: 0 | K38: 20 | L38: 내선전공 | M38: =0.2*(H38+100)/100*(I38+100)/100*(J38+100)/100 -> 0.2 | O38: 노임 1 | P38: 0.2*1 | Q38: 0103 | R38: 45CA44F11138A931490AC448A0F93A2E47963 | S38: 0.2 | T38: 010342304D66113F7D97AF3361364CF6A84B06EDF | V38: =N38 -> 0
A39: 42424DC3113D46357FC10963221AA290766C4 | B39: 열감지기 | C39: 열감지기, 차동식스포트형 | D39: 개 | E39: 전기품셈 10-2-1 | F39: 8 | G39: 0 | K39: 8 | L39: 내선전공 | M39: =0.13*(H39+100)/100*(I39+100)/100*(J39+100)/100 -> 0.13 | O39: 노임 1 | P39: 0.13*1 | Q39: 0103 | R39: 45CA44F11138A931490AC448A0F93A2E47963 | S39: 0.13 | T39: 010342424DC3113D46357FC10963221AA290766C4 | V39: =N39 -> 0
A40: 42424DC3113D46357FC10963221AA290766C3 | B40: 열감지기 | C40: 열감지기, 정온식스포트형 | D40: 개 | E40: 전기품셈 10-2-1 | F40: 1 | G40: 0 | K40: 1 | L40: 내선전공 | M40: =0.13*(H40+100)/100*(I40+100)/100*(J40+100)/100 -> 0.13 | O40: 노임 1 | P40: 0.13*1 | Q40: 0103 | R40: 45CA44F11138A931490AC448A0F93A2E47963 | S40: 0.13 | T40: 010342424DC3113D46357FC10963221AA290766C3 | V40: =N40 -> 0
A41: 42424DC3113DA8BC93A1C34F042957A75767C | B41: 전자사이렌-스프링클러용 | C41: DC24V | D41: 개 | E41: 소방 6-3-1 | F41: 1 | G41: 0 | K41: 1 | L41: 내선전공 | M41: =0.21*(H41+100)/100*(I41+100)/100*(J41+100)/100 -> 0.21 | O41: 노임 1 | P41: 0.21*1 | Q41: 0103 | R41: 45CA44F11138A931490AC448A0F93A2E47963 | S41: 0.21 | T41: 010342424DC3113DA8BC93A1C34F042957A75767C | V41: =N41 -> 0
A42: 42424DC3113D46357FC10963221AA29076523 | B42: 연기감지기 | C42: 연기감지기, 광전식 2종-비축적 | D42: 개 | E42: 전기품셈 10-2-1 | F42: 2 | G42: 0 | K42: 2 | L42: 내선전공 | M42: =0.13*(H42+100)/100*(I42+100)/100*(J42+100)/100 -> 0.13 | O42: 노임 1 | P42: 0.13*1 | Q42: 0103 | R42: 45CA44F11138A931490AC448A0F93A2E47963 | S42: 0.13 | T42: 010342424DC3113D46357FC10963221AA29076523 | V42: =N42 -> 0
A43: 42304D66113F405DCC9ED30010F00D4DD7FC1 | B43: 음성점멸유도등 | C43: 중형(단면), 60분용, 고휘도, LED | D43: 개 | E43: 소방 9-2-2 | F43: 1 | G43: 0 | K43: 1 | L43: 내선전공 | M43: =0.136*(H43+100)/100*(I43+100)/100*(J43+100)/100 -> 0.136 | O43: 노임 1 | P43: 0.136*1 | Q43: 0103 | R43: 45CA44F11138A931490AC448A0F93A2E47963 | S43: 0.136 | T43: 010342304D66113F405DCC9ED30010F00D4DD7FC1 | V43: =N43 -> 0
A44: 42304D66113F405DCC9ED300065CFE51B25E2 | B44: 피난구유도등 | C44: 중형(단면), 60분용, 피난구유도등, 고휘도, LED | D44: 개 | E44: 소방 9-2-2 | F44: 3 | G44: 0 | K44: 3 | L44: 내선전공 | M44: =0.129*(H44+100)/100*(I44+100)/100*(J44+100)/100 -> 0.129 | O44: 노임 1 | P44: 0.129*1 | Q44: 0103 | R44: 45CA44F11138A931490AC448A0F93A2E47963 | S44: 0.129 | T44: 010342304D66113F405DCC9ED300065CFE51B25E2 | V44: =N44 -> 0
A45: 42304D66113F405DCC9ED300065CFE51B25ED | B45: 피난구유도등 | C45: 중형(양면), 60분용, 피난구유도등, 고휘도, LED | D45: 개 | E45: 소방 9-2-2 | F45: 1 | G45: 0 | K45: 1 | L45: 내선전공 | M45: =0.139*(H45+100)/100*(I45+100)/100*(J45+100)/100 -> 0.139 | O45: 노임 1 | P45: 0.139*1 | Q45: 0103 | R45: 45CA44F11138A931490AC448A0F93A2E47963 | S45: 0.139 | T45: 010342304D66113F405DCC9ED300065CFE51B25ED | V45: =N45 -> 0
A46: 42304D66113F405DCC9ED30010F00D4DD7FC3 | B46: 통로유도등 | C46: 복도통로유도등, 고휘도 | D46: 개 | E46: 소방 9-2-2 | F46: 1 | G46: 0 | K46: 1 | L46: 내선전공 | M46: =0.118*(H46+100)/100*(I46+100)/100*(J46+100)/100 -> 0.118 | O46: 노임 1 | P46: 0.118*1 | Q46: 0103 | R46: 45CA44F11138A931490AC448A0F93A2E47963 | S46: 0.118 | T46: 010342304D66113F405DCC9ED30010F00D4DD7FC3 | V46: =N46 -> 0
A47: 42304D66113F405DEF7E9507D51CA947D240F | B47: 비상조명등 | C47: 소방검정품, 배광번호 33 이상제품 | D47: 개 | E47: 소방 9-3-1 | F47: 1 | G47: 0 | K47: 1 | L47: 내선전공 | M47: =0.142*(H47+100)/100*(I47+100)/100*(J47+100)/100 -> 0.142 | O47: 노임 1 | P47: 0.142*1 | Q47: 0103 | R47: 45CA44F11138A931490AC448A0F93A2E47963 | S47: 0.142 | T47: 010342304D66113F405DEF7E9507D51CA947D240F | V47: =N47 -> 0
A48: 426D4B7911346B791271BB26AE9BF1E29CEF5 | B48: 시각경보기 | C48: SIA-15R/W, 동기형 | D48: EA | E48: 소방 8-1-5 | F48: 1 | G48: 0 | K48: 1 | L48: 내선전공 | M48: =0.116*(H48+100)/100*(I48+100)/100*(J48+100)/100 -> 0.116 | O48: 노임 1 | P48: 0.116*1 | Q48: 0103 | R48: 45CA44F11138A931490AC448A0F93A2E47963 | S48: 0.116 | T48: 0103426D4B7911346B791271BB26AE9BF1E29CEF5 | V48: =N48 -> 0
A49: 42304D66113F7D978C6CB048AD834355652C0 | B49: 시각경보기전원반 | C49: 시각경보기전원반, 15A | D49: 개 | E49: 전기 5-30 | F49: 1 | G49: 0 | K49: 1 | L49: 내선전공 | M49: =1.68*(H49+100)/100*(I49+100)/100*(J49+100)/100 -> 1.68 | O49: 노임 1 | P49: 1.68*1 | Q49: 0103 | R49: 45CA44F11138A931490AC448A0F93A2E47963 | S49: 1.68 | T49: 010342304D66113F7D978C6CB048AD834355652C0 | V49: =N49 -> 0
A50: 45CA44F11138A931490AC448A0F93A2E47963 | B50: 내선전공 | C50: 일반공사 직종 | D50: 인 | F50: =SUM(V32:V49) -> 0 | K50: =IF(TRUNC(F50*[2]공량설정!B6/100, [2]공량설정!C7) = 0, 1, TRUNC(F50*[2]공량설정!B6/100, [2]공량설정!C7)) -> 1 | O50: 노임 1 | Q50: 0103 | T50: 010345CA44F11138A931490AC448A0F93A2E47963
A51: 45CA44F11138A931490AC448A0F93A2E4796E | B51: 저압케이블전공 | C51: 일반공사 직종 | D51: 인 | F51: =SUM(W32:W49) -> 0 | K51: =IF(TRUNC(F51*[2]공량설정!B6/100, [2]공량설정!C8) = 0, 1, TRUNC(F51*[2]공량설정!B6/100, [2]공량설정!C8)) -> 1 | O51: 노임 2 | Q51: 0103 | T51: 010345CA44F11138A931490AC448A0F93A2E4796E

Sheet 일위대가목록-EF
B1: 일 위 대 가 목 록
B2: [ 전남광주통합특별시의회 광주청사 환경개선공사(소방전기) ]
A3: 코 드 | B3: 품 명 | C3: 규 격 | D3: 단위 | E3: 재 료 비 | F3: 노 무 비 | G3: 경 비 | H3: 합 계 | I3: 번 호 | J3: 비 고 | K3: 노임계수 | L3: 할증 | M3: 품셈개요 | N3: 장비일위
A4: 45D340BD1138CF00E921F4924CA93 | B4: 감지기-철거 | D4: EA | E4: ='일위대가-EF'!F7 -> 0 | F4: ='일위대가-EF'!H7 -> 0 | G4: ='일위대가-EF'!J7 -> 0 | H4: =E4+F4+G4 -> 0 | I4: 호표 1
A5: 459A4AA111362A75DA856B51A5D2F | B5: 전자싸이렌-철거 | C5: 스프링클러용 | D5: EA | E5: ='일위대가-EF'!F12 -> 0 | F5: ='일위대가-EF'!H12 -> 0 | G5: ='일위대가-EF'!J12 -> 0 | H5: =E5+F5+G5 -> 0 | I5: 호표 2
A6: 455040DC1132CE9B0393145CC39CA | B6: 피난구유도등-철거 | C6: 벽부형 | D6: 개 | E6: ='일위대가-EF'!F17 -> 0 | F6: ='일위대가-EF'!H17 -> 0 | G6: ='일위대가-EF'!J17 -> 0 | H6: =E6+F6+G6 -> 0 | I6: 호표 3
A7: 455040DC1132CE9B0393373C85D9F | B7: 발신기세트 | C7: 옥내소화전내장형 | D7: 개 | E7: ='일위대가-EF'!F28 -> 0 | F7: ='일위대가-EF'!H28 -> 0 | G7: ='일위대가-EF'!J28 -> 0 | H7: =E7+F7+G7 -> 0 | I7: 호표 4
A8: 459A4AA111362A75DA856B51A5D21 | B8: 전자싸이렌-철거 | C8: 가스소화설비용 | D8: EA | E8: ='일위대가-EF'!F33 -> 0 | F8: ='일위대가-EF'!H33 -> 0 | G8: ='일위대가-EF'!J33 -> 0 | H8: =E8+F8+G8 -> 0 | I8: 호표 5
A9: 459A4AA111362A75DA856B51A5D2E | B9: 방출표시등-철거 | C9: 가스소화설비용 | D9: EA | E9: ='일위대가-EF'!F38 -> 0 | F9: ='일위대가-EF'!H38 -> 0 | G9: ='일위대가-EF'!J38 -> 0 | H9: =E9+F9+G9 -> 0 | I9: 호표 6
A10: 459A4AA111362A75DA856B51A5D2C | B10: 수동조작함-철거 | C10: 가스소화설비용 | D10: EA | E10: ='일위대가-EF'!F43 -> 0 | F10: ='일위대가-EF'!H43 -> 0 | G10: ='일위대가-EF'!J43 -> 0 | H10: =E10+F10+G10 -> 0 | I10: 호표 7
A11: 455040DC1132CE9B0393373C85D96 | B11: 발신기세트 - 철거 | C11: 단독형 | D11: 개 | E11: ='일위대가-EF'!F48 -> 0 | F11: ='일위대가-EF'!H48 -> 0 | G11: ='일위대가-EF'!J48 -> 0 | H11: =E11+F11+G11 -> 0 | I11: 호표 8
A12: 45D340BD1138CF00E921F4924CA90 | B12: 중계기-철거 | D12: EA | E12: ='일위대가-EF'!F53 -> 0 | F12: ='일위대가-EF'!H53 -> 0 | G12: ='일위대가-EF'!J53 -> 0 | H12: =E12+F12+G12 -> 0 | I12: 호표 9

Sheet 일위대가-EF
A1: [ 전남광주통합특별시의회 광주청사 환경개선공사(소방전기) ]
A2: 품 명 | B2: 규 격 | C2: 단위 | D2: 수량 | E2: 재 료 비 | G2: 노 무 비 | I2: 경 비 | K2: 합 계 | M2: 비 고 | N2: 일위대가 | O2: 품목코드 | P2: 일위 | Q2: 단산 | R2: 자재 | S2: 손료적용 | T2: 손료저장 | U2: 적용율 | V2: JUK1 | W2: JUK2 | X2: JUK3 | Y2: JUK4 | Z2: JUK5 | AA2: JUK6 | AB2: JUK7 | AC2: JUK8 | AD2: JUK9 | AE2: JUK10 | AF2: JUK11 | AG2: JUK12 | AH2: JUK13 | AI2: JUK14 | AJ2: JUK15 | AK2: JUK16 | AL2: JUK17 | AM2: JUK18 | AN2: JUK19 | AO2: JUK20 | AP2: 할증적용 | AQ2: 할증저장 | AR2: 할증율 | AS2: HAL1 | AT2: HAL2 | AU2: HAL3 | AV2: 자재구분 | AW2: 일위대가+자재 | AX2: 장비일위 | AY2: 설정 | AZ2: 할증체크
E3: 단 가 | F3: 금 액 | G3: 단 가 | H3: 금 액 | I3: 단 가 | J3: 금 액 | K3: 단 가 | L3: 금 액
A4: 감지기-철거 EA ( 호표 1 ) | N4: 45D340BD1138CF00E921F4924CA93
A5: 내선전공 | B5: 일반공사 직종 | C5: 인 | E5: ='단가대비표-EF'!O31 -> 0 | F5: =TRUNC(E5*D5,1) -> 0 | G5: ='단가대비표-EF'!P31 -> 0 | H5: =TRUNC(G5*D5,1) -> 0 | I5: ='단가대비표-EF'!V31 -> 0 | J5: =TRUNC(I5*D5,1) -> 0 | K5: =TRUNC(E5+G5+I5,1) -> 0 | L5: =TRUNC(F5+H5+J5,1) -> 0 | N5: 45D340BD1138CF00E921F4924CA93 | O5: 45CA44F11138A931490AC448A0F93A2E47963 | P5: F | Q5: F | R5: T | V5: 1 | AW5: 45D340BD1138CF00E921F4924CA9345CA44F11138A931490AC448A0F93A2E47963
A6: 공구손료 | B6: 인력품의 3% | C6: 식 | E6: =TRUNC(SUMIF(V5:V6, RIGHTB(O6, 1), H5:H6)*U6, 2) -> 0 | F6: =TRUNC(E6*D6,1) -> 0 | G6: 0 | H6: =TRUNC(G6*D6,1) -> 0 | I6: 0 | J6: =TRUNC(I6*D6,1) -> 0 | K6: =TRUNC(E6+G6+I6,1) -> 0 | L6: =TRUNC(F6+H6+J6,1) -> 0 | N6: 45D340BD1138CF00E921F4924CA93 | O6: 4400488D113AA6E85BF1C5C3F64001 | P6: F | Q6: F | R6: F | S6: 1 | T6: 0 | U6: 0.03 | AW6: 45D340BD1138CF00E921F4924CA934400488D113AA6E85BF1C5C3F64001
A7: [ 합 계 ] | F7: =TRUNC(SUMIF(N5:N6, N4, F5:F6),0) -> 0 | H7: =TRUNC(SUMIF(N5:N6, N4, H5:H6),0) -> 0 | J7: =TRUNC(SUMIF(N5:N6, N4, J5:J6),0) -> 0 | L7: =F7+H7+J7 -> 0 | N7: TOTAL | O7: TOTAL
A9: 전자싸이렌-철거 스프링클러용 EA ( 호표 2 ) | N9: 459A4AA111362A75DA856B51A5D2F
A10: 내선전공 | B10: 일반공사 직종 | C10: 인 | E10: ='단가대비표-EF'!O31 -> 0 | F10: =TRUNC(E10*D10,1) -> 0 | G10: ='단가대비표-EF'!P31 -> 0 | H10: =TRUNC(G10*D10,1) -> 0 | I10: ='단가대비표-EF'!V31 -> 0 | J10: =TRUNC(I10*D10,1) -> 0 | K10: =TRUNC(E10+G10+I10,1) -> 0 | L10: =TRUNC(F10+H10+J10,1) -> 0 | N10: 459A4AA111362A75DA856B51A5D2F | O10: 45CA44F11138A931490AC448A0F93A2E47963 | P10: F | Q10: F | R10: T | V10: 1 | AW10: 459A4AA111362A75DA856B51A5D2F45CA44F11138A931490AC448A0F93A2E47963
A11: 공구손료 | B11: 인력품의 3% | C11: 식 | E11: =TRUNC(SUMIF(V10:V11, RIGHTB(O11, 1), H10:H11)*U11, 2) -> 0 | F11: =TRUNC(E11*D11,1) -> 0 | G11: 0 | H11: =TRUNC(G11*D11,1) -> 0 | I11: 0 | J11: =TRUNC(I11*D11,1) -> 0 | K11: =TRUNC(E11+G11+I11,1) -> 0 | L11: =TRUNC(F11+H11+J11,1) -> 0 | N11: 459A4AA111362A75DA856B51A5D2F | O11: 4400488D113AA6E85BF1C5C3F64001 | P11: F | Q11: F | R11: F | S11: 1 | T11: 0 | U11: 0.03 | AW11: 459A4AA111362A75DA856B51A5D2F4400488D113AA6E85BF1C5C3F64001
A12: [ 합 계 ] | F12: =TRUNC(SUMIF(N10:N11, N9, F10:F11),0) -> 0 | H12: =TRUNC(SUMIF(N10:N11, N9, H10:H11),0) -> 0 | J12: =TRUNC(SUMIF(N10:N11, N9, J10:J11),0) -> 0 | L12: =F12+H12+J12 -> 0 | N12: TOTAL | O12: TOTAL
A14: 피난구유도등-철거 벽부형 개 ( 호표 3 ) | N14: 455040DC1132CE9B0393145CC39CA
A15: 내선전공 | B15: 일반공사 직종 | C15: 인 | E15: ='단가대비표-EF'!O31 -> 0 | F15: =TRUNC(E15*D15,1) -> 0 | G15: ='단가대비표-EF'!P31 -> 0 | H15: =TRUNC(G15*D15,1) -> 0 | I15: ='단가대비표-EF'!V31 -> 0 | J15: =TRUNC(I15*D15,1) -> 0 | K15: =TRUNC(E15+G15+I15,1) -> 0 | L15: =TRUNC(F15+H15+J15,1) -> 0 | N15: 455040DC1132CE9B0393145CC39CA | O15: 45CA44F11138A931490AC448A0F93A2E47963 | P15: F | Q15: F | R15: T | V15: 1 | AW15: 455040DC1132CE9B0393145CC39CA45CA44F11138A931490AC448A0F93A2E47963
A16: 공구손료 | B16: 인력품의 3% | C16: 식 | E16: =TRUNC(SUMIF(V15:V16, RIGHTB(O16, 1), H15:H16)*U16, 2) -> 0 | F16: =TRUNC(E16*D16,1) -> 0 | G16: 0 | H16: =TRUNC(G16*D16,1) -> 0 | I16: 0 | J16: =TRUNC(I16*D16,1) -> 0 | K16: =TRUNC(E16+G16+I16,1) -> 0 | L16: =TRUNC(F16+H16+J16,1) -> 0 | N16: 455040DC1132CE9B0393145CC39CA | O16: 4400488D113AA6E85BF1C5C3F64001 | P16: F | Q16: F | R16: F | S16: 1 | T16: 0 | U16: 0.03 | AW16: 455040DC1132CE9B0393145CC39CA4400488D113AA6E85BF1C5C3F64001
A17: [ 합 계 ] | F17: =TRUNC(SUMIF(N15:N16, N14, F15:F16),0) -> 0 | H17: =TRUNC(SUMIF(N15:N16, N14, H15:H16),0) -> 0 | J17: =TRUNC(SUMIF(N15:N16, N14, J15:J16),0) -> 0 | L17: =F17+H17+J17 -> 0 | N17: TOTAL | O17: TOTAL
A19: 발신기세트 옥내소화전내장형 개 ( 호표 4 ) | N19: 455040DC1132CE9B0393373C85D9F
A20: 화재경보장치 | B20: 수동발신기 | C20: 개 | E20: ='단가대비표-EF'!O25 -> 0 | F20: =TRUNC(E20*D20,1) -> 0 | G20: ='단가대비표-EF'!P25 -> 0 | H20: =TRUNC(G20*D20,1) -> 0 | I20: ='단가대비표-EF'!V25 -> 0 | J20: =TRUNC(I20*D20,1) -> 0 | K20: =TRUNC(E20+G20+I20,1) -> 0 | L20: =TRUNC(F20+H20+J20,1) -> 0 | N20: 455040DC1132CE9B0393373C85D9F | O20: 42424DC3113D46357FC140DA009602D1570EC | P20: F | Q20: F | R20: T | AW20: 455040DC1132CE9B0393373C85D9F42424DC3113D46357FC140DA009602D1570EC
A21: 화재경보장치 | B21: 수동발신기, 표시등, DC24V | C21: 개 | E21: ='단가대비표-EF'!O27 -> 0 | F21: =TRUNC(E21*D21,1) -> 0 | G21: ='단가대비표-EF'!P27 -> 0 | H21: =TRUNC(G21*D21,1) -> 0 | I21: ='단가대비표-EF'!V27 -> 0 | J21: =TRUNC(I21*D21,1) -> 0 | K21: =TRUNC(E21+G21+I21,1) -> 0 | L21: =TRUNC(F21+H21+J21,1) -> 0 | N21: 455040DC1132CE9B0393373C85D9F | O21: 42424DC3113D46357FC140DA009602D1570E2 | P21: F | Q21: F | R21: T | AW21: 455040DC1132CE9B0393373C85D9F42424DC3113D46357FC140DA009602D1570E2
A22: 화재경보장치 | B22: 수동발신기, 경종, DC24V | C22: 개 | E22: ='단가대비표-EF'!O26 -> 0 | F22: =TRUNC(E22*D22,1) -> 0 | G22: ='단가대비표-EF'!P26 -> 0 | H22: =TRUNC(G22*D22,1) -> 0 | I22: ='단가대비표-EF'!V26 -> 0 | J22: =TRUNC(I22*D22,1) -> 0 | K22: =TRUNC(E22+G22+I22,1) -> 0 | L22: =TRUNC(F22+H22+J22,1) -> 0 | N22: 455040DC1132CE9B0393373C85D9F | O22: 42424DC3113D46357FC140DA009602D1570ED | P22: F | Q22: F | R22: T | AW22: 455040DC1132CE9B0393373C85D9F42424DC3113D46357FC140DA009602D1570ED
A23: 접속단자대 | B23: 단자대, TB, 20P 20A | C23: 개 | E23: ='단가대비표-EF'!O16 -> 0 | F23: =TRUNC(E23*D23,1) -> 0 | G23: ='단가대비표-EF'!P16 -> 0 | H23: =TRUNC(G23*D23,1) -> 0 | I23: ='단가대비표-EF'!V16 -> 0 | J23: =TRUNC(I23*D23,1) -> 0 | K23: =TRUNC(E23+G23+I23,1) -> 0 | L23: =TRUNC(F23+H23+J23,1) -> 0 | N23: 455040DC1132CE9B0393373C85D9F | O23: 42304D66113F7D97D46574E35B402A573C7C9 | P23: F | Q23: F | R23: T | AW23: 455040DC1132CE9B0393373C85D9F42304D66113F7D97D46574E35B402A573C7C9
A24: 저독성난연케이블 | B24: HFIX, 1.78㎜ | C24: M | E24: ='단가대비표-EF'!O7 -> 0 | F24: =TRUNC(E24*D24,1) -> 0 | G24: ='단가대비표-EF'!P7 -> 0 | H24: =TRUNC(G24*D24,1) -> 0 | I24: ='단가대비표-EF'!V7 -> 0 | J24: =TRUNC(I24*D24,1) -> 0 | K24: =TRUNC(E24+G24+I24,1) -> 0 | L24: =TRUNC(F24+H24+J24,1) -> 0 | N24: 455040DC1132CE9B0393373C85D9F | O24: 42274B8A113F5B2CC9D18B52EEC2E5B5EE3A1 | P24: F | Q24: F | R24: T | V24: 1 | AW24: 455040DC1132CE9B0393373C85D9F42274B8A113F5B2CC9D18B52EEC2E5B5EE3A1
A25: 잡재료비 | B25: 배관배선의 2% | C25: 식 | E25: =TRUNC(SUMIF(V20:V27, RIGHTB(O25, 1), F20:F27)*U25, 2) -> 0 | F25: =TRUNC(E25*D25,1) -> 0 | G25: 0 | H25: =TRUNC(G25*D25,1) -> 0 | I25: 0 | J25: =TRUNC(I25*D25,1) -> 0 | K25: =TRUNC(E25+G25+I25,1) -> 0 | L25: =TRUNC(F25+H25+J25,1) -> 0 | N25: 455040DC1132CE9B0393373C85D9F | O25: 4400488D113AA6E85BF1C5C3F64001 | P25: F | Q25: F | R25: F | S25: 0 | T25: 0 | U25: 0.02 | AW25: 455040DC1132CE9B0393373C85D9F4400488D113AA6E85BF1C5C3F64001
A26: 내선전공 | B26: 일반공사 직종 | C26: 인 | E26: ='단가대비표-EF'!O31 -> 0 | F26: =TRUNC(E26*D26,1) -> 0 | G26: ='단가대비표-EF'!P31 -> 0 | H26: =TRUNC(G26*D26,1) -> 0 | I26: ='단가대비표-EF'!V31 -> 0 | J26: =TRUNC(I26*D26,1) -> 0 | K26: =TRUNC(E26+G26+I26,1) -> 0 | L26: =TRUNC(F26+H26+J26,1) -> 0 | N26: 455040DC1132CE9B0393373C85D9F | O26: 45CA44F11138A931490AC448A0F93A2E47963 | P26: F | Q26: F | R26: T | W26: 2 | AW26: 455040DC1132CE9B0393373C85D9F45CA44F11138A931490AC448A0F93A2E47963
A27: 공구손료 | B27: 인력품의 3% | C27: 식 | E27: =TRUNC(SUMIF(W20:W27, RIGHTB(O27, 1), H20:H27)*U27, 2) -> 0 | F27: =TRUNC(E27*D27,1) -> 0 | G27: 0 | H27: =TRUNC(G27*D27,1) -> 0 | I27: 0 | J27: =TRUNC(I27*D27,1) -> 0 | K27: =TRUNC(E27+G27+I27,1) -> 0 | L27: =TRUNC(F27+H27+J27,1) -> 0 | N27: 455040DC1132CE9B0393373C85D9F | O27: 4400488D113AA6E85BF1C5C3F67002 | P27: F | Q27: F | R27: F | S27: 1 | T27: 0 | U27: 0.03 | AW27: 455040DC1132CE9B0393373C85D9F4400488D113AA6E85BF1C5C3F67002
A28: [ 합 계 ] | F28: =TRUNC(SUMIF(N20:N27, N19, F20:F27),0) -> 0 | H28: =TRUNC(SUMIF(N20:N27, N19, H20:H27),0) -> 0 | J28: =TRUNC(SUMIF(N20:N27, N19, J20:J27),0) -> 0 | L28: =F28+H28+J28 -> 0 | N28: TOTAL | O28: TOTAL
A30: 전자싸이렌-철거 가스소화설비용 EA ( 호표 5 ) | N30: 459A4AA111362A75DA856B51A5D21
A31: 내선전공 | B31: 일반공사 직종 | C31: 인 | E31: ='단가대비표-EF'!O31 -> 0 | F31: =TRUNC(E31*D31,1) -> 0 | G31: ='단가대비표-EF'!P31 -> 0 | H31: =TRUNC(G31*D31,1) -> 0 | I31: ='단가대비표-EF'!V31 -> 0 | J31: =TRUNC(I31*D31,1) -> 0 | K31: =TRUNC(E31+G31+I31,1) -> 0 | L31: =TRUNC(F31+H31+J31,1) -> 0 | N31: 459A4AA111362A75DA856B51A5D21 | O31: 45CA44F11138A931490AC448A0F93A2E47963 | P31: F | Q31: F | R31: T | V31: 1 | AW31: 459A4AA111362A75DA856B51A5D2145CA44F11138A931490AC448A0F93A2E47963
A32: 공구손료 | B32: 인력품의 3% | C32: 식 | E32: =TRUNC(SUMIF(V31:V32, RIGHTB(O32, 1), H31:H32)*U32, 2) -> 0 | F32: =TRUNC(E32*D32,1) -> 0 | G32: 0 | H32: =TRUNC(G32*D32,1) -> 0 | I32: 0 | J32: =TRUNC(I32*D32,1) -> 0 | K32: =TRUNC(E32+G32+I32,1) -> 0 | L32: =TRUNC(F32+H32+J32,1) -> 0 | N32: 459A4AA111362A75DA856B51A5D21 | O32: 4400488D113AA6E85BF1C5C3F64001 | P32: F | Q32: F | R32: F | S32: 1 | T32: 0 | U32: 0.03 | AW32: 459A4AA111362A75DA856B51A5D214400488D113AA6E85BF1C5C3F64001
A33: [ 합 계 ] | F33: =TRUNC(SUMIF(N31:N32, N30, F31:F32),0) -> 0 | H33: =TRUNC(SUMIF(N31:N32, N30, H31:H32),0) -> 0 | J33: =TRUNC(SUMIF(N31:N32, N30, J31:J32),0) -> 0 | L33: =F33+H33+J33 -> 0 | N33: TOTAL | O33: TOTAL
A35: 방출표시등-철거 가스소화설비용 EA ( 호표 6 ) | N35: 459A4AA111362A75DA856B51A5D2E
A36: 내선전공 | B36: 일반공사 직종 | C36: 인 | E36: ='단가대비표-EF'!O31 -> 0 | F36: =TRUNC(E36*D36,1) -> 0 | G36: ='단가대비표-EF'!P31 -> 0 | H36: =TRUNC(G36*D36,1) -> 0 | I36: ='단가대비표-EF'!V31 -> 0 | J36: =TRUNC(I36*D36,1) -> 0 | K36: =TRUNC(E36+G36+I36,1) -> 0 | L36: =TRUNC(F36+H36+J36,1) -> 0 | N36: 459A4AA111362A75DA856B51A5D2E | O36: 45CA44F11138A931490AC448A0F93A2E47963 | P36: F | Q36: F | R36: T | V36: 1 | AW36: 459A4AA111362A75DA856B51A5D2E45CA44F11138A931490AC448A0F93A2E47963
A37: 공구손료 | B37: 인력품의 3% | C37: 식 | E37: =TRUNC(SUMIF(V36:V37, RIGHTB(O37, 1), H36:H37)*U37, 2) -> 0 | F37: =TRUNC(E37*D37,1) -> 0 | G37: 0 | H37: =TRUNC(G37*D37,1) -> 0 | I37: 0 | J37: =TRUNC(I37*D37,1) -> 0 | K37: =TRUNC(E37+G37+I37,1) -> 0 | L37: =TRUNC(F37+H37+J37,1) -> 0 | N37: 459A4AA111362A75DA856B51A5D2E | O37: 4400488D113AA6E85BF1C5C3F64001 | P37: F | Q37: F | R37: F | S37: 1 | T37: 0 | U37: 0.03 | AW37: 459A4AA111362A75DA856B51A5D2E4400488D113AA6E85BF1C5C3F64001
A38: [ 합 계 ] | F38: =TRUNC(SUMIF(N36:N37, N35, F36:F37),0) -> 0 | H38: =TRUNC(SUMIF(N36:N37, N35, H36:H37),0) -> 0 | J38: =TRUNC(SUMIF(N36:N37, N35, J36:J37),0) -> 0 | L38: =F38+H38+J38 -> 0 | N38: TOTAL | O38: TOTAL
A40: 수동조작함-철거 가스소화설비용 EA ( 호표 7 ) | N40: 459A4AA111362A75DA856B51A5D2C
A41: 내선전공 | B41: 일반공사 직종 | C41: 인 | E41: ='단가대비표-EF'!O31 -> 0 | F41: =TRUNC(E41*D41,1) -> 0 | G41: ='단가대비표-EF'!P31 -> 0 | H41: =TRUNC(G41*D41,1) -> 0 | I41: ='단가대비표-EF'!V31 -> 0 | J41: =TRUNC(I41*D41,1) -> 0 | K41: =TRUNC(E41+G41+I41,1) -> 0 | L41: =TRUNC(F41+H41+J41,1) -> 0 | N41: 459A4AA111362A75DA856B51A5D2C | O41: 45CA44F11138A931490AC448A0F93A2E47963 | P41: F | Q41: F | R41: T | V41: 1 | AW41: 459A4AA111362A75DA856B51A5D2C45CA44F11138A931490AC448A0F93A2E47963
A42: 공구손료 | B42: 인력품의 3% | C42: 식 | E42: =TRUNC(SUMIF(V41:V42, RIGHTB(O42, 1), H41:H42)*U42, 2) -> 0 | F42: =TRUNC(E42*D42,1) -> 0 | G42: 0 | H42: =TRUNC(G42*D42,1) -> 0 | I42: 0 | J42: =TRUNC(I42*D42,1) -> 0 | K42: =TRUNC(E42+G42+I42,1) -> 0 | L42: =TRUNC(F42+H42+J42,1) -> 0 | N42: 459A4AA111362A75DA856B51A5D2C | O42: 4400488D113AA6E85BF1C5C3F64001 | P42: F | Q42: F | R42: F | S42: 1 | T42: 0 | U42: 0.03 | AW42: 459A4AA111362A75DA856B51A5D2C4400488D113AA6E85BF1C5C3F64001
A43: [ 합 계 ] | F43: =TRUNC(SUMIF(N41:N42, N40, F41:F42),0) -> 0 | H43: =TRUNC(SUMIF(N41:N42, N40, H41:H42),0) -> 0 | J43: =TRUNC(SUMIF(N41:N42, N40, J41:J42),0) -> 0 | L43: =F43+H43+J43 -> 0 | N43: TOTAL | O43: TOTAL
A45: 발신기세트 - 철거 단독형 개 ( 호표 8 ) | N45: 455040DC1132CE9B0393373C85D96
A46: 내선전공 | B46: 일반공사 직종 | C46: 인 | E46: ='단가대비표-EF'!O31 -> 0 | F46: =TRUNC(E46*D46,1) -> 0 | G46: ='단가대비표-EF'!P31 -> 0 | H46: =TRUNC(G46*D46,1) -> 0 | I46: ='단가대비표-EF'!V31 -> 0 | J46: =TRUNC(I46*D46,1) -> 0 | K46: =TRUNC(E46+G46+I46,1) -> 0 | L46: =TRUNC(F46+H46+J46,1) -> 0 | N46: 455040DC1132CE9B0393373C85D96 | O46: 45CA44F11138A931490AC448A0F93A2E47963 | P46: F | Q46: F | R46: T | V46: 1 | AW46: 455040DC1132CE9B0393373C85D9645CA44F11138A931490AC448A0F93A2E47963
A47: 공구손료 | B47: 인력품의 3% | C47: 식 | E47: =TRUNC(SUMIF(V46:V47, RIGHTB(O47, 1), H46:H47)*U47, 2) -> 0 | F47: =TRUNC(E47*D47,1) -> 0 | G47: 0 | H47: =TRUNC(G47*D47,1) -> 0 | I47: 0 | J47: =TRUNC(I47*D47,1) -> 0 | K47: =TRUNC(E47+G47+I47,1) -> 0 | L47: =TRUNC(F47+H47+J47,1) -> 0 | N47: 455040DC1132CE9B0393373C85D96 | O47: 4400488D113AA6E85BF1C5C3F64001 | P47: F | Q47: F | R47: F | S47: 1 | T47: 0 | U47: 0.03 | AW47: 455040DC1132CE9B0393373C85D964400488D113AA6E85BF1C5C3F64001
A48: [ 합 계 ] | F48: =TRUNC(SUMIF(N46:N47, N45, F46:F47),0) -> 0 | H48: =TRUNC(SUMIF(N46:N47, N45, H46:H47),0) -> 0 | J48: =TRUNC(SUMIF(N46:N47, N45, J46:J47),0) -> 0 | L48: =F48+H48+J48 -> 0 | N48: TOTAL | O48: TOTAL
A50: 중계기-철거 EA ( 호표 9 ) | N50: 45D340BD1138CF00E921F4924CA90
A51: 내선전공 | B51: 일반공사 직종 | C51: 인 | E51: ='단가대비표-EF'!O31 -> 0 | F51: =TRUNC(E51*D51,1) -> 0 | G51: ='단가대비표-EF'!P31 -> 0 | H51: =TRUNC(G51*D51,1) -> 0 | I51: ='단가대비표-EF'!V31 -> 0 | J51: =TRUNC(I51*D51,1) -> 0 | K51: =TRUNC(E51+G51+I51,1) -> 0 | L51: =TRUNC(F51+H51+J51,1) -> 0 | N51: 45D340BD1138CF00E921F4924CA90 | O51: 45CA44F11138A931490AC448A0F93A2E47963 | P51: F | Q51: F | R51: T | V51: 1 | AW51: 45D340BD1138CF00E921F4924CA9045CA44F11138A931490AC448A0F93A2E47963
A52: 공구손료 | B52: 인력품의 3% | C52: 식 | E52: =TRUNC(SUMIF(V51:V52, RIGHTB(O52, 1), H51:H52)*U52, 2) -> 0 | F52: =TRUNC(E52*D52,1) -> 0 | G52: 0 | H52: =TRUNC(G52*D52,1) -> 0 | I52: 0 | J52: =TRUNC(I52*D52,1) -> 0 | K52: =TRUNC(E52+G52+I52,1) -> 0 | L52: =TRUNC(F52+H52+J52,1) -> 0 | N52: 45D340BD1138CF00E921F4924CA90 | O52: 4400488D113AA6E85BF1C5C3F64001 | P52: F | Q52: F | R52: F | S52: 1 | T52: 0 | U52: 0.03 | AW52: 45D340BD1138CF00E921F4924CA904400488D113AA6E85BF1C5C3F64001
A53: [ 합 계 ] | F53: =TRUNC(SUMIF(N51:N52, N50, F51:F52),0) -> 0 | H53: =TRUNC(SUMIF(N51:N52, N50, H51:H52),0) -> 0 | J53: =TRUNC(SUMIF(N51:N52, N50, J51:J52),0) -> 0 | L53: =F53+H53+J53 -> 0 | N53: TOTAL | O53: TOTAL

Sheet 단가대비표-EF
A1: 단 가 대 비 표
A2: [ 전남광주통합특별시의회 광주청사 환경개선공사(소방전기) ]
A3: 코 드 | B3: 품 명 | C3: 규격 | D3: 단위 | E3: 재 료 비 | P3: 노 무 비 | Q3: 경 비 | W3: 번 호 | X3: 비 고 | Y3: 품목구분 | Z3: 노임구분 | AA3: 소수점처리 | AB3: 자재구분
E4: 조달청가격 | F4: PAGE | G4: 거래가격 | H4: PAGE | I4: 유통물가 | J4: PAGE | K4: 조사가격1 | L4: PAGE | M4: 조사가격2 | N4: PAGE | O4: 적용단가 | Q4: 조달청가격 | R4: 거래가격 | S4: 유통물가 | T4: 조사가격1 | U4: 조사가격2 | V4: 적용단가
A5: 42274B8A113F5B2CC9FDC84D5C5A537F21FD0 | B5: 제어케이블 | C5: 제어케이블, 0.6/1kv, TFR-CVV-SB, 2C*1.5㎟ | D5: M | P5: 0 | Q5: 0 | R5: 0 | S5: 0 | T5: 0 | U5: 0 | V5: 0 | W5: 자재 1
A6: 42274B8A113F5B2CC9D18B52EEC2E5B5EE3A0 | B6: 저독성난연케이블 | C6: HFIX, 1.38㎜ | D6: M | P6: 0 | Q6: 0 | R6: 0 | S6: 0 | T6: 0 | U6: 0 | V6: 0 | W6: 자재 2
A7: 42274B8A113F5B2CC9D18B52EEC2E5B5EE3A1 | B7: 저독성난연케이블 | C7: HFIX, 1.78㎜ | D7: M | P7: 0 | Q7: 0 | R7: 0 | S7: 0 | T7: 0 | U7: 0 | V7: 0 | W7: 자재 3
A8: 42304D66113F405DEF7E9507D51CA947D240F | B8: 비상조명등 | C8: 소방검정품, 배광번호 33 이상제품 | D8: 개 | P8: 0 | Q8: 0 | R8: 0 | S8: 0 | T8: 0 | U8: 0 | V8: 0 | W8: 자재 4
A9: 42304D66113F405DCC9ED30010F00D4DD7FC3 | B9: 통로유도등 | C9: 복도통로유도등, 고휘도 | D9: 개 | P9: 0 | Q9: 0 | R9: 0 | S9: 0 | T9: 0 | U9: 0 | V9: 0 | W9: 자재 5
A10: 42304D66113F405DCC9ED30010F00D4DD7FC1 | B10: 음성점멸유도등 | C10: 중형(단면), 60분용, 고휘도, LED | D10: 개 | P10: 0 | Q10: 0 | R10: 0 | S10: 0 | T10: 0 | U10: 0 | V10: 0 | W10: 자재 6
A11: 42304D66113F405DCC9ED300065CFE51B25E2 | B11: 피난구유도등 | C11: 중형(단면), 60분용, 피난구유도등, 고휘도, LED | D11: 개 | P11: 0 | Q11: 0 | R11: 0 | S11: 0 | T11: 0 | U11: 0 | V11: 0 | W11: 자재 7
A12: 42304D66113F405DCC9ED300065CFE51B25ED | B12: 피난구유도등 | C12: 중형(양면), 60분용, 피난구유도등, 고휘도, LED | D12: 개 | P12: 0 | Q12: 0 | R12: 0 | S12: 0 | T12: 0 | U12: 0 | V12: 0 | W12: 자재 8
A13: 42304D66113F7D978C6CB048AD834355652C0 | B13: 시각경보기전원반 | C13: 시각경보기전원반, 15A | D13: 개 | P13: 0 | Q13: 0 | R13: 0 | S13: 0 | T13: 0 | U13: 0 | V13: 0 | W13: 자재 9
A14: 42304D66113F7D97AF3361364CF6A84B06EDF | B14: 아웃렛박스 | C14: 아웃렛박스, 8각, 54mm | D14: 개 | P14: 0 | Q14: 0 | R14: 0 | S14: 0 | T14: 0 | U14: 0 | V14: 0 | W14: 자재 10
A15: 42304D66113F7D97AF3361090511FF38F4588 | B15: 아웃렛박스 | C15: 아웃렛박스, 커버, 8각, 평형 | D15: 개 | P15: 0 | Q15: 0 | R15: 0 | S15: 0 | T15: 0 | U15: 0 | V15: 0 | W15: 자재 11
A16: 42304D66113F7D97D46574E35B402A573C7C9 | B16: 접속단자대 | C16: 단자대, TB, 20P 20A | D16: 개 | P16: 0 | Q16: 0 | R16: 0 | S16: 0 | T16: 0 | U16: 0 | V16: 0 | W16: 자재 12
... A29: 45574522113621DAF222801342E4A | B29: R형수신반 프로그램수정 | C29: 프로그램수정 | D29: 식 | P29: 0 | Q29: 0 | R29: 0 | S29: 0 | T29: 0 | U29: 0 | V29: 0 | W29: 자재 25
A30: 45574522113621DAF222801342E46 | B30: 축광식유도표지판 | C30: 완강기용 | D30: EA | Q30: 0 | R30: 0 | S30: 0 | T30: 0 | U30: 0 | V30: 0 | W30: 자재 26
A31: 45CA44F11138A931490AC448A0F93A2E47963 | B31: 내선전공 | C31: 일반공사 직종 | D31: 인 | Q31: 0 | R31: 0 | S31: 0 | T31: 0 | U31: 0 | V31: 0 | W31: 노임 1 | Y31: B
A32: 45CA44F11138A931490AC448A0F93A2E4796E | B32: 저압케이블전공 | C32: 일반공사 직종 | D32: 인 | O32: 0 | Q32: 0 | R32: 0 | S32: 0 | T32: 0 | U32: 0 | V32: 0 | W32: 노임 2 | Y32: B

Sheet 수량산출간지
A7: 2) 수 량 산 출 서

Sheet 산출-m
E1: 수 량 산 출 조 사 서
B2: 1.소방 설비 공사(기계)
B3: 품 명 | C3: 규 격 | D3: 단위 | E3: 구 간 | F3: 산 출 기 초 | G3: 산출량 | H3: 비 고
B5: 1-1. 지하 1층
B6: 백관(KSD3507) | C6: 50A | D6: M
B7: 백관(KSD3507) | C7: 40A | D7: M
B8: 백관(KSD3507) | C8: 32A | D8: M
B9: 백관(KSD3507) | C9: 25A | D9: M
B10: 엘보(SPP) | C10: 50A | D10: EA
B11: TEE | C11: 50A | D11: EA
B12: TEE | C12: 40A | D12: EA
B13: TEE | C13: 32A | D13: EA
B14: TEE | C14: 25A | D14: EA
B15: 레듀샤 | C15: 100A | D15: EA
B16: 레듀샤 | C16: 80A | D16: EA
B17: 레듀샤 | C17: 65A | D17: EA
... B20: 레듀샤 | C20: 32A | D20: EA
B21: SP헤드-하향식 | C21: 폐쇄형 플러쉬15A(72℃) | D21: EA | F21: 39 | G21: 39
B22: SP헤드-하향식 | C22: 폐쇄형 플러쉬15A(102℃) | D22: EA | F22: 1 | G22: 1
B23: 후렉시블관(승인제품) | C23: 2500L | D23: EA | F23: 40 | G23: 40
B24: CAP(나사식) | C24: 25A | D24: EA
B25: 소화기 | C25: 자동확산3.0kg | D25: EA | F25: 1 | G25: 1
B26: 백관(KSD3507)-철거 | C26: 50A | D26: M
B27: 백관(KSD3507)-철거 | C27: 40A | D27: M
B28: 백관(KSD3507)-철거 | C28: 32A | D28: M
B29: 백관(KSD3507)-철거 | C29: 25A | D29: M
B30: SP헤드-철거 | C30: 폐쇄형 플러쉬15A(72℃) | D30: EA | F30: 58 | G30: 58
B31: 1-2. 5층 전면부
B32: 백관(KSD3507) | C32: 50A | D32: M | F32: (1.0)*7+(2.0)*1 | G32: =(1)*7+(2)*1 -> 9
B33: 백관(KSD3507) | C33: 40A | D33: M | F33: (3.5)*5+(4+1+2+12)+(4.0)*2+(3.0)*2+(6.5)*1+(4.5)*4+(14)*1 | G33: =(3.5)*5+(4+1+2+12)+(4)*2+(3)*2+(6.5)*1+(4.5)*4+(14)*1 -> 89
B34: 백관(KSD3507) | C34: 32A | D34: M | F34: (2.0)*4+3+(3.0)*3+(6.0)*1+(2.5)*6+(1.0)*2 | G34: =(2)*4+3+(3)*3+(6)*1+(2.5)*6+(1)*2 -> 43
B35: 백관(KSD3507) | C35: 25A | D35: M | F35: (4.5)*6+12+(5.5)*2+(5.0)*3+(3.5)*3+(4.0)*2+(9.0)*1+(6.0)*1 | G35: =(4.5)*6+12+(5.5)*2+(5)*3+(3.5)*3+(4)*2+(9)*1+(6)*1 -> 98.5
B36: 엘보(SPP) | C36: 50A | D36: EA | F36: 9 | G36: 9
B37: 엘보(SPP) | C37: 40A | D37: EA | F37: 4 | G37: 4
B38: 엘보(SPP) | C38: 32A | D38: EA | F38: 1 | G38: 1
B39: 엘보(SPP) | C39: 25A | D39: EA | F39: 2+2 | G39: =2+2 -> 4
B40: TEE | C40: 50A | D40: EA | F40: (1)*7+(2)*1 | G40: =(1)*7+(2)*1 -> 9
B41: TEE | C41: 40A | D41: EA | F41: 1+(2)*15 | G41: =1+(2)*15 -> 31
B42: TEE | C42: 32A | D42: EA | F42: (2)*1+(1)*14 | G42: =(2)*1+(1)*14 -> 16
B43: TEE | C43: 25A | D43: EA | F43: (4)*1+(2)*16 | G43: =(4)*1+(2)*16 -> 36
B44: 레듀샤 | C44: 80A | D44: EA | F44: 8 | G44: 8
B45: 레듀샤 | C45: 65A | D45: EA | F45: 9 | G45: 9
B46: 레듀샤 | C46: 50A | D46: EA | F46: ((1)*7+(2)*1)*2 | G46: =((1)*7+(2)*1)*2 -> 18
B47: 레듀샤 | C47: 40A | D47: EA | F47: 1+(2)*15*2 | G47: =1+(2)*15*2 -> 61
B48: 레듀샤 | C48: 32A | D48: EA | F48: ((2)*1+(1)*14)*2 | G48: =((2)*1+(1)*14)*2 -> 32
B49: SP헤드-하향식 | C49: 폐쇄형 플러쉬15A(72℃) | D49: EA | F49: 88 | G49: 88
B50: SP헤드-하향식 | C50: 폐쇄형 플러쉬15A(102℃) | D50: EA | F50: 3 | G50: 3
B51: 후렉시블관(승인제품) | C51: 2500L | D51: EA | F51: 88+3 | G51: =88+3 -> 91
B52: CAP(나사식) | C52: 25A | D52: EA | F52: 17 | G52: 17
B53: 소화기 | C53: 자동확산3.0kg | D53: EA | F53: 1 | G53: 1
B54: 백관(KSD3507)-철거 | C54: 50A | D54: M | F54: (1.0)*7+(2.0)*4 | G54: =(1)*7+(2)*4 -> 15
B55: 백관(KSD3507)-철거 | C55: 40A | D55: M | F55: (4.0)*5+(4.5)*7+(4.0)*4 | G55: =(4)*5+(4.5)*7+(4)*4 -> 67.5
B56: 백관(KSD3507)-철거 | C56: 32A | D56: M | F56: (2.5)*12+(1.5)*4 | G56: =(2.5)*12+(1.5)*4 -> 36
B57: 백관(KSD3507)-철거 | C57: 25A | D57: M | F57: (5.5)*5+(5.0)*4+(4.5)*5+(3.5)*4 | G57: =(5.5)*5+(5)*4+(4.5)*5+(3.5)*4 -> 84
B58: SP헤드-철거 | C58: 폐쇄형 플러쉬15A(72℃) | D58: EA | F58: 96 | G58: 96
B59: 1-3. 5층 후면부
B60: 백관(KSD3507) | C60: 100A | D60: M | F60: (2+3.5+9.5+11) | G60: =(2+3.5+9.5+11) -> 26
B61: 백관(KSD3507) | C61: 65A | D61: M | F61: (13+1) | G61: =(13+1) -> 14
B62: 백관(KSD3507) | C62: 50A | D62: M | F62: (4+8+3) | G62: =(4+8+3) -> 15
B63: 백관(KSD3507) | C63: 40A | D63: M | F63: (2.0)*1 | G63: =(2)*1 -> 2
B64: 백관(KSD3507) | C64: 32A | D64: M | F64: (2.5)*1+(2.0)*1+(1.5)*3 | G64: =(2.5)*1+(2)*1+(1.5)*3 -> 9
B65: 백관(KSD3507) | C65: 25A | D65: M | F65: (8.0)*1+(9.5)*3+(6.5)*3+(9.0)*1+(3.5)*1+(5.5)*5+(5.0)*2+(4.5)*2 | G65: =(8)*1+(9.5)*3+(6.5)*3+(9)*1+(3.5)*1+(5.5)*5+(5)*2+(4.5)*2 -> 115
B66: 엘보(SPP) | C66: 100A | D66: M | F66: 3 | G66: 3
B67: 엘보(SPP) | C67: 50A | D67: EA | F67: 3 | G67: 3
B68: 엘보(SPP) | C68: 25A | D68: EA | F68: 1 | G68: 1
B69: TEE | C69: 150A | D69: EA | F69: 1 | G69: 1
B70: TEE | C70: 100A | D70: EA | F70: 1+6 | G70: =1+6 -> 7
B71: TEE | C71: 65A | D71: EA | F71: 6 | G71: 6
B72: TEE | C72: 40A | D72: EA | F72: 1+(1)*1 | G72: =1+(1)*1 -> 2
B73: TEE | C73: 32A | D73: EA | F73: 4+(1)*5 | G73: =4+(1)*5 -> 9
B74: TEE | C74: 25A | D74: EA | F74: 7+(3)*2+(4)*10 | G74: =7+(3)*2+(4)*10 -> 53
B75: 레듀샤 | C75: 150A | D75: EA | F75: 1 | G75: 1
B76: 레듀샤 | C76: 100A | D76: EA | F76: 1+6 | G76: =1+6 -> 7
B77: 레듀샤 | C77: 65A | D77: EA | F77: 6 | G77: 6
B78: 레듀샤 | C78: 50A | D78: EA | F78: 1 | G78: 1
B79: 레듀샤 | C79: 40A | D79: EA | F79: 1+(1)*1*2 | G79: =1+(1)*1*2 -> 3
B80: 레듀샤 | C80: 32A | D80: EA | F80: 4+(1)*5*2 | G80: =4+(1)*5*2 -> 14
B81: 소화전함(40A전용) | C81: 650x1200x180(외함:STS) | D81: EA | F81: 1 | G81: 1
B82: SP헤드-하향식 | C82: 폐쇄형 플러쉬15A(72℃) | D82: EA | F82: 54 | G82: 54
B83: SP헤드-하향식 | C83: 폐쇄형 플러쉬15A(102℃) | D83: EA | F83: 2 | G83: 2
B84: 후렉시블관(승인제품) | C84: 2500L | D84: EA | F84: 56 | G84: 56
B85: CAP(나사식) | C85: 25A | D85: EA | F85: 12*2 | G85: =12*2 -> 24
B86: 수격방지기 | C86: 65A | D86: EA | F86: 1 | G86: 1
B87: 앵글밸브(청소구) | C87: 40A | D87: EA | F87: 1 | G87: 1
B88: 소화기 | C88: 자동확산3.0kg | D88: EA | F88: 1 | G88: 1

Sheet 산출-j
B1: 수 량 산 출 조 사 서
B2: 2.소방 설비 공사(전기)
B3: 품 명 | C3: 규 격 | D3: 단위 | E3: 구 간 | F3: 산 출 기 초 | G3: 산출량 | H3: 비 고
B5: 2-1. 지하 1층
B6: 전선관 | C6: FLEX.TUB 일반 16C | D6: M | E6: 유도등 | F6: (2.5+2.5+4+1.5+5+1+2) | G6: =(2.5+2.5+4+1.5+5+1+2) -> 18.5
B7: 전선관 | C7: FLEX.TUB 일반 16C | D7: M | E7: 감지기 | F7: (18+11+15+5+3) | G7: =(18+11+15+5+3) -> 52
B8: 전선관 | C8: FLEX.TUB 일반 16C | D8: M | E8: 유도등 | F8: (4)*1.5 | G8: =(4)*1.5 -> 6
B9: 전선관 | C9: FLEX.TUB 일반 16C | D9: M | E9: 감지기 | F9: (10)*1.5 | G9: =(10)*1.5 -> 15
B10: 저독성난연절연전선 | C10: HFIX-1.78mm | D10: M | E10: 유도등 | F10: (2.5+2.5+4+1.5+5+1+2)*3+(4)*1.5*3 | G10: =(2.5+2.5+4+1.5+5+1+2)*3+(4)*1.5*3 -> 73.5
B11: 저독성난연절연전선 | C11: HFIX-1.38mm | D11: M | E11: 감지기 | F11: (18+11+15+5+3)*4+(10)*1.5*4 | G11: =(18+11+15+5+3)*4+(10)*1.5*4 -> 268
B12: 박스 | C12: 8각 54mm | D12: EA | F12: 7+1+2+1+4+1 | G12: =7+1+2+1+4+1 -> 16
B13: 박스카바 | C13: 8각 평카바 | D13: EA | F13: =F12 -> 7+1+2+1+4+1 | G13: =G12 -> 16
B14: 감지기 | C14: 차동식 | D14: EA | F14: 7 | G14: 7
B15: 감지기 | C15: 정온식 | D15: EA | F15: 1 | G15: 1
B16: 감지기 | C16: 연기 | D16: EA | F16: 2 | G16: 2
B17: 전자싸이렌 | C17: DC-24V | D17: EA | F17: 1 | G17: 1
B18: 고휘도피난구유도등 | C18: 중형(30분용)-LED TYPE | D18: EA | F18: 4 | G18: 4
B19: 비상조명등 | C19: DC24V(일반형) | D19: EA | F19: 1 | G19: 1
B20: 감지기-철거 | D20: EA | F20: 6 | G20: 6
B21: 전자싸이렌-철거 | C21: DC-24V | D21: EA | F21: 1 | G21: 1
B22: 피난구유도등-철거 | D22: EA | F22: 7 | G22: 7
B23: 2-2. 5층 전면부
B24: 전선관 | C24: FLEX.TUB 일반 16C | D24: M | E24: 시각경보기 | F24: (2+5+12+18+2+2+3) | G24: =(2+5+12+18+2+2+3) -> 44
B25: 전선관 | C25: FLEX.TUB 일반 16C | D25: M | E25: 유도등 | F25: (3+28+1+2) | G25: =(3+28+1+2) -> 34
B26: 전선관 | C26: FLEX.TUB 일반 16C | D26: M | E26: 감지기 | F26: (9+7+4+11+2+19+5+8+7+4+3+3) | G26: =(9+7+4+11+2+19+5+8+7+4+3+3) -> 82
B27: 전선관 | C27: FLEX.TUB 일반 16C | D27: M | E27: 유도등 | F27: (3)*1.5 | G27: =(3)*1.5 -> 4.5
B28: 전선관 | C28: FLEX.TUB 일반 16C | D28: M | E28: 감지기 | F28: (16)*1.5 | G28: =(16)*1.5 -> 24
B29: 저독성난연절연전선 | C29: HFIX-1.78mm | D29: M | E29: 시각경보기 | F29: (2+5+12+18+2+2+3)*2 | G29: =(2+5+12+18+2+2+3)*2 -> 88
B30: 저독성난연절연전선 | C30: HFIX-1.78mm | D30: M | E30: 유도등 | F30: (3+28+1+2)*3+(3)*1.5*3 | G30: =(3+28+1+2)*3+(3)*1.5*3 -> 115.5
B31: 저독성난연절연전선 | C31: HFIX-1.38mm | D31: M | E31: 감지기 | F31: (9+7+4+11+2+19+5+8+7+4+3+3)*4+(16)*1.5*4 | G31: =(9+7+4+11+2+19+5+8+7+4+3+3)*4+(16)*1.5*4 -> 424
B32: 박스 | C32: 8각 54mm | D32: EA | F32: 13+1+2+1+1+2+1 | G32: =13+1+2+1+1+2+1 -> 21
B33: 박스카바 | C33: 8각 평카바 | D33: EA | F33: =F32 -> 13+1+2+1+1+2+1 | G33: =G32 -> 21
B34: 감지기 | C34: 차동식 | D34: EA | F34: 13 | G34: 13
B35: 감지기 | C35: 정온식 | D35: EA | F35: 1 | G35: 1
B36: 감지기 | C36: 연기 | D36: EA | F36: 2 | G36: 2
B37: 전자싸이렌 | C37: DC-24V | D37: EA | F37: 1 | G37: 1
B38: 피난구유도등-음성점멸 | C38: 중형(30분용)-LED TYPE | D38: EA | F38: 1 | G38: 1
B39: 고휘도피난구유도등 | C39: 중형(30분용)-LED TYPE | D39: EA | F39: 2 | G39: 2
B40: 시각경보기 | C40: DC24V(일반형) | D40: EA | F40: 1 | G40: 1
B41: 감지기-철거 | D41: EA | F41: 11 | G41: 11
B42: 전자싸이렌-철거 | C42: DC-24V | D42: EA | F42: 1 | G42: 1
B43: 피난구유도등-철거 | D43: EA | F43: 5 | G43: 5
B44: 2-3. 5층 후면부
B45: 전선관 | C45: STEEL 28C | D45: M | E45: 간선 | F45: (3+11+8+3) | G45: =(3+11+8+3) -> 25
B46: 전선관 | C46: STEEL 22C | D46: M | E46: 간선 | F46: (3+11+8+3) | G46: =(3+11+8+3) -> 25
B47: 전선관 | C47: FLEX.TUB 일반 16C | D47: M | E47: 시각경보기 | F47: (2+10+5+3+2+2+2+2+3) | G47: =(2+10+5+3+2+2+2+2+3) -> 31
B48: 전선관 | C48: FLEX.TUB 일반 16C | D48: M | E48: 유도등 | F48: (4+11+3+10+7+2+2+3) | G48: =(4+11+3+10+7+2+2+3) -> 42
B49: 전선관 | C49: FLEX.TUB 일반 16C | D49: M | E49: 감지기+싸이렌 | F49: (21+9+11+4+2+2+3)+(8+6+3+2+3) | G49: =(21+9+11+4+2+2+3)+(8+6+3+2+3) -> 74
B50: 전선관 | C50: FLEX.TUB 일반 16C | D50: M | E50: 유도등 | F50: (5)*1.5 | G50: =(5)*1.5 -> 7.5
B51: 전선관 | C51: FLEX.TUB 일반 16C | D51: M | E51: 감지기 | F51: (11)*1.5 | G51: =(11)*1.5 -> 16.5
B52: 케이블 | C52: FR-CVV-SB 1.5sq-1pr | D52: M | E52: 간선 | F52: (3+11+8+3) | G52: =(3+11+8+3) -> 25
B53: 저독성난연절연전선 | C53: HFIX-1.78mm | D53: M | E53: 간선 | F53: (3+11+8+3)*8 | G53: =(3+11+8+3)*8 -> 200
B54: 저독성난연절연전선 | C54: HFIX-1.78mm | D54: M | E54: 시각경보기 | F54: (2+10+5+3+2+2+2+2+3)*2 | G54: =(2+10+5+3+2+2+2+2+3)*2 -> 62
B55: 저독성난연절연전선 | C55: HFIX-1.78mm | D55: M | E55: 유도등 | F55: (4+11+3+10+7+2+2+3)*3+(5)*1.5*3 | G55: =(4+11+3+10+7+2+2+3)*3+(5)*1.5*3 -> 148.5
B56: 저독성난연절연전선 | C56: HFIX-1.38mm | D56: M | E56: 감지기+싸이렌 | F56: (21+9+11+4+2+2+3)*4+(10)*1.5*4+(8+6+3+2+3)*2+(1)*1.5*2 | G56: =(21+9+11+4+2+2+3)*4+(10)*1.5*4+(8+6+3+2+3)*2+(1)*1.5*2 -> 315
B57: 박스 | C57: 8각 54mm | D57: EA | F57: 10+1+1+5+1+1+1 | G57: =10+1+1+5+1+1+1 -> 20
B58: 박스카바 | C58: 8각 평카바 | D58: EA | F58: =F57 -> 10+1+1+5+1+1+1 | G58: =G57 -> 20
B59: 발신기 SET | C59: B L P(소화전겸용) | D59: EA | F59: 1 | G59: 1
B60: 중계기 | C60: 2/2 감시제어 | D60: EA | F60: =F59 -> 1 | G60: =G59 -> 1
B61: R형 수신반 | C61: 프로그램 수정 | D61: EA | F61: =F60 -> 1 | G61: =G60 -> 1
B62: 감지기 | C62: 차동식 | D62: EA | F62: 8 | G62: 8
B63: 감지기 | C63: 정온식 | D63: EA | F63: 1 | G63: 1
B64: 감지기 | C64: 연기 | D64: EA | F64: 1 | G64: 1
B65: 전자싸이렌 | C65: DC-24V | D65: EA | F65: 1 | G65: 1
B66: 피난구유도등-음성점멸 | C66: 중형(30분용)-LED TYPE | D66: EA | F66: 1 | G66: 1
B67: 고휘도피난구유도등 | C67: 중형(30분용)-LED TYPE | D67: EA | F67: 4 | G67: 4
B68: 고휘도통로유도등 | C68: 소형(30분용)-LED TYPE | D68: EA | F68: 1 | G68: 1
B69: 비상조명등 | C69: DC24V(일반형) | D69: EA | F69: 1 | G69: 1
B70: 유도표지판 | C70: 완강기용 | D70: EA | F70: 2 | G70: 2
B71: 시각경보기 | C71: DC24V(일반형) | D71: EA | F71: 1 | G71: 1
B72: 시각경보기전원반 | C72: 15A | D72: EA | F72: 1 | G72: 1
B73: 감지기-철거 | D73: EA | F73: 12 | G73: 12
B74: 전자싸이렌-철거 | C74: DC-24V | D74: EA | F74: 1 | G74: 1
B75: 피난구유도등-철거 | D75: EA | F75: 5 | G75: 5
B76: 방출표시등-철거 | D76: EA | F76: 1 | G76: 1
B77: 수동조작함-철거 | C77: DC-24V | D77: EA | F77: 1 | G77: 1
B78: 발신기 SET-철거 | C78: B L P(단독형) | D78: EA | F78: 1 | G78: 1
B79: 중계기-철거 | C79: 2/2 감시제어 | D79: EA | F79: =F78 -> 1 | G79: =G78 -> 1
