Workbook
Name 경비소계: '원가계산서 (건축)'!$G$31
Name 공급가: '원가계산서 (건축)'!$G$36
Name 공사기간: '원가계산서 (건축)'!$AD$14
Name 관급자재: '원가계산서 (건축)'!$G$39
Name 노무비소계: '원가계산서 (건축)'!$G$11
Name 노무비요율: '원가계산서 (건축)'!$G$45:$H$45
Name 노무비요율2: '원가계산서 (건축)'!$E$46:$G$46
Name 노무비요율3: '원가계산서 (건축)'!$E$45:$G$45
Name 노무비요율4: '원가계산서 (건축)'!$E$44:$G$44
Name 단수정리: '원가계산서 (건축)'!$G$45
Name 대상액1: '원가계산서 (건축)'!$AD$13
Name 도급: '원가계산서 (건축)'!$G$38
Name 도급자관급: '원가계산서 (건축)'!$G$40
Name 부가: '원가계산서 (건축)'!$G$37
Name 순공사비: '원가계산서 (건축)'!$G$5,'원가계산서 (건축)'!$G$9,'원가계산서 (건축)'!$G$12
Name 순공사비계: '원가계산서 (건축)'!$G$32
Name 이_윤: '원가계산서 (건축)'!$G$34
Name 일반관리: '원가계산서 (건축)'!$G$33
Name 재료비소계: '원가계산서 (건축)'!$G$8
Name 총공사비: '원가계산서 (건축)'!$G$42

Sheet 총괄표(세로)
B1: 과장
AF3: 2026 년도
B6: 담당 | E6: 전남광주통합특별시청 광주청사 의회 리모델링
E8: 설계예산서
B11: 담당자
J12: ※ | K12: 공사개요
I13: ○ | J13: 공사명 | M13: : | N13: 전남광주통합특별시청 광주청사 의회 리모델링
I14: ○ | J14: 위치 | M14: :
I15: ○ | J15: 공사내용 | M15: :
B16: 심사자
J18: ※ | K18: 사업비
H19: =[0]!총공사비 -> 0 | I19: ○ | J19: =IF(집계표!A7="02. 기계설비공사","건축·기계설비공사","건축공사") -> 건축공사 | O19: : | P19: =IF(H19=0,"","일금 "&NUMBERSTRING(H19,1)&"원정 (￦"&TEXT(H19,"#,##0")&"- )") | AH19: =MID([1]집계표!A5,4,3)&"·"&MID([1]집계표!A6,4,5)&"공사" -> ·공사
I20: =IF(H20="","","○") | J20: =IF(H20="","","전기공사") | O20: =IF(H20="","",":") | P20: =IF(H20=0,"","일금 "&NUMBERSTRING(H20,1)&"원정 (￦"&TEXT(H20,"#,##0")&"- )")
B21: 조사자 | I21: =IF(H21="","","○") | J21: =IF(H21="","","통신공사") | O21: =IF(H21="","",":") | P21: =IF(H21=0,"","일금 "&NUMBERSTRING(H21,1)&"원정 (￦"&TEXT(H21,"#,##0")&"- )")
I22: =IF(H22="","","○") | J22: =IF(H22="","","소방공사") | O22: =IF(H22="","",":") | P22: =IF(H22=0,"","일금 "&NUMBERSTRING(H22,1)&"원정 (￦"&TEXT(H22,"#,##0")&"- )")
I23: =IF(H23="","","○") | J23: =IF(H23="","","토목공사") | O23: =IF(H23="","",":") | P23: =IF(H23=0,"","일금 "&NUMBERSTRING(H23,1)&"원정 (￦"&TEXT(H23,"#,##0")&"- )")
I24: =IF(H24="","","○") | J24: =IF(H24="","","00공사") | O24: =IF(H24="","",":") | P24: =IF(H24=0,"","일금 "&NUMBERSTRING(H24,1)&"원정 (￦"&TEXT(H24,"#,##0")&"- )")
B26: 설계자 | H26: =SUM(H19:H25) -> 0 | I26: =IF(H26="","","○") -> ○ | J26: 총공사비 | M26: =IF(H26="","",":") -> : | N26: =IF(H26=0,"","일금 "&NUMBERSTRING(H26,1)&"원정 (￦"&TEXT(H26,"#,##0")&"- )")

Sheet 원가계산서 (건축)
A1: 공 사 원 가 계 산 서 ( 건 축 )
A3: Project: 전남광주통합특별시청 광주청사 의회 리모델링 | W3: ="금액 : "&NUMBERSTRING(G42,1)&"원정"&"( \ "&TEXT(G42,"#,##0")&" )" -> 금액 : 영원정( \ 0 )
A4: 비목 | G4: 금액 | H4: 구성비 | Q4: 비고
A5: 순 공 사 비 | C5: 재료비 | E5: 직접재료비 | G5: =집계표!F28 -> 0
E6: 간접재료비
E7: 작업설, 부산물(△)
E8: [소계] | G8: =SUM(G5:G7) -> 0
C9: 노무비 | E9: 직접노무비 | G9: =집계표!H28 -> 0
E10: 간접노무비 | G10: =TRUNC(G9*AD5%) -> 0 | H10: =IF(AD5="","","직접노무비 * "&AD5&"%") | Q10: 직접공사비 기준
E11: [소계] | G11: =SUM(G9:G10) -> 0
C12: 경 비 | E12: 기계경비 | G12: =집계표!J28 -> 0
E13: 산재보험료 | G13: =TRUNC(G11*Z12%) -> 0 | H13: =IF(Z12="","","노무비 * "&Z12&"%") | Q13: 모든 건설공사에 적용
E14: 고용보험료 | G14: =TRUNC(G11*Z13%) -> 0 | H14: =IF(Z13="","","노무비 * "&Z13&"%") | Q14: 추정금액 기준
E15: 국민건강보험료 | G15: =TRUNC(G9*Z14%) -> 0 | H15: =IF(Z14="","","직접노무비 * "&Z14&"%") | Q15: 1개월 이상인 모든 공사에 적용
E16: 국민연금보험료 | G16: =TRUNC(G9*Z15%) -> 0 | H16: =IF(Z15="","","직접노무비 * "&Z15&"%") | Q16: 1개월 이상인 모든 공사에 적용
E17: 노인장기요양보험료 | G17: =TRUNC(G15*Z16%) -> 0 | H17: =IF(Z16="","","건강보험료 * "&Z16&"%") | Q17: 1개월 이상인 모든 공사에 적용
E18: 퇴직공제부금비 | G18: =TRUNC(G9*Z17%) -> 0 | H18: =IF(Z17="","","직접노무비 * "&Z17&"%") | Q18: 추정금액 1억 이상인 공사에 적용
E19: 산업안전보건관리비 | G19: =MIN(G20:G21) -> 0 | H19: =IF(G19=G20,H20,H21)
E20: (비교값) 소계제외 | G20: =TRUNC((G8+G9+도급자관급/1.1054)*Z18%) -> 0 | H20: =IF(Z18="","","(재료비+직노+관급자재비/1.1054) * "&Z18&"%") | Q20: =IF(Z18="","",IF(G19=G20,"←최소값적용","")) | X20: =도급+도급자관급 -> 0
E21: (비교값) 소계제외 | G21: =TRUNC((G8+G9)*Z18%*1.2) -> 0 | H21: =IF(Z18="","","(재료비+직노) * "&Z18&"% * 1.2 ") | Q21: =IF(Z18="","",IF(G19=G21,"←최소값적용",""))
E22: 건설안전관리비 | G22: =IF(AE14<1,"",TRUNC((재료비소계+G9)*Z22%)) | H22: =IF(AE14<1,"","(재료비+직노) * "&Z22&"%")
E23: 품질관리비
E24: 기타경비 | G24: =TRUNC((G8+G11)*AD6%) -> 0 | H24: =IF(AD6="","","(재료비+노무비) * "&AD6&"%") | Q24: 직접공사비 기준
E25: 석면분담금 | G25: =TRUNC(G11*Z24%) -> 0 | H25: =IF(Z12="","","노무비 * "&Z24&"%") | Q25: 모든 건설공사에 적용
E26: 임금채권부담금 | G26: =TRUNC(G11*Z25%) -> 0 | H26: =IF(Z12="","","노무비 * "&Z25&"%") | Q26: 모든 건설공사에 적용
E27: 환경보전비 | G27: =TRUNC((G8+G9+G12)*Z20%) -> 0 | H27: =IF(Z20="","","(재료비+직노+기계경비) * "&Z20&"%")
E28: 하도급지급보증수수료 | G28: =TRUNC((G8+G9+G12)*Z21%) -> 0 | H28: =IF(Z21=0,"","(재료비+직노+기계경비) * "&Z21&"%") | Q28: 추정가격 기준
E29: 건설기계대여대금 지급보증서발급수수료 | G29: =TRUNC((G8+G9+G12)*Z23%) -> 0 | H29: =IF(Z23=0,"","(재료비+직노+기계경비) * "&Z23&"%")
E30: 공사이행보증수수료 | G30: =IF(AE14<1,"",VLOOKUP((IF(AD10>=50000000000,5,IF(AD10>=25000000000,4,IF(AD10>=12000000000,3,IF(AD10>=7000000000,2,1))))),AB56:AG60,6,1)) | H30: =IF(AE14<1,"",VLOOKUP((IF(AD10>=50000000000,5,IF(AD10>=25000000000,4,IF(AD10>=12000000000,3,IF(AD10>=7000000000,2,1))))),AB55:AG60,3,1)) | Q30: 직접공사비 기준
E31: [소계] | G31: =SUM(G12:G30)-G20-G21 -> 0
A32: 계 | G32: =SUM(G31,G11,G8) -> 0
B33: 일반관리비 | G33: =TRUNC(G32*AD7%) -> 0 | H33: =IF(AD7="","","계 * "&AD7&"%") | Q33: 추정가격 기준
B34: 이윤 | G34: =TRUNC((G11+G31+G33)*AD8%) -> 0 | H34: =IF(AD8="","","(노무비+경비+일반관리비) * "&AD8&"%") | Q34: 추정가격 기준
B35: 폐기물처리비 | G35: =SUMIF(집계표!O5:O31,"p",집계표!L5:L31) -> 0
B36: 공급가액 | F36: 공급가액 | G36: =TRUNC(SUM(G32:G35),-4) -> 0
B37: 부가가치세 | F37: 부가가치세 | G37: =TRUNC(공급가*10%) -> 0 | H37: 공급가액 * 10%
B38: 도급액 | F38: 도급액 | G38: =ROUNDDOWN(TRUNC(SUM(G36:G37)),-3) -> 0
B39: 관급자재비 | F39: 관급자재비 | G39: =SUM(G40:G41) -> 0
C40: 관급자재비(도급자설치) | H40: 안전관리비 계상에 적용
C41: 관급자재비(관급자설치) | H41: 안전관리비 계상에서 제외
B42: 총공사비 | F42: 총공사비 | G42: =ROUNDDOWN(SUM(G38:G39),-3) -> 0 | H42: 천단위미만 절사
E44: 노무비요율 | G44: 1
E47: 총 공사비 | G47: ='총괄표(세로)'!H26 -> 0
E48: 목표액
E49: 차이 | G49: =G47-G48 -> 0

Sheet 집계표
A1: 집 계 표
A2: Project: 전남광주통합특별시청 광주청사 의회 리모델링
A3: 분 류 명 | B3: 규 격 | C3: 단위 | D3: 수량 | E3: 재 료 비 | G3: 노 무 비 | I3: 경 비 | K3: 합 계 | M3: 비 고
E4: 단가 | F4: 금액 | G4: 단가 | H4: 금액 | I4: 단가 | J4: 금액 | K4: 단가 | L4: 금액
A5: 01. 건축공사 | C5: 식 | D5: 1 | E5: =TRUNC(공종별집계표!G27,0) -> 0 | F5: =D5*E5 -> 0 | G5: =TRUNC(공종별집계표!I27,0) -> 0 | H5: =D5*G5 -> 0 | I5: =TRUNC(공종별집계표!K27,0) -> 0 | J5: =D5*I5 -> 0 | K5: =E5+G5+I5 -> 0 | L5: =F5+H5+J5 -> 0 | N5: 10 | O5: S
A7: 03. 폐기물처리비(건축) | C7: 식 | D7: 1 | E7: =TRUNC(VLOOKUP("*폐기물처리비",공종별집계표!$B$5:$K$100,5,FALSE),0) -> 0 | F7: =D7*E7 -> 0 | G7: =TRUNC(VLOOKUP("*폐기물처리비",공종별집계표!$B$5:$K$100,7,FALSE),0) -> 0 | H7: =D7*G7 -> 0 | I7: =TRUNC(VLOOKUP("*폐기물처리비",공종별집계표!$B$5:$K$100,9,FALSE),0) -> 0 | J7: =D7*I7 -> 0 | K7: =E7+G7+I7 -> 0 | L7: =F7+H7+J7 -> 0 | O7: P
A28: < 계 > | F28: =SUMIF(O5:O27,"=S",F5:F27) -> 0 | H28: =SUMIF(O5:O27,"=S",H5:H27) -> 0 | J28: =SUMIF(O5:O27,"=S",J5:J27) -> 0 | L28: =SUMIF(O5:O27,"=S",L5:L27) -> 0

Sheet 공종별집계표
B1: 공 종 별 집 계 표
B2: Project: 전남광주통합특별시청 광주청사 의회 리모델링
B3: 분 류 명 | C3: 규 격 | D3: 단위 | E3: 수량 | F3: 재 료 비 | H3: 노 무 비 | J3: 경 비 | L3: 합 계 | N3: 비 고
F4: 단가 | G4: 금액 | H4: 단가 | I4: 금액 | J4: 단가 | K4: 금액 | L4: 단가 | M4: 금액
B5: 건축공사
B6: 1. 철거 | D6: 식 | E6: 1 | F6: =F7 -> 0 | G6: =E6*F6 -> 0 | H6: =H7 -> 0 | I6: =E6*H6 -> 0 | J6: =J7 -> 0 | K6: =E6*J6 -> 0 | L6: =F6+H6+J6 -> 0 | M6: =G6+I6+K6 -> 0 | O6: 1001!!!!!!!!!! | P6: S
B7: 1.1. 철거공사 | D7: 식 | E7: 1 | F7: =TRUNC('건축공사 내역'!H27,0) -> 0 | G7: =E7*F7 -> 0 | H7: =TRUNC('건축공사 내역'!J27,0) -> 0 | I7: =E7*H7 -> 0 | J7: =TRUNC('건축공사 내역'!L27,0) -> 0 | K7: =E7*J7 -> 0 | L7: =F7+H7+J7 -> 0 | M7: =G7+I7+K7 -> 0 | O7: 100121!!!!!!!!
B8: 1.2. 폐기물처리비 | D8: 식 | E8: 1 | F8: =TRUNC('건축공사 내역'!H50,0) -> 0 | G8: =E8*F8 -> 0 | H8: =TRUNC('건축공사 내역'!J50,0) -> 0 | I8: =E8*H8 -> 0 | J8: =TRUNC('건축공사 내역'!L50,0) -> 0 | K8: =E8*J8 -> 0 | L8: =F8+H8+J8 -> 0 | M8: =G8+I8+K8 -> 0 | O8: 100123!!!!!!!!
B9: 2. 본동 | D9: 식 | E9: 1 | F9: =F10+F11+F12+F13+F14+F15+F16+F17+F18+F19+F20+F21+F22 -> 0 | G9: =E9*F9 -> 0 | H9: =H10+H11+H12+H13+H14+H15+H16+H17+H18+H19+H20+H21+H22 -> 0 | I9: =E9*H9 -> 0 | J9: =J10+J11+J12+J13+J14+J15+J16+J17+J18+J19+J20+J21+J22 -> 0 | K9: =E9*J9 -> 0 | L9: =F9+H9+J9 -> 0 | M9: =G9+I9+K9 -> 0 | O9: 1002!!!!!!!!!! | P9: S
B10: 2.1. 가설및공통공사 | D10: 식 | E10: 1 | F10: =TRUNC('건축공사 내역'!H73,0) -> 0 | G10: =E10*F10 -> 0 | H10: =TRUNC('건축공사 내역'!J73,0) -> 0 | I10: =E10*H10 -> 0 | J10: =TRUNC('건축공사 내역'!L73,0) -> 0 | K10: =E10*J10 -> 0 | L10: =F10+H10+J10 -> 0 | M10: =G10+I10+K10 -> 0 | O10: 100201!!!!!!!!
B11: 2.2. 방수공사 | D11: 식 | E11: 1 | F11: =TRUNC('건축공사 내역'!H96,0) -> 0 | G11: =E11*F11 -> 0 | H11: =TRUNC('건축공사 내역'!J96,0) -> 0 | I11: =E11*H11 -> 0 | J11: =TRUNC('건축공사 내역'!L96,0) -> 0 | K11: =E11*J11 -> 0 | L11: =F11+H11+J11 -> 0 | M11: =G11+I11+K11 -> 0 | O11: 100207!!!!!!!!
B12: 2.3. 타일공사 | D12: 식 | E12: 1 | F12: =TRUNC('건축공사 내역'!H119,0) -> 0 | G12: =E12*F12 -> 0 | H12: =TRUNC('건축공사 내역'!J119,0) -> 0 | I12: =E12*H12 -> 0 | J12: =TRUNC('건축공사 내역'!L119,0) -> 0 | K12: =E12*J12 -> 0 | L12: =F12+H12+J12 -> 0 | M12: =G12+I12+K12 -> 0 | O12: 100208!!!!!!!!
B13: 2.4. 석공사 | D13: 식 | E13: 1 | F13: =TRUNC('건축공사 내역'!H142,0) -> 0 | G13: =E13*F13 -> 0 | H13: =TRUNC('건축공사 내역'!J142,0) -> 0 | I13: =E13*H13 -> 0 | J13: =TRUNC('건축공사 내역'!L142,0) -> 0 | K13: =E13*J13 -> 0 | L13: =F13+H13+J13 -> 0 | M13: =G13+I13+K13 -> 0 | O13: 100209!!!!!!!!
B14: 2.5. 목공사 | D14: 식 | E14: 1 | F14: =TRUNC('건축공사 내역'!H169,0) -> 0 | G14: =E14*F14 -> 0 | H14: =TRUNC('건축공사 내역'!J169,0) -> 0 | I14: =E14*H14 -> 0 | J14: =TRUNC('건축공사 내역'!L169,0) -> 0 | K14: =E14*J14 -> 0 | L14: =F14+H14+J14 -> 0 | M14: =G14+I14+K14 -> 0 | O14: 100210!!!!!!!!
B15: 2.6. 금속공사 | D15: 식 | E15: 1 | F15: =TRUNC('건축공사 내역'!H192,0) -> 0 | G15: =E15*F15 -> 0 | H15: =TRUNC('건축공사 내역'!J192,0) -> 0 | I15: =E15*H15 -> 0 | J15: =TRUNC('건축공사 내역'!L192,0) -> 0 | K15: =E15*J15 -> 0 | L15: =F15+H15+J15 -> 0 | M15: =G15+I15+K15 -> 0 | O15: 100211!!!!!!!!
B16: 2.7. 미장공사 | D16: 식 | E16: 1 | F16: =TRUNC('건축공사 내역'!H215,0) -> 0 | G16: =E16*F16 -> 0 | H16: =TRUNC('건축공사 내역'!J215,0) -> 0 | I16: =E16*H16 -> 0 | J16: =TRUNC('건축공사 내역'!L215,0) -> 0 | K16: =E16*J16 -> 0 | L16: =F16+H16+J16 -> 0 | M16: =G16+I16+K16 -> 0 | O16: 100212!!!!!!!!
B17: 2.8. 창호공사 | D17: 식 | E17: 1 | F17: =TRUNC('건축공사 내역'!H238,0) -> 0 | G17: =E17*F17 -> 0 | H17: =TRUNC('건축공사 내역'!J238,0) -> 0 | I17: =E17*H17 -> 0 | J17: =TRUNC('건축공사 내역'!L238,0) -> 0 | K17: =E17*J17 -> 0 | L17: =F17+H17+J17 -> 0 | M17: =G17+I17+K17 -> 0 | O17: 100213!!!!!!!!
B18: 2.9. 유리공사 | D18: 식 | E18: 1 | F18: =TRUNC('건축공사 내역'!H261,0) -> 0 | G18: =E18*F18 -> 0 | H18: =TRUNC('건축공사 내역'!J261,0) -> 0 | I18: =E18*H18 -> 0 | J18: =TRUNC('건축공사 내역'!L261,0) -> 0 | K18: =E18*J18 -> 0 | L18: =F18+H18+J18 -> 0 | M18: =G18+I18+K18 -> 0 | O18: 100214!!!!!!!!
B19: 2.10. 도장공사 | D19: 식 | E19: 1 | F19: =TRUNC('건축공사 내역'!H284,0) -> 0 | G19: =E19*F19 -> 0 | H19: =TRUNC('건축공사 내역'!J284,0) -> 0 | I19: =E19*H19 -> 0 | J19: =TRUNC('건축공사 내역'!L284,0) -> 0 | K19: =E19*J19 -> 0 | L19: =F19+H19+J19 -> 0 | M19: =G19+I19+K19 -> 0 | O19: 100215!!!!!!!!
B20: 2.11. 수장공사 | D20: 식 | E20: 1 | F20: =TRUNC('건축공사 내역'!H313,0) -> 0 | G20: =E20*F20 -> 0 | H20: =TRUNC('건축공사 내역'!J313,0) -> 0 | I20: =E20*H20 -> 0 | J20: =TRUNC('건축공사 내역'!L313,0) -> 0 | K20: =E20*J20 -> 0 | L20: =F20+H20+J20 -> 0 | M20: =G20+I20+K20 -> 0 | O20: 100216!!!!!!!!
B22: 2.13. 골재비및운반비 | D22: 식 | E22: 1 | F22: =TRUNC('건축공사 내역'!H336,0) -> 0 | G22: =E22*F22 -> 0 | H22: =TRUNC('건축공사 내역'!J336,0) -> 0 | I22: =E22*H22 -> 0 | J22: =TRUNC('건축공사 내역'!L336,0) -> 0 | K22: =E22*J22 -> 0 | L22: =F22+H22+J22 -> 0 | M22: =G22+I22+K22 -> 0 | O22: 100222!!!!!!!!
A27: 10 | B27: < 계 > | G27: =SUMIF(P5:P26,"=S",G5:G26) -> 0 | I27: =SUMIF(P5:P26,"=S",I5:I26) -> 0 | K27: =SUMIF(P5:P26,"=S",K5:K26) -> 0 | M27: =SUMIF(P5:P26,"=S",M5:M26) -> 0 | O27: 10

Sheet 건축공사 내역
A1: 내 역 서 | C1: 내 역 서(BILL OF ESTIMATE)
C2: Project: 전남광주통합특별시청 광주청사 의회 리모델링 - 건축공사
A3: 공종 | B3: 코드 | C3: 품 명 | D3: 규 격 | E3: 단위 | F3: 수량 | G3: 재 료 비 | I3: 노 무 비 | K3: 경 비 | M3: 합 계 | O3: 비 고
G4: 단가 | H4: 금액 | I4: 단가 | J4: 금액 | K4: 단가 | L4: 금액 | M4: 단가 | N4: 금액
C5: 1.1. 철거 - 철거공사
A6: 0121!!!!!!!! | B6: 1119160220292341 | C6: 철강설 | D6: 고철, 작업설부산물 | E6: TON | F6: -46.02 | P6: S | BB6: M
A7: 0121!!!!!!!! | B7: 1119160220292351 | C7: 철강설 | D7: 스텐레스, 작업설부산물 | E7: kg | F7: -1437.85 | P7: S | BB7: M
A8: 0121!!!!!!!! | B8: AAD151106020 | C8: 혼합건설폐기물 상차비 | D8: (매립지반입대상 폐기물 포함) | E8: TON | F8: 45.671 | P8: S | BB8: X
A9: 0121!!!!!!!! | B9: AQA122160049 | BB9: U
A10: 0121!!!!!!!! | B10: AQA800105601 | C10: 악세스 플로어 철거 | E10: M2 | F10: 473.43 | P10: S | BB10: U
A11: 0121!!!!!!!! | B11: AQA120163006 | C11: 경사 슬로프 철거 | D11: H:120, W:2200 | E11: M | F11: 2.2 | P11: S | BB11: U
A12: 0121!!!!!!!! | B12: AQA120163007 | C12: 경사 슬로프 철거 | D12: H:120, W:1350 | E12: M | F12: 7.62 | P12: S | BB12: U
A13: 0121!!!!!!!! | B13: AQA120163009 | C13: SGP 패널 철거 | D13: 65mm | E13: M2 | F13: 228.98 | P13: S | BB13: U
A14: 0121!!!!!!!! | B14: AQA120161009 | C14: 목재 칸막이벽 철거 | D14: W60+석고보드(양면 2겹) | E14: M2 | F14: 83.04 | P14: S | BB14: U
A15: 0121!!!!!!!! | B15: AQA800050018 | C15: 경량벽체철골틀 해체 | D15: 110mm+석고보드(양면 2겹) | E15: M2 | F15: 151.32 | P15: S | BB15: U
A16: 0121!!!!!!!! | B16: AQA800050019 | C16: 경량벽체철골틀 해체 | D16: 160mm+석고보드(양면 2겹) | E16: M2 | F16: 84.64 | P16: S | BB16: U
A17: 0121!!!!!!!! | B17: AQA800020010 | C17: 흡음텍스 해체 | E17: M2 | F17: 3235.5 | P17: S | BB17: U
A18: 0121!!!!!!!! | B18: AQA800030010 | C18: 경량천장철골틀 해체 | E18: M2 | F18: 3235.5 | P18: S | BB18: U
A19: 0121!!!!!!!! | B19: AQA800080010 | C19: PVC계바닥재 해체 | E19: M2 | F19: 1223.53 | P19: S | BB19: U
A20: 0121!!!!!!!! | B20: AQA800116120 | C20: 철재문 철거 | E20: M2 | F20: 15.12 | P20: S | BB20: U
A21: 0121!!!!!!!! | B21: AQA800116150 | C21: 목재문 철거 | E21: M2 | F21: 39.4 | P21: S | BB21: U
A22: 0121!!!!!!!! | B22: AQA800116170 | C22: 플라스틱창 철거 | D22: 유리철거 포함 | E22: M2 | F22: 2.88 | P22: S | BB22: U
A23: 0121!!!!!!!! | B23: AQA800116180 | C23: 스텐레스강화유리문 철거 | D23: 유리철거 포함 | E23: M2 | F23: 53.24 | P23: S | BB23: U
A24: 0121!!!!!!!! | B24: AQA800103599 | C24: 배식대 상판 철거 | D24: 500*1.5t | E24: M | F24: 4.5 | P24: S | BB24: U
A25: 0121!!!!!!!! | B25: AQA124200108 | BB25: U
A26: 0121!!!!!!!! | B26: AQA124200109 | BB26: U
B27: 100121!!!!!!!! | C27: < 계 >
C28: 1.2. 철거 - 폐기물처리비
A29: 0123!!!!!!!! | B29: AAD150104100 | C29: 혼합건설폐기물 | D29: 불연성 건설폐기물에 가연성 5% 이하 혼합 | E29: TON | F29: 3.3 | P29: S | BB29: X
A30: 0123!!!!!!!! | B30: AAD150105301 | C30: 혼합건설폐기물 | D30: 가연성 폐기물, 소각 | E30: TON | F30: 5.903 | P30: S | BB30: X
A31: 0123!!!!!!!! | B31: AAD151106510 | C31: 혼합건설폐기물 운반비 | D31: 16톤 암롤트럭, 30km | E31: TON | F31: 45.671 | P31: S | BB31: X
A32: 0123!!!!!!!! | B32: AAD150105200 | C32: 혼합건설폐기물 | D32: 그 밖의 건설폐기물에 가연성 5% 이하 혼합 | E32: TON | F32: 36.468 | P32: S | BB32: X
B50: 100123!!!!!!!! | C50: < 계 >
C51: 2.1. 본동 - 가설및공통공사
A52: 0201!!!!!!!! | B52: AAA310441010 | C52: 강관 조립말비계(이동식)설치 및 해체 | D52: 높이 2m, 3개월 | E52: 대 | F52: 2 | P52: S | BB52: U
A53: 0201!!!!!!!! | B53: AAD160320000 | C53: 건축물현장정리 | D53: 보통인부 | E53: 인 | F53: 2 | P53: S | BB53: U
B73: 100201!!!!!!!! | C73: < 계 >
C74: 2.2. 본동 - 방수공사
A75: 0207!!!!!!!! | B75: AHF323001000 | C75: 수밀코킹(실리콘) | D75: 삼각, 10mm, 창호주위 | E75: M | F75: 474.84 | P75: S | BB75: U
B96: 100207!!!!!!!! | C96: < 계 >
C97: 2.3. 본동 - 타일공사
A98: 0208!!!!!!!! | B98: 3013170421870402 | C98: 도기질타일 | D98: 일반색, 400*200mm | E98: M2 | F98: 16.91 | P98: S | BB98: M
A99: 0208!!!!!!!! | B99: AMA120301011 | C99: 타일 접착 붙이기 / 줄눈포함 | D99: 벽면, 타일규격(m2), 0.04∼0.10 이하, 타일본드포함 | E99: M2 | F99: 16.42 | P99: S | BB99: U
B119: 100208!!!!!!!! | C119: < 계 >
C120: 2.4. 본동 - 석공사
C121: 인조대리석붙임(건식, 글로톤) | D121: 벽, 400*600*17mm | E121: M2 | F121: 9.27 | P121: S
B142: 100209!!!!!!!! | C142: < 계 >
C143: 2.5. 본동 - 목공사
A144: 0210!!!!!!!! | B144: AIA300115009 | BB144: U
A145: 0210!!!!!!!! | B145: AIA300200005 | BB145: U
A146: 0210!!!!!!!! | B146: AOC114004000 | C146: 벽, 합판붙임 | D146: 내수,9mm | E146: M2 | F146: 61.31 | P146: S | BB146: U
A147: 0210!!!!!!!! | B147: AOC411100009 | BB147: U
A148: 0210!!!!!!!! | B148: AOC114001010 | C148: 벽, MDF붙임 | D148: 9mm + 방염인테리어필름 | E148: M2 | F148: 196.03 | P148: S | BB148: U
A149: 0210!!!!!!!! | B149: AOA532016009 | C149: 문선 몰딩 설치 | D149: MDF, 80*9 | E149: M | F149: 84 | P149: S | BB149: U
B169: 100210!!!!!!!! | C169: < 계 >
C170: 2.6. 본동 - 금속공사
A171: 0211!!!!!!!! | B171: AK1100160099 | C171: 경량 천장 철골틀(내진) | D171: CLIP-BAR, H:1m미만, 인서트 유, 설치도 및 마감판 부착노임 포함 | E171: M2 | F171: 1289.09 | P171: S | BB171: U
A172: 0211!!!!!!!! | B172: AOI200500000 | C172: AL몰딩 설치 | D172: W형, 12*12*12*12*1.0mm | E172: M | F172: 909.87 | P172: S | BB172: U
A173: 0211!!!!!!!! | B173: AGJ001161009 | C173: 걸레받이 비드 설치 | D173: 아연도 | E173: M | F173: 520.46 | P173: S | BB173: U
A174: 0211!!!!!!!! | B174: AK0000000238 | C174: 금속 걸레받이 설치 | D174: SST, 100*1.5t | E174: M | F174: 520.46 | P174: S | BB174: U
A175: 0211!!!!!!!! | B175: AOG130203050 | C175: 스텐레스재료분리대 | D175: 바닥, W30*H50*1.5t | E175: M | F175: 42.87 | P175: S | BB175: U
A176: 0211!!!!!!!! | B176: AOHS10040008 | C176: 천장 철제 마구리 | D176: 450*1.6t, STL(도장 유), 천장틀 포함 | E176: M | F176: 18.84 | P176: S | BB176: U
A177: 0211!!!!!!!! | B177: AOHS10040009 | C177: 천장 철제 마구리 | D177: 250*1.6t, STL(도장 유), 천장틀 포함 | E177: M | F177: 28.02 | P177: S | BB177: U
B192: 100211!!!!!!!! | C192: < 계 >
C193: 2.7. 본동 - 미장공사
A194: 0212!!!!!!!! | B194: ALF400000110 | C194: 창호주위 모르타르 충전 | E194: M | F194: 124 | P194: S | BB194: U
B215: 100212!!!!!!!! | C215: < 계 >
C216: 2.8. 본동 - 창호공사
A217: 0213!!!!!!!! | B217: 3116240320138294 | C217: 도어힌지 | D217: 황동, 베어링2개, 114.3*3.0mm | E217: 개 | F217: 66 | P217: S | BB217: M
A218: 0213!!!!!!!! | B218: 3116240320159992 | C218: 플로어힌지 | D218: KS3호, 105kg, 강화유리문(K-8300) | E218: 조 | F218: 12 | P218: S | BB218: M
A219: 0213!!!!!!!! | B219: 3116280120158965 | C219: 도어핸들 | D219: 9000PB, 레바형 | E219: 조 | F219: 22 | P219: S | BB219: M
A220: 0213!!!!!!!! | B220: ALF131010100 | C220: 도어록 설치 / 일반도어록 목재창호 | D220: 재료비 별도 | E220: 개소 | F220: 22 | P220: S | BB220: U
A221: 0213!!!!!!!! | B221: ALF210000000 | C221: 플로어힌지 설치 | D221: 재료비 별도 | E221: 개소 | F221: 12 | P221: S | BB221: U
A222: 0213!!!!!!!! | B222: ALF401000111 | C222: 창호주위 발포우레탄 충전 | E222: M | F222: 113.42 | P222: S | BB222: U
A223: 0213!!!!!!!! | B223: SLD000002001 | C223: SLD01(본동) | D223: 2600X2700 | E223: EA | F223: 2 | P223: S | BB223: U
A224: 0213!!!!!!!! | B224: ALA313002001 | C224: SSD01(본동) | D224: 1500X2850 | E224: EA | F224: 1 | BB224: U
A225: 0213!!!!!!!! | B225: ALA313002002 | C225: SSD02(본동) | D225: 3000X2850 | E225: EA | F225: 2 | P225: S | BB225: U
A226: 0213!!!!!!!! | B226: ALA313002003 | C226: SSD03(본동) | D226: 6000X2850 | E226: EA | F226: 1 | P226: S | BB226: U
A227: 0213!!!!!!!! | B227: ALA313002004 | C227: SSD04(본동) | D227: 1530X2850 | E227: EA | F227: 1 | P227: S | BB227: U
A228: 0213!!!!!!!! | B228: ALA313002005 | C228: SSD05(본동) | D228: 6000X2650 | E228: EA | F228: 1 | P228: S | BB228: U
A229: 0213!!!!!!!! | B229: ALA313002006 | C229: SSD06(본동) | D229: 3000X2950 | E229: EA | F229: 2 | P229: S | BB229: U
A230: 0213!!!!!!!! | B230: ALA313002007 | C230: SSD07(본동) | D230: 1980X2950 | E230: EA | F230: 1 | P230: S | BB230: U
A231: 0213!!!!!!!! | B231: ALA515002001 | C231: WD01(본동) | D231: 1000X2200 | E231: EA | F231: 18 | P231: S | BB231: U
A232: 0213!!!!!!!! | B232: ALA515002002 | C232: WD02(본동) | D232: 900X2200 | E232: EA | F232: 4 | P232: S | BB232: U
B238: 100213!!!!!!!! | C238: < 계 >
C239: 2.9. 본동 - 유리공사
A240: 0214!!!!!!!! | B240: 5691000000109199 | BB240: M
A241: 0214!!!!!!!! | B241: 5691000000109133 | C241: 스테인리스 세이프강화도어 | D241: 12*900*2100mm, 투명, 고급형, 헤어라인/밀러 | E241: 개 | F241: 8 | P241: S | BB241: M
A242: 0214!!!!!!!! | B242: 5691000000109138 | C242: 스테인리스 세이프강화도어 | D242: 12*1000*2100mm, 투명, 고급형, 헤어라인/밀러 | E242: 개 | F242: 4 | P242: S | BB242: M
A243: 0214!!!!!!!! | B243: 3017170620144985 | C243: 강화유리 | D243: 투명, 10mm | E243: M2 | F243: 55.61 | P243: S | BB243: M
A244: 0214!!!!!!!! | B244: 3017170620144986 | C244: 강화유리 | D244: 투명, 12mm | E244: M2 | F244: 5.46 | P244: S | BB244: M
A245: 0214!!!!!!!! | B245: 3116280120158969 | C245: 강화유리도아손잡이 | D245: 고급형 | E245: 조 | F245: 12 | P245: S | BB245: M
A246: 0214!!!!!!!! | B246: 5601000000000215 | C246: 강화유리문-세이프 | D246: 시공비 | E246: 개소 | F246: 12 | P246: S | BB246: L
A247: 0214!!!!!!!! | B247: AHF211305000 | C247: 유리주위 코킹 | D247: 5*5, 실리콘 | E247: M | F247: 461.88 | P247: S | BB247: U
A248: 0214!!!!!!!! | B248: ALG100000040 | C248: 창호유리설치 / 판유리 | D248: 유리두께 12mm 이하 | E248: M2 | F248: 60.45 | P248: S | BB248: U
B261: 100214!!!!!!!! | C261: < 계 >
C262: 2.10. 본동 - 도장공사
A263: 0215!!!!!!!! | B263: ANB316102000 | C263: 걸레받이용 페인트칠 | D263: 붓칠, 2회 | E263: M2 | F263: 23.89 | P263: S | BB263: U
A264: 0215!!!!!!!! | B264: ANC133621001 | C264: 바탕만들기+수성페인트 롤러칠 | D264: 내부 2회, conc, mortar면, 친환경 | E264: M2 | F264: 268.66 | P264: S | BB264: U
A265: 0215!!!!!!!! | B265: ANC133625001 | C265: 바탕만들기+수성페인트 롤러칠 | D265: 내부 2회, G.B.면 줄퍼티, 친환경 | E265: M2 | F265: 1830.62 | P265: S | BB265: U
...
